BEGIN:VCALENDAR
VERSION:2.0
PRODID:-//CCI Pau Béarn - ECPv6.15.18//NONSGML v1.0//EN
CALSCALE:GREGORIAN
METHOD:PUBLISH
X-WR-CALNAME:CCI Pau Béarn
X-ORIGINAL-URL:https://pau.cci.fr
X-WR-CALDESC:Évènements pour CCI Pau Béarn
REFRESH-INTERVAL;VALUE=DURATION:PT1H
X-Robots-Tag:noindex
X-PUBLISHED-TTL:PT1H
BEGIN:VTIMEZONE
TZID:Europe/Paris
BEGIN:DAYLIGHT
TZOFFSETFROM:+0100
TZOFFSETTO:+0200
TZNAME:CEST
DTSTART:20240331T010000
END:DAYLIGHT
BEGIN:STANDARD
TZOFFSETFROM:+0200
TZOFFSETTO:+0100
TZNAME:CET
DTSTART:20241027T010000
END:STANDARD
BEGIN:DAYLIGHT
TZOFFSETFROM:+0100
TZOFFSETTO:+0200
TZNAME:CEST
DTSTART:20250330T010000
END:DAYLIGHT
BEGIN:STANDARD
TZOFFSETFROM:+0200
TZOFFSETTO:+0100
TZNAME:CET
DTSTART:20251026T010000
END:STANDARD
BEGIN:DAYLIGHT
TZOFFSETFROM:+0100
TZOFFSETTO:+0200
TZNAME:CEST
DTSTART:20260329T010000
END:DAYLIGHT
BEGIN:STANDARD
TZOFFSETFROM:+0200
TZOFFSETTO:+0100
TZNAME:CET
DTSTART:20261025T010000
END:STANDARD
END:VTIMEZONE
BEGIN:VEVENT
DTSTART;TZID=Europe/Paris:20250407T083000
DTEND;TZID=Europe/Paris:20250411T170000
DTSTAMP:20260423T072403
CREATED:20250218T093839Z
LAST-MODIFIED:20250407T133631Z
UID:7835-1744014600-1744390800@pau.cci.fr
SUMMARY:Formation 5 jours pour entreprendre - avril 2025
DESCRIPTION:Les 5 Jours pour Entreprendre\, une formation complète et concrète sur 5 jours\, alliant théorie\, cas pratiques\, et mises en situation.\nAvec la formation 5 Jours pour Entreprendre\, vous apprendrez à bâtir un business model solide\, comprendre les aspects juridiques\, maîtriser les marges et affiner votre communication. Aux côtés d’autres porteurs de projets\, vous développerez les compétences essentielles d’un chef d’entreprise. \n\n\n\n\nTéléchargez le programme complet \n\nEn fonction de votre situation\, une prise en charge financière est possible.\nAvant de réaliser votre inscription\, vérifiez votre compte personnel de formation et contactez la CCI Pau Béarn à l’adresse entreprendre@pau.cci.fr pour toute question. \n\nAvec la formation « 5 jours pour entreprendre – 5JPE : Identifier les points-clés d’une création d’entreprise réussie »\, maîtrisez tous les leviers de la création d’entreprise !
URL:https://pau.cci.fr/evenement/formation-5jpe-2504/
LOCATION:éklore-ed Sport Business\, 7JQQ+JQ Bizanos\, Bizanos\, 64320\, France
CATEGORIES:5JPE
ATTACH;FMTTYPE=image/jpeg:https://pau.cci.fr/wp-content/uploads/2025/02/BAN_CCI-07.jpg
END:VEVENT
BEGIN:VEVENT
DTSTART;TZID=Europe/Paris:20250409T090000
DTEND;TZID=Europe/Paris:20250410T123000
DTSTAMP:20260423T072403
CREATED:20250303T144553Z
LAST-MODIFIED:20250403T134335Z
UID:9077-1744189200-1744288200@pau.cci.fr
SUMMARY:Atelier - Comptes prévisionnels\, business plan\, fiscalité\, aides & financements - 09/04/25
DESCRIPTION:Concrétisez votre projet d’entreprise grâce aux Ateliers Pour Entreprendre.\nQue vous soyez créateur ou repreneur\, apprenez à gérer la fiscalité de votre entreprise.\nProgramme :\n– compte de résultat\, prévisionnel et soldes intermédiaires de gestion\, seuil de rentabilité\n– plan de financement initial et les aides\n– plan de trésorerie – tableaux de bord\n– business plan
URL:https://pau.cci.fr/evenement/previsionnel/
LOCATION:éklore-ed Sport Business\, 7JQQ+JQ Bizanos\, Bizanos\, 64320\, France
CATEGORIES:APE
ATTACH;FMTTYPE=image/jpeg:https://pau.cci.fr/wp-content/uploads/2025/02/icon_CCI_PAU__Ateliers-pour-Entreprendre-07-scaled.jpg
END:VEVENT
BEGIN:VEVENT
DTSTART;TZID=Europe/Paris:20250410T090000
DTEND;TZID=Europe/Paris:20250410T090000
DTSTAMP:20260423T072403
CREATED:20250305T161218Z
LAST-MODIFIED:20250623T142050Z
UID:9703-1744275600-1744275600@pau.cci.fr
SUMMARY:Réunion d’information Création-Reprise\, Pau/Bizanos - 10 avril 2025
DESCRIPTION:Les Jeudis de la Création\, une réunion d’information à la création reprise d’entreprise pour découvrir : \n\nla méthodologie pour passer de l’idée au projet\,\nles étapes de la création/reprise d’entreprise\,\nles outils nécessaires pour construire le projet.\n\n\n\n\n\nSuite à votre participation\, vous pourrez bénéficier d’un entretien individuel avec l’un de nos conseillers et mettre en place un accompagnement personnalisé.
URL:https://pau.cci.fr/evenement/information-creation-reprise-bizanos-250410/
LOCATION:éklore-ed Sport Business\, 7JQQ+JQ Bizanos\, Bizanos\, 64320\, France
CATEGORIES:RCE
ATTACH;FMTTYPE=image/jpeg:https://pau.cci.fr/wp-content/uploads/2025/02/icon_cci_Information-creation-reprise-dentreprise-16.jpg
END:VEVENT
END:VCALENDAR