BEGIN:VCALENDAR
VERSION:2.0
PRODID:-//CCI Pau Béarn - ECPv6.15.18//NONSGML v1.0//EN
CALSCALE:GREGORIAN
METHOD:PUBLISH
X-ORIGINAL-URL:https://pau.cci.fr
X-WR-CALDESC:Évènements pour CCI Pau Béarn
REFRESH-INTERVAL;VALUE=DURATION:PT1H
X-Robots-Tag:noindex
X-PUBLISHED-TTL:PT1H
BEGIN:VTIMEZONE
TZID:Europe/Paris
BEGIN:DAYLIGHT
TZOFFSETFROM:+0100
TZOFFSETTO:+0200
TZNAME:CEST
DTSTART:20240331T010000
END:DAYLIGHT
BEGIN:STANDARD
TZOFFSETFROM:+0200
TZOFFSETTO:+0100
TZNAME:CET
DTSTART:20241027T010000
END:STANDARD
BEGIN:DAYLIGHT
TZOFFSETFROM:+0100
TZOFFSETTO:+0200
TZNAME:CEST
DTSTART:20250330T010000
END:DAYLIGHT
BEGIN:STANDARD
TZOFFSETFROM:+0200
TZOFFSETTO:+0100
TZNAME:CET
DTSTART:20251026T010000
END:STANDARD
BEGIN:DAYLIGHT
TZOFFSETFROM:+0100
TZOFFSETTO:+0200
TZNAME:CEST
DTSTART:20260329T010000
END:DAYLIGHT
BEGIN:STANDARD
TZOFFSETFROM:+0200
TZOFFSETTO:+0100
TZNAME:CET
DTSTART:20261025T010000
END:STANDARD
END:VTIMEZONE
BEGIN:VEVENT
DTSTART;TZID=Europe/Paris:20250519T083000
DTEND;TZID=Europe/Paris:20250523T170000
DTSTAMP:20260423T053513
CREATED:20250218T094040Z
LAST-MODIFIED:20250521T081736Z
UID:7837-1747643400-1748019600@pau.cci.fr
SUMMARY:Formation 5 jours pour entreprendre - mai 2025
DESCRIPTION:Les 5 Jours pour Entreprendre\, une formation complète et concrète sur 5 jours\, alliant théorie\, cas pratiques\, et mises en situation.\nAvec la formation 5 Jours pour Entreprendre\, vous apprendrez à bâtir un business model solide\, comprendre les aspects juridiques\, maîtriser les marges et affiner votre communication. Aux côtés d’autres porteurs de projets\, vous développerez les compétences essentielles d’un chef d’entreprise. \n\n\n\n\nTéléchargez le programme complet \n\nEn fonction de votre situation\, une prise en charge financière est possible.\nAvant de réaliser votre inscription\, vérifiez votre Compte Personnel de Formation et contactez la CCI Pau Béarn à l’adresse entreprendre@pau.cci.fr pour toute question. \n\nAvec la formation « 5 jours pour entreprendre – 5JPE : Identifier les points-clés d’une création d’entreprise réussie »\, maîtrisez tous les leviers de la création d’entreprise !
URL:https://pau.cci.fr/evenement/formation-5jpe-2505/
LOCATION:éklore-ed Sport Business\, 7JQQ+JQ Bizanos\, Bizanos\, 64320\, France
CATEGORIES:5JPE
ATTACH;FMTTYPE=image/jpeg:https://pau.cci.fr/wp-content/uploads/2025/02/BAN_CCI-07.jpg
END:VEVENT
BEGIN:VEVENT
DTSTART;TZID=Europe/Paris:20250523T084500
DTEND;TZID=Europe/Paris:20250523T103000
DTSTAMP:20260423T053513
CREATED:20250507T073003Z
LAST-MODIFIED:20250507T074014Z
UID:12948-1747989900-1747996200@pau.cci.fr
SUMMARY:Club de la mobilité
DESCRIPTION:Pau Béarn Pyrénées Mobilités et la CCI Pau Béarn vous invitent au prochain Club de la Mobilité\nvendredi 23 mai 2025\nde 8h45 à 10h30\nau Parc des Expositions de Pau. \nAu programme de cette rencontre :\n> Le Challenge de la Mobilité\, l’événement qui met au défi chefs d’entreprise et salariés en leur demandant d’adopter des modes de transport plus durables\n> La nouvelle offre de vélos à assistance électrique en libre-service – Avec essai du vélo !\n> Des échanges avec des offreurs de solution – A l’occasion du Pau Vélo Fest’\, le rendez-vous vélo de Pau\, bénéficiez de la présence de spécialistes ! \n  \nLien d’inscription
URL:https://pau.cci.fr/evenement/club-de-la-mobilite/
ATTACH;FMTTYPE=image/jpeg:https://pau.cci.fr/wp-content/uploads/2025/05/Banniere-agenda.jpg
END:VEVENT
BEGIN:VEVENT
DTSTART;TZID=Europe/Paris:20250523T110000
DTEND;TZID=Europe/Paris:20250523T123000
DTSTAMP:20260423T053513
CREATED:20250312T133723Z
LAST-MODIFIED:20250312T142522Z
UID:10066-1747998000-1748003400@pau.cci.fr
SUMMARY:Permanence expert-comptable - Pau/Bizanos
DESCRIPTION:La CCI Pau Béarn et l’ordre des experts comptables proposent des permanences d’expert-comptable aux entreprises ressortissantes de la CCI Pau Béarn\, déjà enregistrées ou en cours de création.\n\n\nPour demander un RDV\, contactez-nous\n\n\n\n\nNous contacter\n\n\n\n\nCes rendez-vous traiteront des problématiques relatives à l’entreprise (baux commerciaux\, statut juridique…).
URL:https://pau.cci.fr/evenement/permanence-expertcomptable-250523/
LOCATION:éklore-ed Sport Business\, 7JQQ+JQ Bizanos\, Bizanos\, 64320\, France
CATEGORIES:PERM
ATTACH;FMTTYPE=image/png:https://pau.cci.fr/wp-content/uploads/2025/03/Permanence-expert-comptable.png
END:VEVENT
END:VCALENDAR