BEGIN:VCALENDAR
VERSION:2.0
PRODID:-//CCI Pau Béarn - ECPv6.15.18//NONSGML v1.0//EN
CALSCALE:GREGORIAN
METHOD:PUBLISH
X-ORIGINAL-URL:https://pau.cci.fr
X-WR-CALDESC:Évènements pour CCI Pau Béarn
REFRESH-INTERVAL;VALUE=DURATION:PT1H
X-Robots-Tag:noindex
X-PUBLISHED-TTL:PT1H
BEGIN:VTIMEZONE
TZID:Europe/Paris
BEGIN:DAYLIGHT
TZOFFSETFROM:+0100
TZOFFSETTO:+0200
TZNAME:CEST
DTSTART:20240331T010000
END:DAYLIGHT
BEGIN:STANDARD
TZOFFSETFROM:+0200
TZOFFSETTO:+0100
TZNAME:CET
DTSTART:20241027T010000
END:STANDARD
BEGIN:DAYLIGHT
TZOFFSETFROM:+0100
TZOFFSETTO:+0200
TZNAME:CEST
DTSTART:20250330T010000
END:DAYLIGHT
BEGIN:STANDARD
TZOFFSETFROM:+0200
TZOFFSETTO:+0100
TZNAME:CET
DTSTART:20251026T010000
END:STANDARD
BEGIN:DAYLIGHT
TZOFFSETFROM:+0100
TZOFFSETTO:+0200
TZNAME:CEST
DTSTART:20260329T010000
END:DAYLIGHT
BEGIN:STANDARD
TZOFFSETFROM:+0200
TZOFFSETTO:+0100
TZNAME:CET
DTSTART:20261025T010000
END:STANDARD
END:VTIMEZONE
BEGIN:VEVENT
DTSTART;TZID=Europe/Paris:20250602T083000
DTEND;TZID=Europe/Paris:20251211T170000
DTSTAMP:20260423T021857
CREATED:20250318T103226Z
LAST-MODIFIED:20250808T100430Z
UID:10901-1748853000-1765472400@pau.cci.fr
SUMMARY:Piloter et mettre en œuvre votre projet RSE
DESCRIPTION:Intégrez la formation-action « Piloter et mettre en oeuvre votre projet RSE » et réalisez un plan d’actions adapté à la maturité RSE et à la stratégie de votre structure !\nUn parcours en quatre phases\n1 | Découvrir la RSE dans sa structure – Comment évaluer sa maturité ?\n2 demi-journées en intra entreprise : entre le 04/08 et le 19/09/2025\, sur RDV \n2 | Mettre en œuvre et piloter son projet RSE\n3 jours en inter-entreprises : Jeudi 25/09/2025\, 9h-17h30 ; Jeudi 16/10/2025\, 9h-17h30 ; Jeudi 20/11/2025\, 9h-17h30 \n3 | Cas pratique : mettre en œuvre son plan d’actions RSE\n½ journée en intra-entreprise : entre le 24/11/2025 et le 16/01/2026\, sur RDV \n4 | Avancement à M+4 – Mobilisation sur la durée\n½ journée en inter-entreprises : Jeudi 29/01/2026\, 14h-17h30 \nAvantages\n\nBénéficier de la richesse d’un collectif uni autour d’une même volonté de rendre son entreprise durable\nÊtre accompagné pour construire sa feuille de route RSE\nAvoir un interlocuteur unique tout au long de la mise en place du plan d’actions\nUne méthodologie AFNOR reconnue\n\nCoût\nUn cursus à 1 575€ par stagiaire \nDurée\n5 jours (35h) entre le 02/06/25 et le 11/12/25 \n\nEn savoir+\n\n\nNous contacter
URL:https://pau.cci.fr/evenement/formation-rse/
ATTACH;FMTTYPE=image/jpeg:https://pau.cci.fr/wp-content/uploads/2025/03/rse-formation.jpg
END:VEVENT
BEGIN:VEVENT
DTSTART;TZID=Europe/Paris:20250630T083000
DTEND;TZID=Europe/Paris:20250704T170000
DTSTAMP:20260423T021857
CREATED:20250218T094510Z
LAST-MODIFIED:20250521T081605Z
UID:7839-1751272200-1751648400@pau.cci.fr
SUMMARY:Formation 5 jours pour entreprendre - juin 2025
DESCRIPTION:Les 5 Jours pour Entreprendre\, une formation complète et concrète sur 5 jours\, alliant théorie\, cas pratiques\, et mises en situation.\nAvec la formation 5 Jours pour Entreprendre\, vous apprendrez à bâtir un business model solide\, comprendre les aspects juridiques\, maîtriser les marges et affiner votre communication. Aux côtés d’autres porteurs de projets\, vous développerez les compétences essentielles d’un chef d’entreprise. \n\n\n\n\nTéléchargez le programme complet \n\nEn fonction de votre situation\, une prise en charge financière est possible.\nAvant de réaliser votre inscription\, vérifiez votre Compte Personnel de Formation et contactez la CCI Pau Béarn à l’adresse entreprendre@pau.cci.fr pour toute question. \n\nAvec la formation « 5 jours pour entreprendre – 5JPE : Identifier les points-clés d’une création d’entreprise réussie »\, maîtrisez tous les leviers de la création d’entreprise !
URL:https://pau.cci.fr/evenement/formation-5jpe-2506/
LOCATION:éklore-ed Sport Business\, 7JQQ+JQ Bizanos\, Bizanos\, 64320\, France
CATEGORIES:5JPE
ATTACH;FMTTYPE=image/jpeg:https://pau.cci.fr/wp-content/uploads/2025/02/BAN_CCI-07.jpg
END:VEVENT
BEGIN:VEVENT
DTSTART;TZID=Europe/Paris:20250701T090000
DTEND;TZID=Europe/Paris:20250701T090000
DTSTAMP:20260423T021857
CREATED:20250619T123733Z
LAST-MODIFIED:20250619T123900Z
UID:14801-1751360400-1751360400@pau.cci.fr
SUMMARY:Réunion d’information Création-Reprise\, Oloron Sainte-Marie - 1 juillet 2025
DESCRIPTION:Une réunion d’information à la création reprise d’entreprise réalisée en partenariat avec la Chambre de Métiers et d’Artisanat 64 pour découvrir : \n\nla méthodologie pour passer de l’idée au projet\,\nles étapes de la création/reprise d’entreprise\,\nles outils nécessaires pour construire le projet.\n\n\n\n\n\nSuite à votre participation\, vous pourrez bénéficier d’un entretien individuel avec l’un de nos conseillers et mettre en place un accompagnement personnalisé.
URL:https://pau.cci.fr/evenement/reunion-dinformation-creation-reprise-oloron-sainte-marie-01-juillet-2025/
LOCATION:Pépinière d’entreprise\, ZA Lanneretonne\, 13 chemin Ilhasse\, Oloron Sainte-Marie\, 64400\, France
CATEGORIES:RCE
ATTACH;FMTTYPE=image/jpeg:https://pau.cci.fr/wp-content/uploads/2024/12/icon_cci_Information-creation-reprise-dentreprise-15.jpg
END:VEVENT
BEGIN:VEVENT
DTSTART;TZID=Europe/Paris:20250701T090000
DTEND;TZID=Europe/Paris:20250701T173000
DTSTAMP:20260423T021857
CREATED:20250305T155010Z
LAST-MODIFIED:20250630T141523Z
UID:9549-1751360400-1751391000@pau.cci.fr
SUMMARY:Atelier - Statuts juridique et social - 01/07/25
DESCRIPTION:Concrétisez votre projet d’entreprise grâce aux Ateliers Pour Entreprendre.\nQue vous soyez créateur ou repreneur\, optez pour la forme juridique la plus adaptée à votre future entreprise.\nProgramme :\n– les statuts juridiques\, les formalités pour s’installer\n– les statuts sociaux et cotisations obligatoires\n– les locaux commerciaux
URL:https://pau.cci.fr/evenement/statuts-250701/
LOCATION:éklore-ed Sport Business\, 7JQQ+JQ Bizanos\, Bizanos\, 64320\, France
CATEGORIES:APE
ATTACH;FMTTYPE=image/jpeg:https://pau.cci.fr/wp-content/uploads/2025/02/icon_CCI_PAU__Ateliers-pour-Entreprendre-07-scaled.jpg
END:VEVENT
END:VCALENDAR