BEGIN:VCALENDAR
VERSION:2.0
PRODID:-//CCI Pau Béarn - ECPv6.15.18//NONSGML v1.0//EN
CALSCALE:GREGORIAN
METHOD:PUBLISH
X-WR-CALNAME:CCI Pau Béarn
X-ORIGINAL-URL:https://pau.cci.fr
X-WR-CALDESC:Évènements pour CCI Pau Béarn
REFRESH-INTERVAL;VALUE=DURATION:PT1H
X-Robots-Tag:noindex
X-PUBLISHED-TTL:PT1H
BEGIN:VTIMEZONE
TZID:Europe/Paris
BEGIN:DAYLIGHT
TZOFFSETFROM:+0100
TZOFFSETTO:+0200
TZNAME:CEST
DTSTART:20250330T010000
END:DAYLIGHT
BEGIN:STANDARD
TZOFFSETFROM:+0200
TZOFFSETTO:+0100
TZNAME:CET
DTSTART:20251026T010000
END:STANDARD
BEGIN:DAYLIGHT
TZOFFSETFROM:+0100
TZOFFSETTO:+0200
TZNAME:CEST
DTSTART:20260329T010000
END:DAYLIGHT
BEGIN:STANDARD
TZOFFSETFROM:+0200
TZOFFSETTO:+0100
TZNAME:CET
DTSTART:20261025T010000
END:STANDARD
BEGIN:DAYLIGHT
TZOFFSETFROM:+0100
TZOFFSETTO:+0200
TZNAME:CEST
DTSTART:20270328T010000
END:DAYLIGHT
BEGIN:STANDARD
TZOFFSETFROM:+0200
TZOFFSETTO:+0100
TZNAME:CET
DTSTART:20271031T010000
END:STANDARD
END:VTIMEZONE
BEGIN:VEVENT
DTSTART;TZID=Europe/Paris:20260202T100000
DTEND;TZID=Europe/Paris:20260202T121500
DTSTAMP:20260420T144444
CREATED:20251204T135424Z
LAST-MODIFIED:20251204T135424Z
UID:23268-1770026400-1770034500@pau.cci.fr
SUMMARY:Permanence juridique - Pau
DESCRIPTION:La CCI Pau Béarn et l’ordre des avocats du barreau de Pau proposent des permanences d’avocats aux entreprises ressortissantes de la CCI Pau Béarn\, déjà enregistrées ou en cours de création. \n\n\nPour demander un RDV\, contactez-nous\n\n\n\n\nNous contacter\n\n\n\n\nCes rendez-vous traiteront des problématiques relatives à l’entreprise (baux commerciaux\, statut juridique…).
URL:https://pau.cci.fr/evenement/permanence-juridique-pau-260202/
LOCATION:CCI Pau Béarn\, 21 rue Louis Barthou\, PAU\, 64001\, France
CATEGORIES:PERM
ATTACH;FMTTYPE=image/png:https://pau.cci.fr/wp-content/uploads/2025/03/Permanence-juridique.png
END:VEVENT
BEGIN:VEVENT
DTSTART;TZID=Europe/Paris:20260202T180000
DTEND;TZID=Europe/Paris:20260202T193000
DTSTAMP:20260420T144444
CREATED:20260115T160054Z
LAST-MODIFIED:20260129T085343Z
UID:25167-1770055200-1770060600@pau.cci.fr
SUMMARY:Google // Intelligence Artificielle - A quoi s'attendre en 2026 ?
DESCRIPTION:Alors que l’Intelligence Artificielle est de plus en plus présente dans nos recherches d’information et dans notre façon d’aborder le web\, est-il encore nécessaire pour vos entreprises d’être présentes sur les moteurs de recherche classique\, notamment Google ? Quelle attitude adopter ?\nLa CCI Pau Béarn vous propose une conférence animée par Neil McCarthy\, consultant spécialisé dans le search engine marketing le lundi 2 février 2026\, à 18h\, à la CCI.\nNeil McCarthy vous livrera ses prédictions 2026\, et vous aidera à comprendre pourquoi et comment être raccord avec Google\, et indirectement avec les IA. \nCOMPLET\n> Une question ? Contactez le conseiller numérique à l’aide de ce formulaire.\nAu programme :\n• Pourquoi faut-il\, toujours\, être visible sur Google• Les changements Google 2025 que vous auriez pu louper• Comment soigner votre référencement pour Google… et pour l’IA• Google et vous en 2026 \n➔ CCI Pau Béarn – auditorium21 rue Louis Barthou\, 64000 Pau➔ 18h-19h30 \n➔ en collaboration avec la French Tech Pau Béarn
URL:https://pau.cci.fr/evenement/google-ia-2026/
LOCATION:CCI Pau Béarn\, 21 rue Louis Barthou\, PAU\, 64001\, France
ATTACH;FMTTYPE=image/jpeg:https://pau.cci.fr/wp-content/uploads/2026/01/Google-IA_2026_agenda.jpg
END:VEVENT
END:VCALENDAR