BEGIN:VCALENDAR
VERSION:2.0
PRODID:-//CCI Pau Béarn - ECPv6.15.18//NONSGML v1.0//EN
CALSCALE:GREGORIAN
METHOD:PUBLISH
X-ORIGINAL-URL:https://pau.cci.fr
X-WR-CALDESC:Évènements pour CCI Pau Béarn
REFRESH-INTERVAL;VALUE=DURATION:PT1H
X-Robots-Tag:noindex
X-PUBLISHED-TTL:PT1H
BEGIN:VTIMEZONE
TZID:Europe/Paris
BEGIN:DAYLIGHT
TZOFFSETFROM:+0100
TZOFFSETTO:+0200
TZNAME:CEST
DTSTART:20250330T010000
END:DAYLIGHT
BEGIN:STANDARD
TZOFFSETFROM:+0200
TZOFFSETTO:+0100
TZNAME:CET
DTSTART:20251026T010000
END:STANDARD
BEGIN:DAYLIGHT
TZOFFSETFROM:+0100
TZOFFSETTO:+0200
TZNAME:CEST
DTSTART:20260329T010000
END:DAYLIGHT
BEGIN:STANDARD
TZOFFSETFROM:+0200
TZOFFSETTO:+0100
TZNAME:CET
DTSTART:20261025T010000
END:STANDARD
BEGIN:DAYLIGHT
TZOFFSETFROM:+0100
TZOFFSETTO:+0200
TZNAME:CEST
DTSTART:20270328T010000
END:DAYLIGHT
BEGIN:STANDARD
TZOFFSETFROM:+0200
TZOFFSETTO:+0100
TZNAME:CET
DTSTART:20271031T010000
END:STANDARD
END:VTIMEZONE
BEGIN:VEVENT
DTSTART;TZID=Europe/Paris:20260210T173000
DTEND;TZID=Europe/Paris:20260210T193000
DTSTAMP:20260422T105337
CREATED:20260121T092656Z
LAST-MODIFIED:20260209T161639Z
UID:25618-1770744600-1770751800@pau.cci.fr
SUMMARY:Point de conjoncture en Nouvelle-Aquitaine et Béarn
DESCRIPTION:Didier LAPORTE\, président de la Chambre de Commerce et d’Industrie Pau Béarn\, et Sylvain CARRERE-GEE\, directeur départemental de la Banque de France\, ont le plaisir de vous inviter à la conférence « Les perspectives de l’économie en Nouvelle-Aquitaine et dans le Béarn ».\nAu programme :\n• Présentation des enquêtes biannuelles\n• Questions/Réponses\n• Témoignages chefs d’entreprise \n➔ La conférence sera diffusée en direct en webinaire.\nSi vous choisissez l’option « webinaire » lors de l’inscription\, le lien de connexion vous sera transmis la veille de la conférence. \n  \n 
URL:https://pau.cci.fr/evenement/conjoncture-bearn-260210/
LOCATION:éklore-ed School of Management\, 3 rue Saint-John Perse\, Pau\, 64000\, France
ATTACH;FMTTYPE=image/png:https://pau.cci.fr/wp-content/uploads/2026/01/Pointdeconjoncture_agenda.png
END:VEVENT
END:VCALENDAR