BEGIN:VCALENDAR
VERSION:2.0
PRODID:-//CCI Pau Béarn - ECPv6.15.18//NONSGML v1.0//EN
CALSCALE:GREGORIAN
METHOD:PUBLISH
X-ORIGINAL-URL:https://pau.cci.fr
X-WR-CALDESC:Évènements pour CCI Pau Béarn
REFRESH-INTERVAL;VALUE=DURATION:PT1H
X-Robots-Tag:noindex
X-PUBLISHED-TTL:PT1H
BEGIN:VTIMEZONE
TZID:Europe/Paris
BEGIN:DAYLIGHT
TZOFFSETFROM:+0100
TZOFFSETTO:+0200
TZNAME:CEST
DTSTART:20250330T010000
END:DAYLIGHT
BEGIN:STANDARD
TZOFFSETFROM:+0200
TZOFFSETTO:+0100
TZNAME:CET
DTSTART:20251026T010000
END:STANDARD
BEGIN:DAYLIGHT
TZOFFSETFROM:+0100
TZOFFSETTO:+0200
TZNAME:CEST
DTSTART:20260329T010000
END:DAYLIGHT
BEGIN:STANDARD
TZOFFSETFROM:+0200
TZOFFSETTO:+0100
TZNAME:CET
DTSTART:20261025T010000
END:STANDARD
BEGIN:DAYLIGHT
TZOFFSETFROM:+0100
TZOFFSETTO:+0200
TZNAME:CEST
DTSTART:20270328T010000
END:DAYLIGHT
BEGIN:STANDARD
TZOFFSETFROM:+0200
TZOFFSETTO:+0100
TZNAME:CET
DTSTART:20271031T010000
END:STANDARD
END:VTIMEZONE
BEGIN:VEVENT
DTSTART;TZID=Europe/Paris:20260302T090000
DTEND;TZID=Europe/Paris:20261001T173000
DTSTAMP:20260420T091431
CREATED:20251209T102712Z
LAST-MODIFIED:20251209T104758Z
UID:23487-1772442000-1790875800@pau.cci.fr
SUMMARY:Formation RSE : Devenez pilote de votre démarche !
DESCRIPTION:Intégrez la formation-action « RSE : Devenez pilote de votre démarche » et réalisez un plan d’actions adapté à la maturité RSE et à la stratégie de votre structure !\nUn parcours en quatre phases\n1 | Découvrir la RSE dans sa structure\n2 demi-journées en intra entreprise : entre le 02/03 et le 03/04/2026\, sur RDV \n2 | Mettre en œuvre et piloter son projet RSE\n3 jours en inter-entreprises : Jeudi 23/04/2026\, 9h-17h30 ; Jeudi 21/05/2026\, 9h-17h30 ; Jeudi 18/06/2025\, 9h-17h30 \n3 | Cas pratique : mettre en œuvre son plan d’actions RSE\n½ journée en intra-entreprise : entre le 29/06/2026 et le 18/09/2026\, sur RDV \n4 | Avancement à M+4 – Mobilisation sur la durée\n½ journée en inter-entreprises : Jeudi 01/10/2026\, 14h-17h30 \nAvantages\n\nBénéficier de la richesse d’un collectif uni autour d’une même volonté de rendre son entreprise durable\nÊtre accompagné pour construire sa feuille de route RSE\nAvoir un interlocuteur unique tout au long de la mise en place du plan d’actions\n\nCoût\nUn cursus à 1 890€ HT par stagiaire \nDurée\n5 jours (35h) entre le 02/03/26 et le 01/10/26 \n\nPlus d’infos\n\nContactez-nous
URL:https://pau.cci.fr/evenement/formation-rse-2026/
ATTACH;FMTTYPE=image/jpeg:https://pau.cci.fr/wp-content/uploads/2025/12/RSE-agenda.jpg
END:VEVENT
BEGIN:VEVENT
DTSTART;TZID=Europe/Paris:20260326T090000
DTEND;TZID=Europe/Paris:20260326T110000
DTSTAMP:20260420T091431
CREATED:20251128T101026Z
LAST-MODIFIED:20260202T134535Z
UID:22676-1774515600-1774522800@pau.cci.fr
SUMMARY:Réunion d’information Création-Reprise d'entreprise\, visio\, 26 mars 2026
DESCRIPTION:Les Jeudis de la Création\, une réunion d’information à la création reprise d’entreprise pour découvrir : \n\nla méthodologie pour passer de l’idée au projet\,\nles étapes de la création/reprise d’entreprise\,\nles outils nécessaires pour construire le projet.\n\n\n\n\n\nSuite à votre participation\, vous pourrez bénéficier d’un entretien individuel avec l’un de nos conseillers et mettre en place un accompagnement personnalisé. \n 
URL:https://pau.cci.fr/evenement/reunion-creation-dentreprise-visio-260326/
LOCATION:visioconférence
CATEGORIES:RCE
ATTACH;FMTTYPE=image/jpeg:https://pau.cci.fr/wp-content/uploads/2025/02/icon_cci_Information-creation-reprise-dentreprise-16.jpg
END:VEVENT
BEGIN:VEVENT
DTSTART;TZID=Europe/Paris:20260326T090000
DTEND;TZID=Europe/Paris:20260326T150000
DTSTAMP:20260420T091431
CREATED:20250312T134924Z
LAST-MODIFIED:20251204T144450Z
UID:10070-1774515600-1774537200@pau.cci.fr
SUMMARY:Permanence propriété industrielle : INPI
DESCRIPTION:La CCI Pau Béarn\, l’Institut National de la Propriété Industrielle (INPI) et la Compagnie Nationale des Conseils en Propriété Industrielle (CNCPI) proposent aux entreprises ressortissantes de la CCI et aux créateurs d’entreprise des permanences-conseils sur les questions relatives à la propriété industrielle et intellectuelle : brevet\, marque\, logo…\nLe rendez-vous se déroulera à distance (téléphone ou visio).\n\n\nNous contacter
URL:https://pau.cci.fr/evenement/permanence-inpi-260326/
CATEGORIES:PERM
ATTACH;FMTTYPE=image/png:https://pau.cci.fr/wp-content/uploads/2025/03/Permanence-propriete.png
END:VEVENT
END:VCALENDAR