BEGIN:VCALENDAR
VERSION:2.0
PRODID:-//CCI Pau Béarn - ECPv6.15.18//NONSGML v1.0//EN
CALSCALE:GREGORIAN
METHOD:PUBLISH
X-ORIGINAL-URL:https://pau.cci.fr
X-WR-CALDESC:Évènements pour CCI Pau Béarn
REFRESH-INTERVAL;VALUE=DURATION:PT1H
X-Robots-Tag:noindex
X-PUBLISHED-TTL:PT1H
BEGIN:VTIMEZONE
TZID:Europe/Paris
BEGIN:DAYLIGHT
TZOFFSETFROM:+0100
TZOFFSETTO:+0200
TZNAME:CEST
DTSTART:20250330T010000
END:DAYLIGHT
BEGIN:STANDARD
TZOFFSETFROM:+0200
TZOFFSETTO:+0100
TZNAME:CET
DTSTART:20251026T010000
END:STANDARD
BEGIN:DAYLIGHT
TZOFFSETFROM:+0100
TZOFFSETTO:+0200
TZNAME:CEST
DTSTART:20260329T010000
END:DAYLIGHT
BEGIN:STANDARD
TZOFFSETFROM:+0200
TZOFFSETTO:+0100
TZNAME:CET
DTSTART:20261025T010000
END:STANDARD
BEGIN:DAYLIGHT
TZOFFSETFROM:+0100
TZOFFSETTO:+0200
TZNAME:CEST
DTSTART:20270328T010000
END:DAYLIGHT
BEGIN:STANDARD
TZOFFSETFROM:+0200
TZOFFSETTO:+0100
TZNAME:CET
DTSTART:20271031T010000
END:STANDARD
END:VTIMEZONE
BEGIN:VEVENT
DTSTART;TZID=Europe/Paris:20260302T090000
DTEND;TZID=Europe/Paris:20261001T173000
DTSTAMP:20260420T061437
CREATED:20251209T102712Z
LAST-MODIFIED:20251209T104758Z
UID:23487-1772442000-1790875800@pau.cci.fr
SUMMARY:Formation RSE : Devenez pilote de votre démarche !
DESCRIPTION:Intégrez la formation-action « RSE : Devenez pilote de votre démarche » et réalisez un plan d’actions adapté à la maturité RSE et à la stratégie de votre structure !\nUn parcours en quatre phases\n1 | Découvrir la RSE dans sa structure\n2 demi-journées en intra entreprise : entre le 02/03 et le 03/04/2026\, sur RDV \n2 | Mettre en œuvre et piloter son projet RSE\n3 jours en inter-entreprises : Jeudi 23/04/2026\, 9h-17h30 ; Jeudi 21/05/2026\, 9h-17h30 ; Jeudi 18/06/2025\, 9h-17h30 \n3 | Cas pratique : mettre en œuvre son plan d’actions RSE\n½ journée en intra-entreprise : entre le 29/06/2026 et le 18/09/2026\, sur RDV \n4 | Avancement à M+4 – Mobilisation sur la durée\n½ journée en inter-entreprises : Jeudi 01/10/2026\, 14h-17h30 \nAvantages\n\nBénéficier de la richesse d’un collectif uni autour d’une même volonté de rendre son entreprise durable\nÊtre accompagné pour construire sa feuille de route RSE\nAvoir un interlocuteur unique tout au long de la mise en place du plan d’actions\n\nCoût\nUn cursus à 1 890€ HT par stagiaire \nDurée\n5 jours (35h) entre le 02/03/26 et le 01/10/26 \n\nPlus d’infos\n\nContactez-nous
URL:https://pau.cci.fr/evenement/formation-rse-2026/
ATTACH;FMTTYPE=image/jpeg:https://pau.cci.fr/wp-content/uploads/2025/12/RSE-agenda.jpg
END:VEVENT
BEGIN:VEVENT
DTSTART;TZID=Europe/Paris:20260330T100000
DTEND;TZID=Europe/Paris:20260330T121500
DTSTAMP:20260420T061437
CREATED:20251205T143641Z
LAST-MODIFIED:20251205T143641Z
UID:23360-1774864800-1774872900@pau.cci.fr
SUMMARY:Permanence juridique - Pau
DESCRIPTION:La CCI Pau Béarn et l’ordre des avocats du barreau de Pau proposent des permanences d’avocats aux entreprises ressortissantes de la CCI Pau Béarn\, déjà enregistrées ou en cours de création.\n\n\nPour demander un RDV\, contactez-nous\n\n\n\n\nNous contacter\n\n\n\n\nCes rendez-vous traiteront des problématiques relatives à l’entreprise (baux commerciaux\, statut juridique…).
URL:https://pau.cci.fr/evenement/permanence-juridique-pau-260330/
LOCATION:CCI Pau Béarn\, 21 rue Louis Barthou\, PAU\, 64001\, France
CATEGORIES:PERM
ATTACH;FMTTYPE=image/png:https://pau.cci.fr/wp-content/uploads/2025/03/Permanence-juridique.png
END:VEVENT
BEGIN:VEVENT
DTSTART;TZID=Europe/Paris:20260330T190000
DTEND;TZID=Europe/Paris:20260330T200000
DTSTAMP:20260420T061437
CREATED:20260310T113041Z
LAST-MODIFIED:20260310T131934Z
UID:31606-1774897200-1774900800@pau.cci.fr
SUMMARY:Facturation électronique : mode d'emploi
DESCRIPTION:Entre le 1er septembre 2026 et le 1er septembre 2027\, chaque entreprise devra avoir opté pour une solution de facturation électronique\, avec un calendrier d’application différent selon la taille de votre structure.\nLa CCI Pau Béarn et l’ordre des experts-comptables vous proposent une réunion d’information et d’échanges afin de vous aiguiller dans l’application de cette réforme (calendrier\, comment choisir son prestataire…)\nLundi 30 mars\, à 19h\, à la CCI Pau Béarn\n21 rue Louis Barthou\, à Pau \nJe m’inscris\n  \nLES OPPORTUNITÉS DE CETTE REFORME\n• Automatiser et accélérer le processus de facturation\n• Diminuer les coûts de gestion des factures\, éviter les erreurs liées à la saisie manuelle\n• Visualiser les échéances de paiement et être alerté avant la date limite de paiement\n• Réduire le délai de paiement des factures clients\n• Stocker dans un seul endroit\, accessible et sécurisé\, les factures pour y accéder simplement et rapidement\n• Améliorer la qualité de service\, les relations clients et les relations avec les fournisseurs \n  \nLa facturation électronique\, une opportunité de compétitivité pour toutes les entreprises !
URL:https://pau.cci.fr/evenement/facturation-electronique-260330/
LOCATION:CCI Pau Béarn\, 21 rue Louis Barthou\, PAU\, 64001\, France
ATTACH;FMTTYPE=image/png:https://pau.cci.fr/wp-content/uploads/2026/03/Facturation-electronique_agenda.png
ORGANIZER;CN="CCI Pau B%C3%A9arn - Commerce":MAILTO:commerce@pau.cci.fr
END:VEVENT
END:VCALENDAR