BEGIN:VCALENDAR
VERSION:2.0
PRODID:-//CCI Pau Béarn - ECPv6.15.18//NONSGML v1.0//EN
CALSCALE:GREGORIAN
METHOD:PUBLISH
X-ORIGINAL-URL:https://pau.cci.fr
X-WR-CALDESC:Évènements pour CCI Pau Béarn
REFRESH-INTERVAL;VALUE=DURATION:PT1H
X-Robots-Tag:noindex
X-PUBLISHED-TTL:PT1H
BEGIN:VTIMEZONE
TZID:Europe/Paris
BEGIN:DAYLIGHT
TZOFFSETFROM:+0100
TZOFFSETTO:+0200
TZNAME:CEST
DTSTART:20250330T010000
END:DAYLIGHT
BEGIN:STANDARD
TZOFFSETFROM:+0200
TZOFFSETTO:+0100
TZNAME:CET
DTSTART:20251026T010000
END:STANDARD
BEGIN:DAYLIGHT
TZOFFSETFROM:+0100
TZOFFSETTO:+0200
TZNAME:CEST
DTSTART:20260329T010000
END:DAYLIGHT
BEGIN:STANDARD
TZOFFSETFROM:+0200
TZOFFSETTO:+0100
TZNAME:CET
DTSTART:20261025T010000
END:STANDARD
BEGIN:DAYLIGHT
TZOFFSETFROM:+0100
TZOFFSETTO:+0200
TZNAME:CEST
DTSTART:20270328T010000
END:DAYLIGHT
BEGIN:STANDARD
TZOFFSETFROM:+0200
TZOFFSETTO:+0100
TZNAME:CET
DTSTART:20271031T010000
END:STANDARD
END:VTIMEZONE
BEGIN:VEVENT
DTSTART;TZID=Europe/Paris:20261008T090000
DTEND;TZID=Europe/Paris:20261008T110000
DTSTAMP:20260423T003553
CREATED:20251201T144947Z
LAST-MODIFIED:20260203T092426Z
UID:22976-1791450000-1791457200@pau.cci.fr
SUMMARY:Réunion d’information Création-Reprise d'entreprise\, Pau\, 8 octobre 2026
DESCRIPTION:Les Jeudis de la Création\, une réunion d’information à la création reprise d’entreprise pour découvrir : \n\nla méthodologie pour passer de l’idée au projet\,\nles étapes de la création/reprise d’entreprise\,\nles outils nécessaires pour construire le projet.\n\n\n\n\n\nSuite à votre participation\, vous pourrez bénéficier d’un entretien individuel avec l’un de nos conseillers et mettre en place un accompagnement personnalisé. \n 
URL:https://pau.cci.fr/evenement/reunion-creation-entreprise-pau-261008/
LOCATION:CCI Pau Béarn\, 21 rue Louis Barthou\, PAU\, 64001\, France
CATEGORIES:RCE
ATTACH;FMTTYPE=image/jpeg:https://pau.cci.fr/wp-content/uploads/2025/02/icon_cci_Information-creation-reprise-dentreprise-16.jpg
END:VEVENT
BEGIN:VEVENT
DTSTART;TZID=Europe/Paris:20261008T090000
DTEND;TZID=Europe/Paris:20261008T150000
DTSTAMP:20260423T003553
CREATED:20250715T141112Z
LAST-MODIFIED:20251204T150130Z
UID:15767-1791450000-1791471600@pau.cci.fr
SUMMARY:Permanence propriété industrielle : CNCPI
DESCRIPTION:La CCI Pau Béarn\, l’Institut National de la Propriété Industrielle (INPI) et la Compagnie Nationale des Conseils en Propriété Industrielle (CNCPI) proposent aux entreprises ressortissantes de la CCI et aux créateurs d’entreprise des permanences-conseils sur les questions relatives à la propriété industrielle et intellectuelle : brevet\, marque\, logo…\nLe rendez-vous se déroulera à distance (téléphone ou visio).\n\n\nNous contacter
URL:https://pau.cci.fr/evenement/permanence-propriete-industrielle-cncpi-251008/
CATEGORIES:PERM
ATTACH;FMTTYPE=image/png:https://pau.cci.fr/wp-content/uploads/2025/03/Permanence-propriete.png
END:VEVENT
END:VCALENDAR