BEGIN:VCALENDAR
VERSION:2.0
PRODID:-//CCI Pau Béarn - ECPv6.15.18//NONSGML v1.0//EN
CALSCALE:GREGORIAN
METHOD:PUBLISH
X-ORIGINAL-URL:https://pau.cci.fr
X-WR-CALDESC:Évènements pour CCI Pau Béarn
REFRESH-INTERVAL;VALUE=DURATION:PT1H
X-Robots-Tag:noindex
X-PUBLISHED-TTL:PT1H
BEGIN:VTIMEZONE
TZID:Europe/Paris
BEGIN:DAYLIGHT
TZOFFSETFROM:+0100
TZOFFSETTO:+0200
TZNAME:CEST
DTSTART:20250330T010000
END:DAYLIGHT
BEGIN:STANDARD
TZOFFSETFROM:+0200
TZOFFSETTO:+0100
TZNAME:CET
DTSTART:20251026T010000
END:STANDARD
BEGIN:DAYLIGHT
TZOFFSETFROM:+0100
TZOFFSETTO:+0200
TZNAME:CEST
DTSTART:20260329T010000
END:DAYLIGHT
BEGIN:STANDARD
TZOFFSETFROM:+0200
TZOFFSETTO:+0100
TZNAME:CET
DTSTART:20261025T010000
END:STANDARD
BEGIN:DAYLIGHT
TZOFFSETFROM:+0100
TZOFFSETTO:+0200
TZNAME:CEST
DTSTART:20270328T010000
END:DAYLIGHT
BEGIN:STANDARD
TZOFFSETFROM:+0200
TZOFFSETTO:+0100
TZNAME:CET
DTSTART:20271031T010000
END:STANDARD
END:VTIMEZONE
BEGIN:VEVENT
DTSTART;TZID=Europe/Paris:20261130T084500
DTEND;TZID=Europe/Paris:20261204T170000
DTSTAMP:20260423T003727
CREATED:20251106T102243Z
LAST-MODIFIED:20260108T090200Z
UID:21257-1796028300-1796403600@pau.cci.fr
SUMMARY:Formation Création entreprise : identifier les points-clés pour un projet réussi - novembre 2026
DESCRIPTION:La formation Création entreprise : identifier les points-clés pour un projet réussi\, une formation complète et concrète sur 5 jours\, alliant théorie\, cas pratiques\, et mises en situation… « 5 jours pour entreprendre » !\nVous apprendrez à bâtir un business model solide\, comprendre les aspects juridiques\, maîtriser les marges et affiner votre communication. Aux côtés d’autres porteurs de projets\, vous développerez les compétences essentielles d’un chef d’entreprise. \n\n\n\n\nTéléchargez le PLANNING de la formation | Téléchargez la fiche PROGRAMME de la formation \n\n📍En fonction de votre situation\, une prise en charge financière est possible.\nAvant de réaliser votre inscription\, vérifiez votre Compte Personnel de Formation.  \n  \nPour toute question\, contactez le pôle Création Reprise Transmission de la CCI Pau Béarn grâce à ce formulaire. \nAvec la formation Création entreprise : identifier les points-clés pour un projet réussi – « 5 jours pour entreprendre »\, maîtrisez tous les leviers de la création d’entreprise !
URL:https://pau.cci.fr/evenement/formation-creation-entreprise-novembre2026/
LOCATION:CCI Pau Béarn\, 21 rue Louis Barthou\, PAU\, 64001\, France
CATEGORIES:5JPE
ATTACH;FMTTYPE=image/png:https://pau.cci.fr/wp-content/uploads/2025/02/Creation-formation.png
END:VEVENT
BEGIN:VEVENT
DTSTART;TZID=Europe/Paris:20261202T090000
DTEND;TZID=Europe/Paris:20261203T123000
DTSTAMP:20260423T003727
CREATED:20251204T101620Z
LAST-MODIFIED:20251204T101620Z
UID:23218-1796202000-1796301000@pau.cci.fr
SUMMARY:Atelier - Comptes prévisionnels\, business plan\, fiscalité\, aides & financements - 2 et 3/12/26
DESCRIPTION:Concrétisez votre projet d’entreprise grâce aux Ateliers Pour Entreprendre.\nQue vous soyez créateur ou repreneur\, apprenez à gérer la fiscalité de votre entreprise.\nProgramme :\n– compte de résultat\, prévisionnel et soldes intermédiaires de gestion\, seuil de rentabilité\n– plan de financement initial et les aides\n– plan de trésorerie – tableaux de bord\n– business plan
URL:https://pau.cci.fr/evenement/atelier-business-plan-261202/
LOCATION:CCI Pau Béarn\, 21 rue Louis Barthou\, PAU\, 64001\, France
CATEGORIES:APE
ATTACH;FMTTYPE=image/jpeg:https://pau.cci.fr/wp-content/uploads/2025/02/icon_CCI_PAU__Ateliers-pour-Entreprendre-07-scaled.jpg
END:VEVENT
BEGIN:VEVENT
DTSTART;TZID=Europe/Paris:20261203T090000
DTEND;TZID=Europe/Paris:20261203T110000
DTSTAMP:20260423T003727
CREATED:20251201T152109Z
LAST-MODIFIED:20260203T093736Z
UID:23000-1796288400-1796295600@pau.cci.fr
SUMMARY:Réunion d’information Création-Reprise d'entreprise\, Pau\, 3 décembre 2026
DESCRIPTION:Les Jeudis de la Création\, une réunion d’information à la création reprise d’entreprise pour découvrir : \n\nla méthodologie pour passer de l’idée au projet\,\nles étapes de la création/reprise d’entreprise\,\nles outils nécessaires pour construire le projet.\n\n\n\n\n\nSuite à votre participation\, vous pourrez bénéficier d’un entretien individuel avec l’un de nos conseillers et mettre en place un accompagnement personnalisé. \n 
URL:https://pau.cci.fr/evenement/reunion-creation-entreprise-pau-261203/
LOCATION:CCI Pau Béarn\, 21 rue Louis Barthou\, PAU\, 64001\, France
CATEGORIES:RCE
ATTACH;FMTTYPE=image/jpeg:https://pau.cci.fr/wp-content/uploads/2025/02/icon_cci_Information-creation-reprise-dentreprise-16.jpg
END:VEVENT
END:VCALENDAR