BEGIN:VCALENDAR
VERSION:2.0
PRODID:-//CCI Pau Béarn - ECPv6.15.18//NONSGML v1.0//EN
CALSCALE:GREGORIAN
METHOD:PUBLISH
X-WR-CALNAME:CCI Pau Béarn
X-ORIGINAL-URL:https://pau.cci.fr
X-WR-CALDESC:Évènements pour CCI Pau Béarn
REFRESH-INTERVAL;VALUE=DURATION:PT1H
X-Robots-Tag:noindex
X-PUBLISHED-TTL:PT1H
BEGIN:VTIMEZONE
TZID:Europe/Paris
BEGIN:DAYLIGHT
TZOFFSETFROM:+0100
TZOFFSETTO:+0200
TZNAME:CEST
DTSTART:20250330T010000
END:DAYLIGHT
BEGIN:STANDARD
TZOFFSETFROM:+0200
TZOFFSETTO:+0100
TZNAME:CET
DTSTART:20251026T010000
END:STANDARD
BEGIN:DAYLIGHT
TZOFFSETFROM:+0100
TZOFFSETTO:+0200
TZNAME:CEST
DTSTART:20260329T010000
END:DAYLIGHT
BEGIN:STANDARD
TZOFFSETFROM:+0200
TZOFFSETTO:+0100
TZNAME:CET
DTSTART:20261025T010000
END:STANDARD
BEGIN:DAYLIGHT
TZOFFSETFROM:+0100
TZOFFSETTO:+0200
TZNAME:CEST
DTSTART:20270328T010000
END:DAYLIGHT
BEGIN:STANDARD
TZOFFSETFROM:+0200
TZOFFSETTO:+0100
TZNAME:CET
DTSTART:20271031T010000
END:STANDARD
END:VTIMEZONE
BEGIN:VEVENT
DTSTART;TZID=Europe/Paris:20261215T090000
DTEND;TZID=Europe/Paris:20261215T120000
DTSTAMP:20260423T021312
CREATED:20260409T094340Z
LAST-MODIFIED:20260409T095036Z
UID:33735-1797325200-1797336000@pau.cci.fr
SUMMARY:Atelier DUERP : Managez le risque et protégez vos employés !
DESCRIPTION:Atelier collectif de 3 heures\, à la CCI Pau Béarn pour :\n– Découvrir les enjeux de la sécurité pour votre entreprise\,\n– S’approprier les outils permettant d’analyser ses risques\,\n– Commencer à rédiger son Document Unique d’Evaluation des Risques Professionnels\,\n– Être guidé et conseillé dans sa démarche par un professionnel. \n  \nAutres dates :\njeudi 22/10/2026\, de 9h à 12h\njeudi 19/11/2026\, de 9h à 12h \n  \n\n\n>> Vous préférez un accompagnement sur-mesure ?\n\n\n\n\nContactez-nous et nous élaborerons avec vous\, dans votre entreprise\, votre plan d’action.\n+ d’infos sur l’accompagnement individuel
URL:https://pau.cci.fr/evenement/atelier-duerp-261215/
LOCATION:CCI Pau Béarn\, 21 rue Louis Barthou\, PAU\, 64001\, France
ORGANIZER;CN="CCI Pau B%C3%A9arn - Sabine Giron":MAILTO:s-giron@pau.cci.fr
END:VEVENT
END:VCALENDAR