BEGIN:VCALENDAR
VERSION:2.0
PRODID:-//CCI Pau Béarn - ECPv6.15.18//NONSGML v1.0//EN
CALSCALE:GREGORIAN
METHOD:PUBLISH
X-WR-CALNAME:CCI Pau Béarn
X-ORIGINAL-URL:https://pau.cci.fr
X-WR-CALDESC:Évènements pour CCI Pau Béarn
REFRESH-INTERVAL;VALUE=DURATION:PT1H
X-Robots-Tag:noindex
X-PUBLISHED-TTL:PT1H
BEGIN:VTIMEZONE
TZID:Europe/Paris
BEGIN:DAYLIGHT
TZOFFSETFROM:+0100
TZOFFSETTO:+0200
TZNAME:CEST
DTSTART:20250330T010000
END:DAYLIGHT
BEGIN:STANDARD
TZOFFSETFROM:+0200
TZOFFSETTO:+0100
TZNAME:CET
DTSTART:20251026T010000
END:STANDARD
BEGIN:DAYLIGHT
TZOFFSETFROM:+0100
TZOFFSETTO:+0200
TZNAME:CEST
DTSTART:20260329T010000
END:DAYLIGHT
BEGIN:STANDARD
TZOFFSETFROM:+0200
TZOFFSETTO:+0100
TZNAME:CET
DTSTART:20261025T010000
END:STANDARD
BEGIN:DAYLIGHT
TZOFFSETFROM:+0100
TZOFFSETTO:+0200
TZNAME:CEST
DTSTART:20270328T010000
END:DAYLIGHT
BEGIN:STANDARD
TZOFFSETFROM:+0200
TZOFFSETTO:+0100
TZNAME:CET
DTSTART:20271031T010000
END:STANDARD
END:VTIMEZONE
BEGIN:VEVENT
DTSTART;TZID=Europe/Paris:20260601T100000
DTEND;TZID=Europe/Paris:20260601T121500
DTSTAMP:20260423T035520
CREATED:20250415T075229Z
LAST-MODIFIED:20251205T153531Z
UID:12269-1780308000-1780316100@pau.cci.fr
SUMMARY:Permanence juridique - Pau
DESCRIPTION:La CCI Pau Béarn et l’ordre des avocats du barreau de Pau proposent des permanences d’avocats aux entreprises ressortissantes de la CCI Pau Béarn\, déjà enregistrées ou en cours de création. \n\n\nPour demander un RDV\, contactez-nous\n\n\n\n\nNous contacter\n\n\n\n\nCes rendez-vous traiteront des problématiques relatives à l’entreprise (baux commerciaux\, statut juridique…).
URL:https://pau.cci.fr/evenement/permanence-juridique-pau-260601/
LOCATION:CCI Pau Béarn\, 21 rue Louis Barthou\, PAU\, 64001\, France
CATEGORIES:PERM
ATTACH;FMTTYPE=image/png:https://pau.cci.fr/wp-content/uploads/2025/03/Permanence-juridique.png
END:VEVENT
BEGIN:VEVENT
DTSTART;TZID=Europe/Paris:20260603T100000
DTEND;TZID=Europe/Paris:20260603T121500
DTSTAMP:20260423T035520
CREATED:20251204T162624Z
LAST-MODIFIED:20251204T162624Z
UID:23320-1780480800-1780488900@pau.cci.fr
SUMMARY:Permanence juridique - Oloron Sainte-Marie
DESCRIPTION:La CCI Pau Béarn et l’ordre des avocats du barreau de Pau proposent des permanences d’avocats aux entreprises du Haut-Béarn\, déjà enregistrées ou en cours de création.\nPour demander un RDV\, contactez-nous \n\n\nNous contacter\n\n\n\n\nCes rendez-vous traiteront des problématiques relatives à l’entreprise (baux commerciaux\, statut juridique…).
URL:https://pau.cci.fr/evenement/permanence-juridique-oloron-260603/
LOCATION:visioconférence
CATEGORIES:PERM
ATTACH;FMTTYPE=image/png:https://pau.cci.fr/wp-content/uploads/2025/03/Permanence-juridique.png
END:VEVENT
BEGIN:VEVENT
DTSTART;TZID=Europe/Paris:20260608T100000
DTEND;TZID=Europe/Paris:20260608T121500
DTSTAMP:20260423T035520
CREATED:20250415T073032Z
LAST-MODIFIED:20251205T153721Z
UID:12267-1780912800-1780920900@pau.cci.fr
SUMMARY:Permanence juridique - Pau
DESCRIPTION:La CCI Pau Béarn et l’ordre des avocats du barreau de Pau proposent des permanences d’avocats aux entreprises ressortissantes de la CCI Pau Béarn\, déjà enregistrées ou en cours de création. \n\n\nPour demander un RDV\, contactez-nous\n\n\n\n\nNous contacter\n\n\n\n\nCes rendez-vous traiteront des problématiques relatives à l’entreprise (baux commerciaux\, statut juridique…).
URL:https://pau.cci.fr/evenement/permanence-juridique-pau-260608/
LOCATION:CCI Pau Béarn\, 21 rue Louis Barthou\, PAU\, 64001\, France
CATEGORIES:PERM
ATTACH;FMTTYPE=image/png:https://pau.cci.fr/wp-content/uploads/2025/03/Permanence-juridique.png
END:VEVENT
BEGIN:VEVENT
DTSTART;TZID=Europe/Paris:20260610T090000
DTEND;TZID=Europe/Paris:20260610T120000
DTSTAMP:20260423T035520
CREATED:20250313T102724Z
LAST-MODIFIED:20251205T142055Z
UID:10309-1781082000-1781092800@pau.cci.fr
SUMMARY:Permanence expert-comptable - Oloron Sainte-Marie
DESCRIPTION:La CCI Pau Béarn et l’ordre des experts comptables proposent des permanences d’expert-comptable aux entreprises du Haut-Béarn\, déjà enregistrées ou en cours de création.\n\n\nPour demander un RDV\, contactez-nous\n\n\n\n\nNous contacter\n\n\n\n\nCes rendez-vous traiteront des problématiques relatives à l’entreprise (baux commerciaux\, statut juridique…).
URL:https://pau.cci.fr/evenement/permanence-ec-oloron-260610/
LOCATION:Centre d’activités économiques Oloron Sainte-Marie\, 6 avenue de la Gare\, Oloron Sainte-Marie\, 64400\, France
CATEGORIES:PERM
ATTACH;FMTTYPE=image/png:https://pau.cci.fr/wp-content/uploads/2025/03/Permanence-expert-comptable.png
END:VEVENT
BEGIN:VEVENT
DTSTART;TZID=Europe/Paris:20260611T090000
DTEND;TZID=Europe/Paris:20260611T150000
DTSTAMP:20260423T035520
CREATED:20251204T150517Z
LAST-MODIFIED:20251204T150517Z
UID:23300-1781168400-1781190000@pau.cci.fr
SUMMARY:Permanence propriété industrielle : CNCPI
DESCRIPTION:La CCI Pau Béarn\, l’Institut National de la Propriété Industrielle (INPI) et la Compagnie Nationale des Conseils en Propriété Industrielle (CNCPI) proposent aux entreprises ressortissantes de la CCI et aux créateurs d’entreprise des permanences-conseils sur les questions relatives à la propriété industrielle et intellectuelle : brevet\, marque\, logo…\nLe rendez-vous se déroulera à distance (téléphone ou visio).\n\n\nNous contacter
URL:https://pau.cci.fr/evenement/permanence-propriete-industrielle-cncpi-260611/
CATEGORIES:PERM
ATTACH;FMTTYPE=image/png:https://pau.cci.fr/wp-content/uploads/2025/03/Permanence-propriete.png
END:VEVENT
BEGIN:VEVENT
DTSTART;TZID=Europe/Paris:20260615T100000
DTEND;TZID=Europe/Paris:20260615T121500
DTSTAMP:20260423T035520
CREATED:20250415T075432Z
LAST-MODIFIED:20251205T154316Z
UID:12271-1781517600-1781525700@pau.cci.fr
SUMMARY:Permanence juridique - Pau
DESCRIPTION:La CCI Pau Béarn et l’ordre des avocats du barreau de Pau proposent des permanences d’avocats aux entreprises ressortissantes de la CCI Pau Béarn\, déjà enregistrées ou en cours de création. \n\n\nPour demander un RDV\, contactez-nous\n\n\n\n\nNous contacter\n\n\n\n\nCes rendez-vous traiteront des problématiques relatives à l’entreprise (baux commerciaux\, statut juridique…).
URL:https://pau.cci.fr/evenement/permanence-juridique-pau-25061516/
LOCATION:CCI Pau Béarn\, 21 rue Louis Barthou\, PAU\, 64001\, France
CATEGORIES:PERM
ATTACH;FMTTYPE=image/png:https://pau.cci.fr/wp-content/uploads/2025/03/Permanence-juridique.png
END:VEVENT
BEGIN:VEVENT
DTSTART;TZID=Europe/Paris:20260619T090000
DTEND;TZID=Europe/Paris:20260619T110000
DTSTAMP:20260423T035520
CREATED:20251204T141514Z
LAST-MODIFIED:20251204T141706Z
UID:23280-1781859600-1781866800@pau.cci.fr
SUMMARY:Permanence expert-comptable - Pau
DESCRIPTION:La CCI Pau Béarn et l’ordre des experts comptables proposent des permanences d’expert-comptable aux entreprises ressortissantes de la CCI Pau Béarn\, déjà enregistrées ou en cours de création.\n\n\nPour demander un RDV\, contactez-nous\n\n\n\n\nNous contacter\n\n\n\n\nCes rendez-vous traiteront des problématiques relatives à l’entreprise (baux commerciaux\, statut juridique…).
URL:https://pau.cci.fr/evenement/permanence-expert-comptable-pau-260619/
LOCATION:CCI Pau Béarn\, 21 rue Louis Barthou\, PAU\, 64001\, France
CATEGORIES:PERM
ATTACH;FMTTYPE=image/png:https://pau.cci.fr/wp-content/uploads/2025/03/Permanence-expert-comptable.png
END:VEVENT
BEGIN:VEVENT
DTSTART;TZID=Europe/Paris:20260622T100000
DTEND;TZID=Europe/Paris:20260622T121500
DTSTAMP:20260423T035520
CREATED:20250410T092712Z
LAST-MODIFIED:20251210T085613Z
UID:12096-1782122400-1782130500@pau.cci.fr
SUMMARY:Permanence juridique - Pau
DESCRIPTION:La CCI Pau Béarn et l’ordre des avocats du barreau de Pau proposent des permanences d’avocats aux entreprises ressortissantes de la CCI Pau Béarn\, déjà enregistrées ou en cours de création. \n\n\nPour demander un RDV\, contactez-nous\n\n\n\n\nNous contacter\n\n\n\n\nCes rendez-vous traiteront des problématiques relatives à l’entreprise (baux commerciaux\, statut juridique…).
URL:https://pau.cci.fr/evenement/permanence-juridique-260622/
LOCATION:CCI Pau Béarn\, 21 rue Louis Barthou\, PAU\, 64001\, France
CATEGORIES:PERM
ATTACH;FMTTYPE=image/png:https://pau.cci.fr/wp-content/uploads/2025/03/Permanence-juridique.png
END:VEVENT
BEGIN:VEVENT
DTSTART;TZID=Europe/Paris:20260624T090000
DTEND;TZID=Europe/Paris:20260624T120000
DTSTAMP:20260423T035520
CREATED:20250313T103103Z
LAST-MODIFIED:20251205T142211Z
UID:10311-1782291600-1782302400@pau.cci.fr
SUMMARY:Permanence expert-comptable - Oloron Sainte-Marie
DESCRIPTION:La CCI Pau Béarn et l’ordre des experts comptables proposent des permanences d’expert-comptable aux entreprises du Haut-Béarn\, déjà enregistrées ou en cours de création.\n\n\nPour demander un RDV\, contactez-nous\n\n\n\n\nNous contacter\n\n\n\n\nCes rendez-vous traiteront des problématiques relatives à l’entreprise (baux commerciaux\, statut juridique…).
URL:https://pau.cci.fr/evenement/permanence-ec-oloron-260624/
LOCATION:Centre d’activités économiques Oloron Sainte-Marie\, 6 avenue de la Gare\, Oloron Sainte-Marie\, 64400\, France
CATEGORIES:PERM
ATTACH;FMTTYPE=image/png:https://pau.cci.fr/wp-content/uploads/2025/03/Permanence-expert-comptable.png
END:VEVENT
BEGIN:VEVENT
DTSTART;TZID=Europe/Paris:20260629T100000
DTEND;TZID=Europe/Paris:20260629T121500
DTSTAMP:20260423T035520
CREATED:20250415T075724Z
LAST-MODIFIED:20251210T083603Z
UID:12275-1782727200-1782735300@pau.cci.fr
SUMMARY:Permanence juridique - Pau
DESCRIPTION:La CCI Pau Béarn et l’ordre des avocats du barreau de Pau proposent des permanences d’avocats aux entreprises ressortissantes de la CCI Pau Béarn\, déjà enregistrées ou en cours de création. \n\n\nPour demander un RDV\, contactez-nous\n\n\n\n\nNous contacter\n\n\n\n\nCes rendez-vous traiteront des problématiques relatives à l’entreprise (baux commerciaux\, statut juridique…).
URL:https://pau.cci.fr/evenement/permanence-juridique-pau-260629/
LOCATION:CCI Pau Béarn\, 21 rue Louis Barthou\, PAU\, 64001\, France
CATEGORIES:PERM
ATTACH;FMTTYPE=image/png:https://pau.cci.fr/wp-content/uploads/2025/03/Permanence-juridique.png
END:VEVENT
END:VCALENDAR