BEGIN:VCALENDAR
VERSION:2.0
PRODID:-//CCI Pau Béarn - ECPv6.15.18//NONSGML v1.0//EN
CALSCALE:GREGORIAN
METHOD:PUBLISH
X-ORIGINAL-URL:https://pau.cci.fr
X-WR-CALDESC:Évènements pour CCI Pau Béarn
REFRESH-INTERVAL;VALUE=DURATION:PT1H
X-Robots-Tag:noindex
X-PUBLISHED-TTL:PT1H
BEGIN:VTIMEZONE
TZID:Europe/Paris
BEGIN:DAYLIGHT
TZOFFSETFROM:+0100
TZOFFSETTO:+0200
TZNAME:CEST
DTSTART:20250330T010000
END:DAYLIGHT
BEGIN:STANDARD
TZOFFSETFROM:+0200
TZOFFSETTO:+0100
TZNAME:CET
DTSTART:20251026T010000
END:STANDARD
BEGIN:DAYLIGHT
TZOFFSETFROM:+0100
TZOFFSETTO:+0200
TZNAME:CEST
DTSTART:20260329T010000
END:DAYLIGHT
BEGIN:STANDARD
TZOFFSETFROM:+0200
TZOFFSETTO:+0100
TZNAME:CET
DTSTART:20261025T010000
END:STANDARD
BEGIN:DAYLIGHT
TZOFFSETFROM:+0100
TZOFFSETTO:+0200
TZNAME:CEST
DTSTART:20270328T010000
END:DAYLIGHT
BEGIN:STANDARD
TZOFFSETFROM:+0200
TZOFFSETTO:+0100
TZNAME:CET
DTSTART:20271031T010000
END:STANDARD
END:VTIMEZONE
BEGIN:VEVENT
DTSTART;TZID=Europe/Paris:20261005T100000
DTEND;TZID=Europe/Paris:20261005T121500
DTSTAMP:20260423T103431
CREATED:20250715T142243Z
LAST-MODIFIED:20251210T091658Z
UID:15773-1791194400-1791202500@pau.cci.fr
SUMMARY:Permanence juridique - Pau
DESCRIPTION:La CCI Pau Béarn et l’ordre des avocats du barreau de Pau proposent des permanences d’avocats aux entreprises ressortissantes de la CCI Pau Béarn\, déjà enregistrées ou en cours de création. \n\n\nPour demander un RDV\, contactez-nous\n\n\n\n\nNous contacter\n\n\n\n\nCes rendez-vous traiteront des problématiques relatives à l’entreprise (baux commerciaux\, statut juridique…).
URL:https://pau.cci.fr/evenement/permanence-juridique-pau-261005/
LOCATION:CCI Pau Béarn\, 21 rue Louis Barthou\, PAU\, 64001\, France
CATEGORIES:PERM
ATTACH;FMTTYPE=image/png:https://pau.cci.fr/wp-content/uploads/2025/03/Permanence-juridique.png
END:VEVENT
BEGIN:VEVENT
DTSTART;TZID=Europe/Paris:20261007T090000
DTEND;TZID=Europe/Paris:20261007T120000
DTSTAMP:20260423T103431
CREATED:20250715T150033Z
LAST-MODIFIED:20251209T161643Z
UID:15806-1791363600-1791374400@pau.cci.fr
SUMMARY:Permanence caisse de retraite - Oloron Sainte-Marie
DESCRIPTION:La caisse de retraite CARSAT\, en collaboration avec la CCI Pau Béarn\, propose des permanences aux entreprises du Haut-Béarn\, déjà enregistrées ou en cours de création.\nCes rendez-vous traiteront des problématiques relatives à la retraite. \n\n\nPour demander un RDV\, contactez-nous\n\n\n\n\nNous contacter\n\n\n\n 
URL:https://pau.cci.fr/evenement/permanence-carsat-oloron-261007/
LOCATION:Centre d’activités économiques Oloron Sainte-Marie\, 6 avenue de la Gare\, Oloron Sainte-Marie\, 64400\, France
CATEGORIES:PERM
ATTACH;FMTTYPE=image/png:https://pau.cci.fr/wp-content/uploads/2025/03/permanence-carsat.png
END:VEVENT
BEGIN:VEVENT
DTSTART;TZID=Europe/Paris:20261007T100000
DTEND;TZID=Europe/Paris:20261007T121500
DTSTAMP:20260423T103431
CREATED:20250715T144649Z
LAST-MODIFIED:20251204T151601Z
UID:15794-1791367200-1791375300@pau.cci.fr
SUMMARY:Permanence juridique - Oloron Sainte-Marie
DESCRIPTION:La CCI Pau Béarn et l’ordre des avocats du barreau de Pau proposent des permanences d’avocats aux entreprises du Haut-Béarn\, déjà enregistrées ou en cours de création.\nPour demander un RDV\, contactez-nous \n\n\nNous contacter\n\n\n\n\nCes rendez-vous traiteront des problématiques relatives à l’entreprise (baux commerciaux\, statut juridique…).
URL:https://pau.cci.fr/evenement/permanence-juridique-oloron-261007/
LOCATION:visioconférence
CATEGORIES:PERM
ATTACH;FMTTYPE=image/png:https://pau.cci.fr/wp-content/uploads/2025/03/Permanence-juridique.png
END:VEVENT
BEGIN:VEVENT
DTSTART;TZID=Europe/Paris:20261008T090000
DTEND;TZID=Europe/Paris:20261008T150000
DTSTAMP:20260423T103431
CREATED:20250715T141112Z
LAST-MODIFIED:20251204T150130Z
UID:15767-1791450000-1791471600@pau.cci.fr
SUMMARY:Permanence propriété industrielle : CNCPI
DESCRIPTION:La CCI Pau Béarn\, l’Institut National de la Propriété Industrielle (INPI) et la Compagnie Nationale des Conseils en Propriété Industrielle (CNCPI) proposent aux entreprises ressortissantes de la CCI et aux créateurs d’entreprise des permanences-conseils sur les questions relatives à la propriété industrielle et intellectuelle : brevet\, marque\, logo…\nLe rendez-vous se déroulera à distance (téléphone ou visio).\n\n\nNous contacter
URL:https://pau.cci.fr/evenement/permanence-propriete-industrielle-cncpi-251008/
CATEGORIES:PERM
ATTACH;FMTTYPE=image/png:https://pau.cci.fr/wp-content/uploads/2025/03/Permanence-propriete.png
END:VEVENT
BEGIN:VEVENT
DTSTART;TZID=Europe/Paris:20261012T100000
DTEND;TZID=Europe/Paris:20261012T121500
DTSTAMP:20260423T103431
CREATED:20250715T142426Z
LAST-MODIFIED:20251210T091804Z
UID:15775-1791799200-1791807300@pau.cci.fr
SUMMARY:Permanence juridique - Pau
DESCRIPTION:La CCI Pau Béarn et l’ordre des avocats du barreau de Pau proposent des permanences d’avocats aux entreprises ressortissantes de la CCI Pau Béarn\, déjà enregistrées ou en cours de création. \n\n\nPour demander un RDV\, contactez-nous\n\n\n\n\nNous contacter\n\n\n\n\nCes rendez-vous traiteront des problématiques relatives à l’entreprise (baux commerciaux\, statut juridique…).
URL:https://pau.cci.fr/evenement/permanence-juridique-pau-261012/
LOCATION:CCI Pau Béarn\, 21 rue Louis Barthou\, PAU\, 64001\, France
CATEGORIES:PERM
ATTACH;FMTTYPE=image/png:https://pau.cci.fr/wp-content/uploads/2025/03/Permanence-juridique.png
END:VEVENT
BEGIN:VEVENT
DTSTART;TZID=Europe/Paris:20261014T090000
DTEND;TZID=Europe/Paris:20261014T120000
DTSTAMP:20260423T103431
CREATED:20250715T151717Z
LAST-MODIFIED:20251210T081913Z
UID:15812-1791968400-1791979200@pau.cci.fr
SUMMARY:Permanence expert-comptable - Oloron Sainte-Marie
DESCRIPTION:La CCI Pau Béarn et l’ordre des experts comptables proposent des permanences d’expert-comptable aux entreprises du Haut-Béarn\, déjà enregistrées ou en cours de création.\n\n\nPour demander un RDV\, contactez-nous !\n\n\n\n\nNous contacter\n\n\n\n\nCes rendez-vous traiteront des problématiques relatives à l’entreprise (baux commerciaux\, statut juridique…).
URL:https://pau.cci.fr/evenement/permanence-expert-comptable-oloron-261014/
LOCATION:Centre d’activités économiques Oloron Sainte-Marie\, 6 avenue de la Gare\, Oloron Sainte-Marie\, 64400\, France
CATEGORIES:PERM
ATTACH;FMTTYPE=image/png:https://pau.cci.fr/wp-content/uploads/2025/03/Permanence-expert-comptable.png
END:VEVENT
BEGIN:VEVENT
DTSTART;TZID=Europe/Paris:20261019T100000
DTEND;TZID=Europe/Paris:20261019T121500
DTSTAMP:20260423T103431
CREATED:20250715T142538Z
LAST-MODIFIED:20251210T091926Z
UID:15777-1792404000-1792412100@pau.cci.fr
SUMMARY:Permanence juridique - Pau
DESCRIPTION:La CCI Pau Béarn et l’ordre des avocats du barreau de Pau proposent des permanences d’avocats aux entreprises ressortissantes de la CCI Pau Béarn\, déjà enregistrées ou en cours de création. \n\n\nPour demander un RDV\, contactez-nous\n\n\n\n\nNous contacter\n\n\n\n\nCes rendez-vous traiteront des problématiques relatives à l’entreprise (baux commerciaux\, statut juridique…).
URL:https://pau.cci.fr/evenement/permanence-juridique-pau-261019/
LOCATION:CCI Pau Béarn\, 21 rue Louis Barthou\, PAU\, 64001\, France
CATEGORIES:PERM
ATTACH;FMTTYPE=image/png:https://pau.cci.fr/wp-content/uploads/2025/03/Permanence-juridique.png
END:VEVENT
BEGIN:VEVENT
DTSTART;TZID=Europe/Paris:20261026T100000
DTEND;TZID=Europe/Paris:20261026T121500
DTSTAMP:20260423T103431
CREATED:20250715T142750Z
LAST-MODIFIED:20251210T093029Z
UID:15779-1793008800-1793016900@pau.cci.fr
SUMMARY:Permanence juridique - Pau
DESCRIPTION:La CCI Pau Béarn et l’ordre des avocats du barreau de Pau proposent des permanences d’avocats aux entreprises ressortissantes de la CCI Pau Béarn\, déjà enregistrées ou en cours de création. \n\n\nPour demander un RDV\, contactez-nous\n\n\n\n\nNous contacter\n\n\n\n\nCes rendez-vous traiteront des problématiques relatives à l’entreprise (baux commerciaux\, statut juridique…).
URL:https://pau.cci.fr/evenement/permanence-juridique-pau-261026/
LOCATION:CCI Pau Béarn\, 21 rue Louis Barthou\, PAU\, 64001\, France
CATEGORIES:PERM
ATTACH;FMTTYPE=image/png:https://pau.cci.fr/wp-content/uploads/2025/03/Permanence-juridique.png
END:VEVENT
BEGIN:VEVENT
DTSTART;TZID=Europe/Paris:20261028T090000
DTEND;TZID=Europe/Paris:20261028T120000
DTSTAMP:20260423T103431
CREATED:20250715T151845Z
LAST-MODIFIED:20251210T082206Z
UID:15814-1793178000-1793188800@pau.cci.fr
SUMMARY:Permanence expert-comptable - Oloron Sainte-Marie
DESCRIPTION:La CCI Pau Béarn et l’ordre des experts comptables proposent des permanences d’expert-comptable aux entreprises du Haut-Béarn\, déjà enregistrées ou en cours de création.\n\n\nPour demander un RDV\, contactez-nous\n\n\n\n\nNous contacter\n\n\n\n\nCes rendez-vous traiteront des problématiques relatives à l’entreprise (baux commerciaux\, statut juridique…).
URL:https://pau.cci.fr/evenement/permanence-expert-comptable-oloron-261028/
LOCATION:Centre d’activités économiques Oloron Sainte-Marie\, 6 avenue de la Gare\, Oloron Sainte-Marie\, 64400\, France
CATEGORIES:PERM
ATTACH;FMTTYPE=image/png:https://pau.cci.fr/wp-content/uploads/2025/03/Permanence-expert-comptable.png
END:VEVENT
BEGIN:VEVENT
DTSTART;TZID=Europe/Paris:20261030T110000
DTEND;TZID=Europe/Paris:20261030T123000
DTSTAMP:20260423T103431
CREATED:20251204T143612Z
LAST-MODIFIED:20251204T143612Z
UID:23294-1793358000-1793363400@pau.cci.fr
SUMMARY:Permanence expert-comptable - Pau
DESCRIPTION:La CCI Pau Béarn et l’ordre des experts comptables proposent des permanences d’expert-comptable aux entreprises ressortissantes de la CCI Pau Béarn\, déjà enregistrées ou en cours de création.\n\n\nPour demander un RDV\, contactez-nous\n\n\n\n\nNous contacter\n\n\n\n\nCes rendez-vous traiteront des problématiques relatives à l’entreprise (baux commerciaux\, statut juridique…).
URL:https://pau.cci.fr/evenement/permanence-expert-comptable-pau-261030/
LOCATION:CCI Pau Béarn\, 21 rue Louis Barthou\, PAU\, 64001\, France
CATEGORIES:PERM
ATTACH;FMTTYPE=image/png:https://pau.cci.fr/wp-content/uploads/2025/03/Permanence-expert-comptable.png
END:VEVENT
END:VCALENDAR