BEGIN:VCALENDAR
VERSION:2.0
PRODID:-//CCI Pau Béarn - ECPv6.15.18//NONSGML v1.0//EN
CALSCALE:GREGORIAN
METHOD:PUBLISH
X-ORIGINAL-URL:https://pau.cci.fr
X-WR-CALDESC:Évènements pour CCI Pau Béarn
REFRESH-INTERVAL;VALUE=DURATION:PT1H
X-Robots-Tag:noindex
X-PUBLISHED-TTL:PT1H
BEGIN:VTIMEZONE
TZID:Europe/Paris
BEGIN:DAYLIGHT
TZOFFSETFROM:+0100
TZOFFSETTO:+0200
TZNAME:CEST
DTSTART:20240331T010000
END:DAYLIGHT
BEGIN:STANDARD
TZOFFSETFROM:+0200
TZOFFSETTO:+0100
TZNAME:CET
DTSTART:20241027T010000
END:STANDARD
BEGIN:DAYLIGHT
TZOFFSETFROM:+0100
TZOFFSETTO:+0200
TZNAME:CEST
DTSTART:20250330T010000
END:DAYLIGHT
BEGIN:STANDARD
TZOFFSETFROM:+0200
TZOFFSETTO:+0100
TZNAME:CET
DTSTART:20251026T010000
END:STANDARD
BEGIN:DAYLIGHT
TZOFFSETFROM:+0100
TZOFFSETTO:+0200
TZNAME:CEST
DTSTART:20260329T010000
END:DAYLIGHT
BEGIN:STANDARD
TZOFFSETFROM:+0200
TZOFFSETTO:+0100
TZNAME:CET
DTSTART:20261025T010000
END:STANDARD
END:VTIMEZONE
BEGIN:VEVENT
DTSTART;TZID=Europe/Paris:20250401T090000
DTEND;TZID=Europe/Paris:20250401T110000
DTSTAMP:20260425T220612
CREATED:20250218T100053Z
LAST-MODIFIED:20260331T132453Z
UID:7846-1743498000-1743505200@pau.cci.fr
SUMMARY:Réunion d’information Création-Reprise\, Oloron Sainte-Marie - 01 avril 2025
DESCRIPTION:Une réunion d’information à la création reprise d’entreprise réalisée en partenariat avec la Chambre de Métiers et d’Artisanat 64 pour découvrir : \n\nla méthodologie pour passer de l’idée au projet\,\nles étapes de la création/reprise d’entreprise\,\nles outils nécessaires pour construire le projet.\n\n\n\n\n\nSuite à votre participation\, vous pourrez bénéficier d’un entretien individuel avec l’un de nos conseillers et mettre en place un accompagnement personnalisé.
URL:https://pau.cci.fr/evenement/reunion-dinformation-creation-reprise-oloron-250401/
LOCATION:Pépinière d’entreprise\, ZA Lanneretonne\, 13 chemin Ilhasse\, Oloron Sainte-Marie\, 64400\, France
CATEGORIES:RCE
ATTACH;FMTTYPE=image/jpeg:https://pau.cci.fr/wp-content/uploads/2024/12/icon_cci_Information-creation-reprise-dentreprise-15.jpg
END:VEVENT
BEGIN:VEVENT
DTSTART;TZID=Europe/Paris:20250410T090000
DTEND;TZID=Europe/Paris:20250410T090000
DTSTAMP:20260425T220612
CREATED:20250305T161218Z
LAST-MODIFIED:20250623T142050Z
UID:9703-1744275600-1744275600@pau.cci.fr
SUMMARY:Réunion d’information Création-Reprise\, Pau/Bizanos - 10 avril 2025
DESCRIPTION:Les Jeudis de la Création\, une réunion d’information à la création reprise d’entreprise pour découvrir : \n\nla méthodologie pour passer de l’idée au projet\,\nles étapes de la création/reprise d’entreprise\,\nles outils nécessaires pour construire le projet.\n\n\n\n\n\nSuite à votre participation\, vous pourrez bénéficier d’un entretien individuel avec l’un de nos conseillers et mettre en place un accompagnement personnalisé.
URL:https://pau.cci.fr/evenement/information-creation-reprise-bizanos-250410/
LOCATION:éklore-ed Sport Business\, 7JQQ+JQ Bizanos\, Bizanos\, 64320\, France
CATEGORIES:RCE
ATTACH;FMTTYPE=image/jpeg:https://pau.cci.fr/wp-content/uploads/2025/02/icon_cci_Information-creation-reprise-dentreprise-16.jpg
END:VEVENT
BEGIN:VEVENT
DTSTART;TZID=Europe/Paris:20250417T090000
DTEND;TZID=Europe/Paris:20250417T090000
DTSTAMP:20260425T220612
CREATED:20250305T161435Z
LAST-MODIFIED:20250623T141730Z
UID:9711-1744880400-1744880400@pau.cci.fr
SUMMARY:Réunion d’information Création-Reprise\, Pau/Bizanos - 17 avril 2025
DESCRIPTION:Les Jeudis de la Création\, une réunion d’information à la création reprise d’entreprise pour découvrir : \n\nla méthodologie pour passer de l’idée au projet\,\nles étapes de la création/reprise d’entreprise\,\nles outils nécessaires pour construire le projet.\n\n\n\n\n\nSuite à votre participation\, vous pourrez bénéficier d’un entretien individuel avec l’un de nos conseillers et mettre en place un accompagnement personnalisé.
URL:https://pau.cci.fr/evenement/information-creation-reprise-bizanos-250417/
LOCATION:éklore-ed Sport Business\, 7JQQ+JQ Bizanos\, Bizanos\, 64320\, France
CATEGORIES:RCE
ATTACH;FMTTYPE=image/jpeg:https://pau.cci.fr/wp-content/uploads/2025/02/icon_cci_Information-creation-reprise-dentreprise-16.jpg
END:VEVENT
BEGIN:VEVENT
DTSTART;TZID=Europe/Paris:20250424T090000
DTEND;TZID=Europe/Paris:20250424T090000
DTSTAMP:20260425T220612
CREATED:20250305T160904Z
LAST-MODIFIED:20250623T141619Z
UID:9631-1745485200-1745485200@pau.cci.fr
SUMMARY:Réunion d’information Création-Reprise\, visioconférence - 24 avril 2025
DESCRIPTION:Les Jeudis de la Création\, une réunion d’information à la création reprise d’entreprise pour découvrir : \n\nla méthodologie pour passer de l’idée au projet\,\nles étapes de la création/reprise d’entreprise\,\nles outils nécessaires pour construire le projet.\n\n\n\n\n\nSuite à votre participation\, vous pourrez bénéficier d’un entretien individuel avec l’un de nos conseillers et mettre en place un accompagnement personnalisé.
URL:https://pau.cci.fr/evenement/information-creation-reprise-visio-250424/
LOCATION:visioconférence
CATEGORIES:RCE
ATTACH;FMTTYPE=image/jpeg:https://pau.cci.fr/wp-content/uploads/2025/02/icon_cci_Information-creation-reprise-dentreprise-16.jpg
END:VEVENT
BEGIN:VEVENT
DTSTART;TZID=Europe/Paris:20250429T090000
DTEND;TZID=Europe/Paris:20250429T090000
DTSTAMP:20260425T220612
CREATED:20250218T095547Z
LAST-MODIFIED:20250623T141418Z
UID:7842-1745917200-1745917200@pau.cci.fr
SUMMARY:Réunion d’information Création-Reprise\, Oloron Sainte-Marie - 29 avril 2025
DESCRIPTION:Une réunion d’information à la création reprise d’entreprise réalisée en partenariat avec la Chambre de Métiers et d’Artisanat 64 pour découvrir : \n\nla méthodologie pour passer de l’idée au projet\,\nles étapes de la création/reprise d’entreprise\,\nles outils nécessaires pour construire le projet.\n\n\n\n\n\nSuite à votre participation\, vous pourrez bénéficier d’un entretien individuel avec l’un de nos conseillers et mettre en place un accompagnement personnalisé.
URL:https://pau.cci.fr/evenement/reunion-dinformation-creation-reprise-oloron-250429/
LOCATION:Pépinière d’entreprise\, ZA Lanneretonne\, 13 chemin Ilhasse\, Oloron Sainte-Marie\, 64400\, France
CATEGORIES:RCE
ATTACH;FMTTYPE=image/jpeg:https://pau.cci.fr/wp-content/uploads/2024/12/icon_cci_Information-creation-reprise-dentreprise-15.jpg
END:VEVENT
END:VCALENDAR