BEGIN:VCALENDAR
VERSION:2.0
PRODID:-//CCI Pau Béarn - ECPv6.15.18//NONSGML v1.0//EN
CALSCALE:GREGORIAN
METHOD:PUBLISH
X-WR-CALNAME:CCI Pau Béarn
X-ORIGINAL-URL:https://pau.cci.fr
X-WR-CALDESC:Évènements pour CCI Pau Béarn
REFRESH-INTERVAL;VALUE=DURATION:PT1H
X-Robots-Tag:noindex
X-PUBLISHED-TTL:PT1H
BEGIN:VTIMEZONE
TZID:Europe/Paris
BEGIN:DAYLIGHT
TZOFFSETFROM:+0100
TZOFFSETTO:+0200
TZNAME:CEST
DTSTART:20240331T010000
END:DAYLIGHT
BEGIN:STANDARD
TZOFFSETFROM:+0200
TZOFFSETTO:+0100
TZNAME:CET
DTSTART:20241027T010000
END:STANDARD
BEGIN:DAYLIGHT
TZOFFSETFROM:+0100
TZOFFSETTO:+0200
TZNAME:CEST
DTSTART:20250330T010000
END:DAYLIGHT
BEGIN:STANDARD
TZOFFSETFROM:+0200
TZOFFSETTO:+0100
TZNAME:CET
DTSTART:20251026T010000
END:STANDARD
BEGIN:DAYLIGHT
TZOFFSETFROM:+0100
TZOFFSETTO:+0200
TZNAME:CEST
DTSTART:20260329T010000
END:DAYLIGHT
BEGIN:STANDARD
TZOFFSETFROM:+0200
TZOFFSETTO:+0100
TZNAME:CET
DTSTART:20261025T010000
END:STANDARD
END:VTIMEZONE
BEGIN:VEVENT
DTSTART;TZID=Europe/Paris:20250602T083000
DTEND;TZID=Europe/Paris:20251211T170000
DTSTAMP:20260422T205456
CREATED:20250318T103226Z
LAST-MODIFIED:20250808T100430Z
UID:10901-1748853000-1765472400@pau.cci.fr
SUMMARY:Piloter et mettre en œuvre votre projet RSE
DESCRIPTION:Intégrez la formation-action « Piloter et mettre en oeuvre votre projet RSE » et réalisez un plan d’actions adapté à la maturité RSE et à la stratégie de votre structure !\nUn parcours en quatre phases\n1 | Découvrir la RSE dans sa structure – Comment évaluer sa maturité ?\n2 demi-journées en intra entreprise : entre le 04/08 et le 19/09/2025\, sur RDV \n2 | Mettre en œuvre et piloter son projet RSE\n3 jours en inter-entreprises : Jeudi 25/09/2025\, 9h-17h30 ; Jeudi 16/10/2025\, 9h-17h30 ; Jeudi 20/11/2025\, 9h-17h30 \n3 | Cas pratique : mettre en œuvre son plan d’actions RSE\n½ journée en intra-entreprise : entre le 24/11/2025 et le 16/01/2026\, sur RDV \n4 | Avancement à M+4 – Mobilisation sur la durée\n½ journée en inter-entreprises : Jeudi 29/01/2026\, 14h-17h30 \nAvantages\n\nBénéficier de la richesse d’un collectif uni autour d’une même volonté de rendre son entreprise durable\nÊtre accompagné pour construire sa feuille de route RSE\nAvoir un interlocuteur unique tout au long de la mise en place du plan d’actions\nUne méthodologie AFNOR reconnue\n\nCoût\nUn cursus à 1 575€ par stagiaire \nDurée\n5 jours (35h) entre le 02/06/25 et le 11/12/25 \n\nEn savoir+\n\n\nNous contacter
URL:https://pau.cci.fr/evenement/formation-rse/
ATTACH;FMTTYPE=image/jpeg:https://pau.cci.fr/wp-content/uploads/2025/03/rse-formation.jpg
END:VEVENT
BEGIN:VEVENT
DTSTART;TZID=Europe/Paris:20250902T090000
DTEND;TZID=Europe/Paris:20250902T090000
DTSTAMP:20260422T205456
CREATED:20250619T143700Z
LAST-MODIFIED:20250709T091424Z
UID:14811-1756803600-1756803600@pau.cci.fr
SUMMARY:Réunion d’information Création-Reprise\, Oloron Sainte-Marie - 2 septembre 2025
DESCRIPTION:Une réunion d’information à la création reprise d’entreprise réalisée en partenariat avec la Chambre de Métiers et d’Artisanat 64 pour découvrir : \n\nla méthodologie pour passer de l’idée au projet\,\nles étapes de la création/reprise d’entreprise\,\nles outils nécessaires pour construire le projet.\n\n\n\n\n\nSuite à votre participation\, vous pourrez bénéficier d’un entretien individuel avec l’un de nos conseillers et mettre en place un accompagnement personnalisé.
URL:https://pau.cci.fr/evenement/reunion-dinformation-creation-reprise-oloron-sainte-marie-2-septembre-2025/
LOCATION:Pépinière d’entreprise\, ZA Lanneretonne\, 13 chemin Ilhasse\, Oloron Sainte-Marie\, 64400\, France
CATEGORIES:RCE
ATTACH;FMTTYPE=image/jpeg:https://pau.cci.fr/wp-content/uploads/2024/12/icon_cci_Information-creation-reprise-dentreprise-15.jpg
END:VEVENT
BEGIN:VEVENT
DTSTART;TZID=Europe/Paris:20250904T090000
DTEND;TZID=Europe/Paris:20250904T090000
DTSTAMP:20260422T205456
CREATED:20250618T081614Z
LAST-MODIFIED:20250709T091252Z
UID:14612-1756976400-1756976400@pau.cci.fr
SUMMARY:Réunion d’information Création-Reprise - Pau - 4 septembre 2025
DESCRIPTION:Les Jeudis de la Création\, une réunion d’information à la création reprise d’entreprise pour découvrir : \n\nla méthodologie pour passer de l’idée au projet\,\nles étapes de la création/reprise d’entreprise\,\nles outils nécessaires pour construire le projet.\n\n\n\n\n\nSuite à votre participation\, vous pourrez bénéficier d’un entretien individuel avec l’un de nos conseillers et mettre en place un accompagnement personnalisé. \n 
URL:https://pau.cci.fr/evenement/reunion-dinformation-creation-reprise-pau-4-septembre-2025/
LOCATION:CCI Pau Béarn\, 21 rue Louis Barthou\, PAU\, 64001\, France
CATEGORIES:RCE
ATTACH;FMTTYPE=image/jpeg:https://pau.cci.fr/wp-content/uploads/2025/02/icon_cci_Information-creation-reprise-dentreprise-16.jpg
END:VEVENT
BEGIN:VEVENT
DTSTART;TZID=Europe/Paris:20250908T083000
DTEND;TZID=Europe/Paris:20250908T173000
DTSTAMP:20260422T205456
CREATED:20250505T135451Z
LAST-MODIFIED:20250709T101139Z
UID:12881-1757320200-1757352600@pau.cci.fr
SUMMARY:Atelier - Etude de marché et business model - 08/09/25
DESCRIPTION:Concrétisez votre projet d’entreprise grâce aux Ateliers Pour Entreprendre.\nQue vous soyez créateur ou repreneur\, appréhendez toutes les facettes de votre étude de marché et de votre business model CANVAS.\nProgramme :\n– adéquation homme-projet\n– analyse de la demande\, de la concurrence et de l’environnement socio-économique\n– cibles de clients\, tarif\, offre de produits ou de services\, emplacement\, communication
URL:https://pau.cci.fr/evenement/etude-de-marche-08-09-25/
LOCATION:CCI Pau Béarn\, 21 rue Louis Barthou\, PAU\, 64001\, France
CATEGORIES:APE
ATTACH;FMTTYPE=image/jpeg:https://pau.cci.fr/wp-content/uploads/2025/02/icon_CCI_PAU__Ateliers-pour-Entreprendre-07-scaled.jpg
END:VEVENT
BEGIN:VEVENT
DTSTART;TZID=Europe/Paris:20250908T083000
DTEND;TZID=Europe/Paris:20250912T170000
DTSTAMP:20260422T205456
CREATED:20250430T151122Z
LAST-MODIFIED:20250709T094515Z
UID:12809-1757320200-1757696400@pau.cci.fr
SUMMARY:Formation 5 jours pour entreprendre - septembre 2025
DESCRIPTION:Les 5 Jours pour Entreprendre\, une formation complète et concrète sur 5 jours\, alliant théorie\, cas pratiques\, et mises en situation.\nAvec la formation 5 Jours pour Entreprendre\, vous apprendrez à bâtir un business model solide\, comprendre les aspects juridiques\, maîtriser les marges et affiner votre communication. Aux côtés d’autres porteurs de projets\, vous développerez les compétences essentielles d’un chef d’entreprise. \n\n\n\n\nTéléchargez le programme complet \n\nEn fonction de votre situation\, une prise en charge financière est possible.\nAvant de réaliser votre inscription\, vérifiez votre Compte Personnel de Formation et contactez la CCI Pau Béarn à l’adresse entreprendre@pau.cci.fr pour toute question. \n\nAvec la formation « 5 jours pour entreprendre – 5JPE : Identifier les points-clés d’une création d’entreprise réussie »\, maîtrisez tous les leviers de la création d’entreprise !
URL:https://pau.cci.fr/evenement/formation-5jpe-septembre-2025/
LOCATION:CCI Pau Béarn\, 21 rue Louis Barthou\, PAU\, 64001\, France
CATEGORIES:5JPE
ATTACH;FMTTYPE=image/jpeg:https://pau.cci.fr/wp-content/uploads/2025/02/BAN_CCI-07.jpg
END:VEVENT
BEGIN:VEVENT
DTSTART;TZID=Europe/Paris:20250909T090000
DTEND;TZID=Europe/Paris:20250909T173000
DTSTAMP:20260422T205456
CREATED:20250505T140023Z
LAST-MODIFIED:20250709T101018Z
UID:12885-1757408400-1757439000@pau.cci.fr
SUMMARY:Atelier - Statuts juridique et social - 09/09/25
DESCRIPTION:Concrétisez votre projet d’entreprise grâce aux Ateliers Pour Entreprendre.\nQue vous soyez créateur ou repreneur\, optez pour la forme juridique la plus adaptée à votre future entreprise.\nProgramme :\n– les statuts juridiques\, les formalités pour s’installer\n– les statuts sociaux et cotisations obligatoires\n– les locaux commerciaux
URL:https://pau.cci.fr/evenement/statuts-250909/
LOCATION:CCI Pau Béarn\, 21 rue Louis Barthou\, PAU\, 64001\, France
CATEGORIES:APE
ATTACH;FMTTYPE=image/jpeg:https://pau.cci.fr/wp-content/uploads/2025/02/icon_CCI_PAU__Ateliers-pour-Entreprendre-07-scaled.jpg
END:VEVENT
BEGIN:VEVENT
DTSTART;TZID=Europe/Paris:20250910T090000
DTEND;TZID=Europe/Paris:20250911T123000
DTSTAMP:20260422T205456
CREATED:20250505T140603Z
LAST-MODIFIED:20250709T100846Z
UID:12889-1757494800-1757593800@pau.cci.fr
SUMMARY:Atelier - Comptes prévisionnels\, business plan\, fiscalité\, aides & financements - 10 et 11/09/25
DESCRIPTION:Concrétisez votre projet d’entreprise grâce aux Ateliers Pour Entreprendre.\nQue vous soyez créateur ou repreneur\, apprenez à gérer la fiscalité de votre entreprise.\nProgramme :\n– compte de résultat\, prévisionnel et soldes intermédiaires de gestion\, seuil de rentabilité\n– plan de financement initial et les aides\n– plan de trésorerie – tableaux de bord\n– business plan
URL:https://pau.cci.fr/evenement/previsionnels-250910/
LOCATION:CCI Pau Béarn\, 21 rue Louis Barthou\, PAU\, 64001\, France
CATEGORIES:APE
ATTACH;FMTTYPE=image/jpeg:https://pau.cci.fr/wp-content/uploads/2025/02/icon_CCI_PAU__Ateliers-pour-Entreprendre-07-scaled.jpg
END:VEVENT
BEGIN:VEVENT
DTSTART;TZID=Europe/Paris:20250911T090000
DTEND;TZID=Europe/Paris:20250911T090000
DTSTAMP:20260422T205456
CREATED:20250618T081855Z
LAST-MODIFIED:20250709T090630Z
UID:14615-1757581200-1757581200@pau.cci.fr
SUMMARY:Réunion d’information Création-Reprise - Pau - 11 septembre 2025
DESCRIPTION:Les Jeudis de la Création\, une réunion d’information à la création reprise d’entreprise pour découvrir : \n\nla méthodologie pour passer de l’idée au projet\,\nles étapes de la création/reprise d’entreprise\,\nles outils nécessaires pour construire le projet.\n\n\n\n\n\nSuite à votre participation\, vous pourrez bénéficier d’un entretien individuel avec l’un de nos conseillers et mettre en place un accompagnement personnalisé. \n 
URL:https://pau.cci.fr/evenement/reunion-dinformation-creation-reprise-pau-11-septembre-2025/
LOCATION:CCI Pau Béarn\, 21 rue Louis Barthou\, PAU\, 64001\, France
CATEGORIES:RCE
ATTACH;FMTTYPE=image/jpeg:https://pau.cci.fr/wp-content/uploads/2025/02/icon_cci_Information-creation-reprise-dentreprise-16.jpg
END:VEVENT
BEGIN:VEVENT
DTSTART;TZID=Europe/Paris:20250912T110000
DTEND;TZID=Europe/Paris:20250912T123000
DTSTAMP:20260422T205456
CREATED:20250715T135100Z
LAST-MODIFIED:20250715T135456Z
UID:15757-1757674800-1757680200@pau.cci.fr
SUMMARY:Permanence expert-comptable - Pau
DESCRIPTION:La CCI Pau Béarn et l’ordre des experts comptables proposent des permanences d’expert-comptable aux entreprises ressortissantes de la CCI Pau Béarn\, déjà enregistrées ou en cours de création.\n\n\nPour demander un RDV\, contactez-nous\n\n\n\n\nNous contacter\n\n\n\n\nCes rendez-vous traiteront des problématiques relatives à l’entreprise (baux commerciaux\, statut juridique…).
URL:https://pau.cci.fr/evenement/permanence-expert-comptable-pau-250912/
LOCATION:CCI Pau Béarn\, 21 rue Louis Barthou\, PAU\, 64001\, France
CATEGORIES:PERM
ATTACH;FMTTYPE=image/png:https://pau.cci.fr/wp-content/uploads/2025/03/Permanence-expert-comptable.png
END:VEVENT
BEGIN:VEVENT
DTSTART;TZID=Europe/Paris:20250916T090000
DTEND;TZID=Europe/Paris:20250916T090000
DTSTAMP:20260422T205456
CREATED:20250618T132113Z
LAST-MODIFIED:20250911T123725Z
UID:14715-1758013200-1758013200@pau.cci.fr
SUMMARY:Réunion d’information Création-Reprise\, Oloron Sainte-Marie - 16 septembre 2025
DESCRIPTION:Une réunion d’information à la création reprise d’entreprise réalisée en partenariat avec la Chambre de Métiers et d’Artisanat 64 pour découvrir : \n\nla méthodologie pour passer de l’idée au projet\,\nles étapes de la création/reprise d’entreprise\,\nles outils nécessaires pour construire le projet.\n\n\n\n\n\nSuite à votre participation\, vous pourrez bénéficier d’un entretien individuel avec l’un de nos conseillers et mettre en place un accompagnement personnalisé.
URL:https://pau.cci.fr/evenement/reunion-dinformation-creation-reprise-oloron-sainte-marie-16-septembre-2025/
LOCATION:Pépinière d’entreprise\, ZA Lanneretonne\, 13 chemin Ilhasse\, Oloron Sainte-Marie\, 64400\, France
CATEGORIES:RCE
ATTACH;FMTTYPE=image/jpeg:https://pau.cci.fr/wp-content/uploads/2024/12/icon_cci_Information-creation-reprise-dentreprise-15.jpg
END:VEVENT
BEGIN:VEVENT
DTSTART;TZID=Europe/Paris:20250918T090000
DTEND;TZID=Europe/Paris:20250918T090000
DTSTAMP:20260422T205456
CREATED:20250618T082306Z
LAST-MODIFIED:20250911T123612Z
UID:14618-1758186000-1758186000@pau.cci.fr
SUMMARY:Réunion d’information Création-Reprise - Pau - 18 septembre 2025
DESCRIPTION:Les Jeudis de la Création\, une réunion d’information à la création reprise d’entreprise pour découvrir : \n\nla méthodologie pour passer de l’idée au projet\,\nles étapes de la création/reprise d’entreprise\,\nles outils nécessaires pour construire le projet.\n\n\n\n\n\nSuite à votre participation\, vous pourrez bénéficier d’un entretien individuel avec l’un de nos conseillers et mettre en place un accompagnement personnalisé. \n 
URL:https://pau.cci.fr/evenement/reunion-dinformation-creation-reprise-pau-18-septembre-2025/
LOCATION:CCI Pau Béarn\, 21 rue Louis Barthou\, PAU\, 64001\, France
CATEGORIES:RCE
ATTACH;FMTTYPE=image/jpeg:https://pau.cci.fr/wp-content/uploads/2025/02/icon_cci_Information-creation-reprise-dentreprise-16.jpg
END:VEVENT
BEGIN:VEVENT
DTSTART;TZID=Europe/Paris:20250918T140000
DTEND;TZID=Europe/Paris:20250918T170000
DTSTAMP:20260422T205456
CREATED:20250715T124136Z
LAST-MODIFIED:20250715T124734Z
UID:15728-1758204000-1758214800@pau.cci.fr
SUMMARY:Atelier : Créer sa micro entreprise - 18/09/25
DESCRIPTION:Vous envisagez de créer une micro entreprise\, vous souhaitez savoir comment fonctionne le statut de la micro-entreprise\, vous souhaitez lancer votre activité sereinement en maitrisant tous les avantages et les inconvénients de ce statut\, vous voulez être informé sur vos obligations fiscales et comptables.\nNous vous proposons cet atelier spécifique pour : \n\nbien comprendre ce statut (atouts et contraintes)\nacquérir toutes les connaissances juridiques\, sociales et fiscales de ce statut\navoir des informations sur la protection sociale des indépendants\nconnaitre ou réaliser la démarche pour l’immatriculation sur le guichet unique de l’INPI\nbénéficier des livrables concernant le statut mais aussi ceux pour développer votre activité
URL:https://pau.cci.fr/evenement/atelier-creer-sa-micro-entreprise-250918/
LOCATION:CCI Pau Béarn\, 21 rue Louis Barthou\, PAU\, 64001\, France
CATEGORIES:AME
ATTACH;FMTTYPE=image/jpeg:https://pau.cci.fr/wp-content/uploads/2025/02/iconcci_V2_creer-sa-micro-entreprise-scaled.jpg
END:VEVENT
BEGIN:VEVENT
DTSTART;TZID=Europe/Paris:20250925T090000
DTEND;TZID=Europe/Paris:20250925T090000
DTSTAMP:20260422T205456
CREATED:20250618T080549Z
LAST-MODIFIED:20250911T123502Z
UID:14609-1758790800-1758790800@pau.cci.fr
SUMMARY:Réunion d’information Création-Reprise\, visioconférence - 25 septembre 2025
DESCRIPTION:Les Jeudis de la Création\, une réunion d’information à la création reprise d’entreprise pour découvrir : \n\nla méthodologie pour passer de l’idée au projet\,\nles étapes de la création/reprise d’entreprise\,\nles outils nécessaires pour construire le projet.\n\n\n\n\n\nSuite à votre participation\, vous pourrez bénéficier d’un entretien individuel avec l’un de nos conseillers et mettre en place un accompagnement personnalisé. \n\n 
URL:https://pau.cci.fr/evenement/reunion-dinformation-creation-reprise-visioconference-25-septembre-2025/
LOCATION:visioconférence
CATEGORIES:RCE
ATTACH;FMTTYPE=image/jpeg:https://pau.cci.fr/wp-content/uploads/2025/02/icon_cci_Information-creation-reprise-dentreprise-16.jpg
END:VEVENT
BEGIN:VEVENT
DTSTART;TZID=Europe/Paris:20250925T173000
DTEND;TZID=Europe/Paris:20250925T190000
DTSTAMP:20260422T205456
CREATED:20250715T101500Z
LAST-MODIFIED:20250715T102153Z
UID:15722-1758821400-1758826800@pau.cci.fr
SUMMARY:Facturation électronique : Tout le monde y trouve son compte !
DESCRIPTION:A partir de 2026\, la facturation électronique deviendra obligatoire pour toutes les entreprises françaises assujetties à la TVA. Cette réforme va transformer vos habitudes de gestion tout en vous aidant dans votre organisation.\nPour vous aider à anticiper les changements\, la Direction Générale des Finances Publiques vous propose un temps d’échange \njeudi 25 septembre 2025\, de 17h30 à 19h\, \nà la CCI Pau Béarn\, 21 rue Louis Barthou\, à Pau \nAu programme :\n🔍 Présentation claire des nouvelles obligations et des avantages concrets de cette évolution\n👥 Échange avec les experts de la Direction de Projet Facturation Électronique (DGFIP). \n  \nLien d’inscription
URL:https://pau.cci.fr/evenement/facturation-electronique/
LOCATION:CCI Pau Béarn\, 21 rue Louis Barthou\, PAU\, 64001\, France
ATTACH;FMTTYPE=image/jpeg:https://pau.cci.fr/wp-content/uploads/2025/07/facturation-electronique-agenda.jpg
END:VEVENT
BEGIN:VEVENT
DTSTART;TZID=Europe/Paris:20250929T160000
DTEND;TZID=Europe/Paris:20250929T180000
DTSTAMP:20260422T205456
CREATED:20250915T123935Z
LAST-MODIFIED:20250915T124129Z
UID:18443-1759161600-1759168800@pau.cci.fr
SUMMARY:Challenge de la mobilité 2025 - Remise des prix
DESCRIPTION:Au mois de juin dernier\, les établissements du territoire Pau Béarn Mobilité ont participé au Challenge de la mobilité. Aujourd’hui\, il est temps de connaitre les résultats !\nRendez-vous mardi 29 septembre 2025\nà Pau\, au Pavillon des Arts\, de 16h à 18h \nAu programme :\n> 16h – Découverte du palmarès 2025\n> 17h – Exploration des coulisses du funiculaire \n  \nINSCRIPTION \nAller au travail autrement\, un moment qui compte vraiment !
URL:https://pau.cci.fr/evenement/challenge-de-la-mobilite-prix/
LOCATION:Pavillon des Arts\, 1 boulevard des Pyrénées\, Pau\, 64000
ATTACH;FMTTYPE=image/png:https://pau.cci.fr/wp-content/uploads/2025/09/challenge-remisedesprix-agenda.png
END:VEVENT
BEGIN:VEVENT
DTSTART;TZID=Europe/Paris:20250930T173000
DTEND;TZID=Europe/Paris:20250930T193000
DTSTAMP:20260422T205456
CREATED:20250912T071804Z
LAST-MODIFIED:20250926T085417Z
UID:16925-1759253400-1759260600@pau.cci.fr
SUMMARY:Point de conjoncture en Nouvelle-Aquitaine et Béarn
DESCRIPTION:Didier LAPORTE\, président de la Chambre de Commerce et d’Industrie Pau Béarn\, et Frédéric CABARROU\, directeur départemental de la Banque de France\, ont le plaisir de vous inviter à la conférence « Les perspectives de l’économie en Nouvelle-Aquitaine et dans le Béarn ».\nAu programme :\n• Présentation des enquêtes biannuelles\n• Questions/Réponses\n• Témoignages chefs d’entreprise \nInscription close\n➔ La conférence sera diffusée en direct en webinaire.\nSi vous choisissez l’option « webinaire » lors de l’inscription\, le lien de connexion vous sera transmis la veille de la conférence.
URL:https://pau.cci.fr/evenement/conjoncture-bearn-250930/
LOCATION:CCI Pau Béarn\, 21 rue Louis Barthou\, PAU\, 64001\, France
ATTACH;FMTTYPE=image/png:https://pau.cci.fr/wp-content/uploads/2025/08/CCI-pointdeconjoncture-250930_agenda.png
END:VEVENT
END:VCALENDAR