BEGIN:VCALENDAR
VERSION:2.0
PRODID:-//CCI Pau Béarn - ECPv6.15.18//NONSGML v1.0//EN
CALSCALE:GREGORIAN
METHOD:PUBLISH
X-WR-CALNAME:CCI Pau Béarn
X-ORIGINAL-URL:https://pau.cci.fr
X-WR-CALDESC:Évènements pour CCI Pau Béarn
REFRESH-INTERVAL;VALUE=DURATION:PT1H
X-Robots-Tag:noindex
X-PUBLISHED-TTL:PT1H
BEGIN:VTIMEZONE
TZID:Europe/Paris
BEGIN:DAYLIGHT
TZOFFSETFROM:+0100
TZOFFSETTO:+0200
TZNAME:CEST
DTSTART:20240331T010000
END:DAYLIGHT
BEGIN:STANDARD
TZOFFSETFROM:+0200
TZOFFSETTO:+0100
TZNAME:CET
DTSTART:20241027T010000
END:STANDARD
BEGIN:DAYLIGHT
TZOFFSETFROM:+0100
TZOFFSETTO:+0200
TZNAME:CEST
DTSTART:20250330T010000
END:DAYLIGHT
BEGIN:STANDARD
TZOFFSETFROM:+0200
TZOFFSETTO:+0100
TZNAME:CET
DTSTART:20251026T010000
END:STANDARD
BEGIN:DAYLIGHT
TZOFFSETFROM:+0100
TZOFFSETTO:+0200
TZNAME:CEST
DTSTART:20260329T010000
END:DAYLIGHT
BEGIN:STANDARD
TZOFFSETFROM:+0200
TZOFFSETTO:+0100
TZNAME:CET
DTSTART:20261025T010000
END:STANDARD
END:VTIMEZONE
BEGIN:VEVENT
DTSTART;TZID=Europe/Paris:20250602T083000
DTEND;TZID=Europe/Paris:20251211T170000
DTSTAMP:20260422T190720
CREATED:20250318T103226Z
LAST-MODIFIED:20250808T100430Z
UID:10901-1748853000-1765472400@pau.cci.fr
SUMMARY:Piloter et mettre en œuvre votre projet RSE
DESCRIPTION:Intégrez la formation-action « Piloter et mettre en oeuvre votre projet RSE » et réalisez un plan d’actions adapté à la maturité RSE et à la stratégie de votre structure !\nUn parcours en quatre phases\n1 | Découvrir la RSE dans sa structure – Comment évaluer sa maturité ?\n2 demi-journées en intra entreprise : entre le 04/08 et le 19/09/2025\, sur RDV \n2 | Mettre en œuvre et piloter son projet RSE\n3 jours en inter-entreprises : Jeudi 25/09/2025\, 9h-17h30 ; Jeudi 16/10/2025\, 9h-17h30 ; Jeudi 20/11/2025\, 9h-17h30 \n3 | Cas pratique : mettre en œuvre son plan d’actions RSE\n½ journée en intra-entreprise : entre le 24/11/2025 et le 16/01/2026\, sur RDV \n4 | Avancement à M+4 – Mobilisation sur la durée\n½ journée en inter-entreprises : Jeudi 29/01/2026\, 14h-17h30 \nAvantages\n\nBénéficier de la richesse d’un collectif uni autour d’une même volonté de rendre son entreprise durable\nÊtre accompagné pour construire sa feuille de route RSE\nAvoir un interlocuteur unique tout au long de la mise en place du plan d’actions\nUne méthodologie AFNOR reconnue\n\nCoût\nUn cursus à 1 575€ par stagiaire \nDurée\n5 jours (35h) entre le 02/06/25 et le 11/12/25 \n\nEn savoir+\n\n\nNous contacter
URL:https://pau.cci.fr/evenement/formation-rse/
ATTACH;FMTTYPE=image/jpeg:https://pau.cci.fr/wp-content/uploads/2025/03/rse-formation.jpg
END:VEVENT
BEGIN:VEVENT
DTSTART;TZID=Europe/Paris:20251002T083000
DTEND;TZID=Europe/Paris:20251002T103000
DTSTAMP:20260422T190720
CREATED:20250716T095444Z
LAST-MODIFIED:20250918T081134Z
UID:15860-1759393800-1759401000@pau.cci.fr
SUMMARY:Bilan Carbone® : Réduisez votre empreinte\, augmentez votre impact positif
DESCRIPTION:Réduire votre empreinte carbone\, c’est anticiper les évolutions réglementaires\, répondre aux attentes de vos clients\, agir sur les enjeux de santé et renforcer la performance durable de votre entreprise.Le premier pas ? Réaliser votre Bilan Carbone®.\nLa CCI Pau Béarn et Harmonie Mutuelle vous expliquent tout !\nAu programme du 2 octobre 2025 :✅ La décarbonation\, de quoi parle-t-on ?✅ Des outils progressifs et adaptés à votre besoin✅ Le bilan carbone® et la méthodologie✅ Retours d’expérience :> le bilan carbone®\, tel que vécu par Pascal Belesta et Cécile Poux chez DEUMIER TP (Groupe Laurière)> le témoignage vidéo de l’entreprise SMAIO\, engagée dans une démarche de décarbonation> le retour d’expérience d’Harmonie Mutuelle sur son bilan carbone® actualisé depuis 2019 \n					Chargement…
URL:https://pau.cci.fr/evenement/bilan-carbone/
LOCATION:CCI Pau Béarn\, 21 rue Louis Barthou\, PAU\, 64001\, France
ATTACH;FMTTYPE=image/jpeg:https://pau.cci.fr/wp-content/uploads/2025/07/bilancarbone_agendaCCIPB.jpg
END:VEVENT
BEGIN:VEVENT
DTSTART;TZID=Europe/Paris:20251002T090000
DTEND;TZID=Europe/Paris:20251002T090000
DTSTAMP:20260422T190720
CREATED:20250618T083521Z
LAST-MODIFIED:20250911T122455Z
UID:14624-1759395600-1759395600@pau.cci.fr
SUMMARY:Réunion d’information Création-Reprise - Pau - 2 octobre 2025
DESCRIPTION:Les Jeudis de la Création\, une réunion d’information à la création reprise d’entreprise pour découvrir : \n\nla méthodologie pour passer de l’idée au projet\,\nles étapes de la création/reprise d’entreprise\,\nles outils nécessaires pour construire le projet.\n\n\n\n\n\nSuite à votre participation\, vous pourrez bénéficier d’un entretien individuel avec l’un de nos conseillers et mettre en place un accompagnement personnalisé. \n 
URL:https://pau.cci.fr/evenement/reunion-dinformation-creation-reprise-pau-2-octobre-2025/
LOCATION:CCI Pau Béarn\, 21 rue Louis Barthou\, PAU\, 64001\, France
CATEGORIES:RCE
ATTACH;FMTTYPE=image/jpeg:https://pau.cci.fr/wp-content/uploads/2025/02/icon_cci_Information-creation-reprise-dentreprise-16.jpg
END:VEVENT
BEGIN:VEVENT
DTSTART;TZID=Europe/Paris:20251007T090000
DTEND;TZID=Europe/Paris:20251007T090000
DTSTAMP:20260422T190720
CREATED:20250619T144702Z
LAST-MODIFIED:20250911T122229Z
UID:14817-1759827600-1759827600@pau.cci.fr
SUMMARY:Réunion d’information Création-Reprise\, Oloron Sainte-Marie - 7 octobre 2025
DESCRIPTION:Une réunion d’information à la création reprise d’entreprise réalisée en partenariat avec la Chambre de Métiers et d’Artisanat 64 pour découvrir : \n\nla méthodologie pour passer de l’idée au projet\,\nles étapes de la création/reprise d’entreprise\,\nles outils nécessaires pour construire le projet.\n\n\n\n\n\nSuite à votre participation\, vous pourrez bénéficier d’un entretien individuel avec l’un de nos conseillers et mettre en place un accompagnement personnalisé.
URL:https://pau.cci.fr/evenement/reunion-dinformation-creation-reprise-oloron-sainte-marie-7-octobre-2025/
LOCATION:Pépinière d’entreprise\, ZA Lanneretonne\, 13 chemin Ilhasse\, Oloron Sainte-Marie\, 64400\, France
CATEGORIES:RCE
ATTACH;FMTTYPE=image/jpeg:https://pau.cci.fr/wp-content/uploads/2024/12/icon_cci_Information-creation-reprise-dentreprise-15.jpg
END:VEVENT
BEGIN:VEVENT
DTSTART;TZID=Europe/Paris:20251009T090000
DTEND;TZID=Europe/Paris:20251009T090000
DTSTAMP:20260422T190720
CREATED:20250618T083946Z
LAST-MODIFIED:20250911T122104Z
UID:14627-1760000400-1760000400@pau.cci.fr
SUMMARY:Réunion d’information Création-Reprise - Pau - 9 octobre 2025
DESCRIPTION:Les Jeudis de la Création\, une réunion d’information à la création reprise d’entreprise pour découvrir : \n\nla méthodologie pour passer de l’idée au projet\,\nles étapes de la création/reprise d’entreprise\,\nles outils nécessaires pour construire le projet.\n\n\n\n\n\nSuite à votre participation\, vous pourrez bénéficier d’un entretien individuel avec l’un de nos conseillers et mettre en place un accompagnement personnalisé. \n 
URL:https://pau.cci.fr/evenement/reunion-dinformation-creation-reprise-pau-9-octobre-2025/
LOCATION:CCI Pau Béarn\, 21 rue Louis Barthou\, PAU\, 64001\, France
CATEGORIES:RCE
ATTACH;FMTTYPE=image/jpeg:https://pau.cci.fr/wp-content/uploads/2025/02/icon_cci_Information-creation-reprise-dentreprise-16.jpg
END:VEVENT
BEGIN:VEVENT
DTSTART;TZID=Europe/Paris:20251013T083000
DTEND;TZID=Europe/Paris:20251013T173000
DTSTAMP:20260422T190720
CREATED:20250505T141108Z
LAST-MODIFIED:20250709T100736Z
UID:12893-1760344200-1760376600@pau.cci.fr
SUMMARY:Atelier - Etude de marché et business model - 13/10/25
DESCRIPTION:Concrétisez votre projet d’entreprise grâce aux Ateliers Pour Entreprendre.\nQue vous soyez créateur ou repreneur\, appréhendez toutes les facettes de votre étude de marché et de votre business model CANVAS.\nProgramme :\n– adéquation homme-projet\n– analyse de la demande\, de la concurrence et de l’environnement socio-économique\n– cibles de clients\, tarif\, offre de produits ou de services\, emplacement\, communication
URL:https://pau.cci.fr/evenement/etude-de-marche-251013/
LOCATION:CCI Pau Béarn\, 21 rue Louis Barthou\, PAU\, 64001\, France
CATEGORIES:APE
ATTACH;FMTTYPE=image/jpeg:https://pau.cci.fr/wp-content/uploads/2025/02/icon_CCI_PAU__Ateliers-pour-Entreprendre-07-scaled.jpg
END:VEVENT
BEGIN:VEVENT
DTSTART;TZID=Europe/Paris:20251013T083000
DTEND;TZID=Europe/Paris:20251017T170000
DTSTAMP:20260422T190720
CREATED:20250430T151636Z
LAST-MODIFIED:20250709T094409Z
UID:12811-1760344200-1760720400@pau.cci.fr
SUMMARY:Formation 5 jours pour entreprendre - octobre 2025
DESCRIPTION:Les 5 Jours pour Entreprendre\, une formation complète et concrète sur 5 jours\, alliant théorie\, cas pratiques\, et mises en situation.\nAvec la formation 5 Jours pour Entreprendre\, vous apprendrez à bâtir un business model solide\, comprendre les aspects juridiques\, maîtriser les marges et affiner votre communication. Aux côtés d’autres porteurs de projets\, vous développerez les compétences essentielles d’un chef d’entreprise. \n\n\n\n\nTéléchargez le programme complet \n\nEn fonction de votre situation\, une prise en charge financière est possible.\nAvant de réaliser votre inscription\, vérifiez votre Compte Personnel de Formation et contactez la CCI Pau Béarn à l’adresse entreprendre@pau.cci.fr pour toute question. \n\nAvec la formation « 5 jours pour entreprendre – 5JPE : Identifier les points-clés d’une création d’entreprise réussie »\, maîtrisez tous les leviers de la création d’entreprise !
URL:https://pau.cci.fr/evenement/formation-5jpe-octobre-2025/
LOCATION:CCI Pau Béarn\, 21 rue Louis Barthou\, PAU\, 64001\, France
CATEGORIES:5JPE
ATTACH;FMTTYPE=image/jpeg:https://pau.cci.fr/wp-content/uploads/2025/02/BAN_CCI-07.jpg
END:VEVENT
BEGIN:VEVENT
DTSTART;TZID=Europe/Paris:20251014T090000
DTEND;TZID=Europe/Paris:20251014T173000
DTSTAMP:20260422T190720
CREATED:20250505T142923Z
LAST-MODIFIED:20250709T100432Z
UID:12897-1760432400-1760463000@pau.cci.fr
SUMMARY:Atelier - Statuts juridique et social - 14/10/25
DESCRIPTION:Concrétisez votre projet d’entreprise grâce aux Ateliers Pour Entreprendre.\nQue vous soyez créateur ou repreneur\, optez pour la forme juridique la plus adaptée à votre future entreprise.\nProgramme :\n– les statuts juridiques\, les formalités pour s’installer\n– les statuts sociaux et cotisations obligatoires\n– les locaux commerciaux
URL:https://pau.cci.fr/evenement/statuts-251014/
LOCATION:CCI Pau Béarn\, 21 rue Louis Barthou\, PAU\, 64001\, France
CATEGORIES:APE
ATTACH;FMTTYPE=image/jpeg:https://pau.cci.fr/wp-content/uploads/2025/02/icon_CCI_PAU__Ateliers-pour-Entreprendre-07-scaled.jpg
END:VEVENT
BEGIN:VEVENT
DTSTART;TZID=Europe/Paris:20251015T090000
DTEND;TZID=Europe/Paris:20251016T123000
DTSTAMP:20260422T190720
CREATED:20250505T144027Z
LAST-MODIFIED:20250709T100340Z
UID:12901-1760518800-1760617800@pau.cci.fr
SUMMARY:Atelier - Comptes prévisionnels\, business plan\, fiscalité\, aides & financements - 15 et 16/10/25
DESCRIPTION:Concrétisez votre projet d’entreprise grâce aux Ateliers Pour Entreprendre.\nQue vous soyez créateur ou repreneur\, apprenez à gérer la fiscalité de votre entreprise.\nProgramme :\n– compte de résultat\, prévisionnel et soldes intermédiaires de gestion\, seuil de rentabilité\n– plan de financement initial et les aides\n– plan de trésorerie – tableaux de bord\n– business plan
URL:https://pau.cci.fr/evenement/previsionnels-251015/
LOCATION:CCI Pau Béarn\, 21 rue Louis Barthou\, PAU\, 64001\, France
CATEGORIES:APE
ATTACH;FMTTYPE=image/jpeg:https://pau.cci.fr/wp-content/uploads/2025/02/icon_CCI_PAU__Ateliers-pour-Entreprendre-07-scaled.jpg
END:VEVENT
BEGIN:VEVENT
DTSTART;TZID=Europe/Paris:20251016T090000
DTEND;TZID=Europe/Paris:20251016T090000
DTSTAMP:20260422T190720
CREATED:20250618T085029Z
LAST-MODIFIED:20250911T121932Z
UID:14636-1760605200-1760605200@pau.cci.fr
SUMMARY:Réunion d’information Création-Reprise - Pau - 16 octobre 2025
DESCRIPTION:Les Jeudis de la Création\, une réunion d’information à la création reprise d’entreprise pour découvrir : \n\nla méthodologie pour passer de l’idée au projet\,\nles étapes de la création/reprise d’entreprise\,\nles outils nécessaires pour construire le projet.\n\n\n\n\n\nSuite à votre participation\, vous pourrez bénéficier d’un entretien individuel avec l’un de nos conseillers et mettre en place un accompagnement personnalisé. \n 
URL:https://pau.cci.fr/evenement/reunion-dinformation-creation-reprise-pau-16-octobre-2025/
LOCATION:CCI Pau Béarn\, 21 rue Louis Barthou\, PAU\, 64001\, France
CATEGORIES:RCE
ATTACH;FMTTYPE=image/jpeg:https://pau.cci.fr/wp-content/uploads/2025/02/icon_cci_Information-creation-reprise-dentreprise-16.jpg
END:VEVENT
BEGIN:VEVENT
DTSTART;TZID=Europe/Paris:20251016T093000
DTEND;TZID=Europe/Paris:20251016T123000
DTSTAMP:20260422T190721
CREATED:20250730T084504Z
LAST-MODIFIED:20250918T084346Z
UID:16377-1760607000-1760617800@pau.cci.fr
SUMMARY:CyberDiag
DESCRIPTION:Faites vérifier gratuitement la sécurité du système informatique de votre entreprise par des experts en cybersécurité\nJeudi 16 octobre 2025 à l’éklore-ed Sport Business (Bizanos).\nRendez-vous gratuit de 90mn avec un expert | 2 créneaux sont proposés : 9h30 ou 11h.Lors du rendez-vous\, la présence du chef d’entreprise et celle du responsable informatique (ou prestataire) sont obligatoires. \n  \nPlaces limitées – Un conseiller vous recontactera pour choisir votre créneau. \n					Chargement…\n																														 \nCyberDiag\, un événement organisé par le Centre de Ressource Cyber Pau Béarn
URL:https://pau.cci.fr/evenement/cyberdiag/
LOCATION:éklore-ed Sport Business\, 7JQQ+JQ Bizanos\, Bizanos\, 64320\, France
ATTACH;FMTTYPE=image/jpeg:https://pau.cci.fr/wp-content/uploads/2025/07/CyberDiag_agenda.jpg
END:VEVENT
BEGIN:VEVENT
DTSTART;TZID=Europe/Paris:20251017T110000
DTEND;TZID=Europe/Paris:20251017T123000
DTSTAMP:20260422T190721
CREATED:20250715T135356Z
LAST-MODIFIED:20250715T135356Z
UID:15759-1760698800-1760704200@pau.cci.fr
SUMMARY:Permanence expert-comptable - Pau
DESCRIPTION:La CCI Pau Béarn et l’ordre des experts comptables proposent des permanences d’expert-comptable aux entreprises ressortissantes de la CCI Pau Béarn\, déjà enregistrées ou en cours de création.\n\n\nPour demander un RDV\, contactez-nous\n\n\n\n\nNous contacter\n\n\n\n\nCes rendez-vous traiteront des problématiques relatives à l’entreprise (baux commerciaux\, statut juridique…).
URL:https://pau.cci.fr/evenement/permanence-expert-comptable-pau-251017/
LOCATION:CCI Pau Béarn\, 21 rue Louis Barthou\, PAU\, 64001\, France
CATEGORIES:PERM
ATTACH;FMTTYPE=image/png:https://pau.cci.fr/wp-content/uploads/2025/03/Permanence-expert-comptable.png
END:VEVENT
BEGIN:VEVENT
DTSTART;TZID=Europe/Paris:20251020T140000
DTEND;TZID=Europe/Paris:20251020T180000
DTSTAMP:20260422T190721
CREATED:20250925T123024Z
LAST-MODIFIED:20251013T132203Z
UID:18807-1760968800-1760983200@pau.cci.fr
SUMMARY:B.SHOP - Osez la Franchise !
DESCRIPTION:Au programme du lundi 20 octobre 2025 : \n\n14h-18h00 | Rendez-vous avec des franchiseurs souhaitant investir sur le territoire :\nBAGELSTEIN\, CUISINE PLAISIR\, DDS DISTRIBUTION\, EUREKA\, HEYTENS\, MILLET\, L’ONGLERIE\, PERENE\, POMME DE PAIN\, PROGRESSIUM\n\n\n15h30-16h30 | Table-ronde\n> « La Franchise\, pourquoi pas vous ? »\nEn présence de : BAGELSTEIN\, EDEN PARK\, L’ONGLERIE\n> « S’implanter à Pau »\nInterventions de la Mairie de Pau et de la CCI Pau Béarn\n\n \nSUR INSCRIPTION 👇\nChargement…
URL:https://pau.cci.fr/evenement/osez-la-franchise/
LOCATION:CCI Pau Béarn\, 21 rue Louis Barthou\, PAU\, 64001\, France
ATTACH;FMTTYPE=image/jpeg:https://pau.cci.fr/wp-content/uploads/2025/09/OSEZ-LA-FRANCHISE-bandeau.jpg
ORGANIZER;CN="CCI Pau B%C3%A9arn - Commerce":MAILTO:commerce@pau.cci.fr
END:VEVENT
BEGIN:VEVENT
DTSTART;TZID=Europe/Paris:20251020T170000
DTEND;TZID=Europe/Paris:20251020T183000
DTSTAMP:20260422T190721
CREATED:20250925T130320Z
LAST-MODIFIED:20251028T152041Z
UID:18820-1760979600-1760985000@pau.cci.fr
SUMMARY:B.SHOP - Conférence "Commerce de demain & Intelligence artificielle"
DESCRIPTION:Les enjeux du commerce de demain | CCI Pau Béarn\n\n\nGoogle : Comment automatiser ma relation client avec l’intelligence artificielle\n\n\nL’IA : retour d’expérience de la photographe Juline Armand
URL:https://pau.cci.fr/evenement/b-shop-conference/
LOCATION:CCI Pau Béarn\, 21 rue Louis Barthou\, PAU\, 64001\, France
ATTACH;FMTTYPE=image/png:https://pau.cci.fr/wp-content/uploads/2025/09/B.SHOP-2025-Conference-251020.png
ORGANIZER;CN="CCI Pau B%C3%A9arn - Commerce":MAILTO:commerce@pau.cci.fr
END:VEVENT
BEGIN:VEVENT
DTSTART;TZID=Europe/Paris:20251020T183000
DTEND;TZID=Europe/Paris:20251020T200000
DTSTAMP:20260422T190721
CREATED:20250617T090239Z
LAST-MODIFIED:20251028T152339Z
UID:14548-1760985000-1760990400@pau.cci.fr
SUMMARY:B.SHOP - Les Trophées du Commerce
DESCRIPTION:Depuis 2013\, la CCI Pau Béarn propose aux commerçants béarnais et aux associations de commerçants de mettre en valeur leur établissement\, leur travail\, leurs idées en concourant aux Trophées du Commerce.\nLe principe est simple : \n➔ Le commerçant choisit sa catégorie\, remplit le dossier de candidature et le renvoi à la CCI [commerce@pau.cci.fr] avant le 31 août 2025.\n➔ Un jury composé de partenaires de la CCI se réunira le 25 septembre pour désigner les nommés.\n➔ Les gagnants par catégorie seront révélés le 20 octobre à l’occasion de l’événement B.SHOP lors de la soirée des Trophées. \n  \nLes catégories :\n🏆Entrepreneuriat\nLe prix récompense les commerces offrant de belles perspectives de croissance\, que ce soit dans le cadre d’une création\, d’une « jeune pousse »\, d’une reprise\, d’un nouveau développement commercial\, de l’apprentissage\, de la formation ou du développement du personnel\n> sous-catégories par taille de commune : Ville de plus de 80 000 habitants – Ville de plus de 10 000 habitants – Ville de plus de 5000 habitants – Commune de moins de 3000 habitants \n🏆Innovation\nLe prix récompense les commerces proposant des techniques de vente\, un concept commercial\, des services destinés aux clients ou des procédures internes (fabrication des produits\, management\, services clients) porteuses d’innovation notamment commerciale\, technologique ou sociale et/ou d’originalité \n🏆Développement durable\nLe prix récompense les commerces ou services pour lesquels la transition écologique et/ou l’économie sociale et solidaire sont des leviers de développement économique et qui intègrent dans leurs opérations et leur stratégie les préoccupations sociales et environnementales \n🏆Qualité\nLe prix récompense les commerces ou services qui prennent particulièrement soin de la qualité de leur accueil client\, du design de leur boutique ou toute autre initiative au service d’une meilleure expérience client \n🏆Performance Collective\nLe prix récompense Associations de Commerçants ou Offices de Commerces du Béarn\, ce prix vise à saluer leur performance en matière d’animation commerciale \n 
URL:https://pau.cci.fr/evenement/trophees-commerce/
LOCATION:CCI Pau Béarn\, 21 rue Louis Barthou\, PAU\, 64001\, France
ATTACH;FMTTYPE=image/png:https://pau.cci.fr/wp-content/uploads/2025/06/Les-Trophees-du-Commerce-2025.png
ORGANIZER;CN="CCI Pau B%C3%A9arn - Commerce":MAILTO:commerce@pau.cci.fr
END:VEVENT
BEGIN:VEVENT
DTSTART;TZID=Europe/Paris:20251023T090000
DTEND;TZID=Europe/Paris:20251023T090000
DTSTAMP:20260422T190721
CREATED:20250618T084527Z
LAST-MODIFIED:20250911T091322Z
UID:14630-1761210000-1761210000@pau.cci.fr
SUMMARY:Réunion d’information Création-Reprise - Pau - 23 octobre 2025
DESCRIPTION:Les Jeudis de la Création\, une réunion d’information à la création reprise d’entreprise pour découvrir : \n\nla méthodologie pour passer de l’idée au projet\,\nles étapes de la création/reprise d’entreprise\,\nles outils nécessaires pour construire le projet.\n\n\n\n\n\nSuite à votre participation\, vous pourrez bénéficier d’un entretien individuel avec l’un de nos conseillers et mettre en place un accompagnement personnalisé. \n 
URL:https://pau.cci.fr/evenement/reunion-dinformation-creation-reprise-pau-23-octobre-2025/
LOCATION:CCI Pau Béarn\, 21 rue Louis Barthou\, PAU\, 64001\, France
CATEGORIES:RCE
ATTACH;FMTTYPE=image/jpeg:https://pau.cci.fr/wp-content/uploads/2025/02/icon_cci_Information-creation-reprise-dentreprise-16.jpg
END:VEVENT
BEGIN:VEVENT
DTSTART;TZID=Europe/Paris:20251023T140000
DTEND;TZID=Europe/Paris:20251023T170000
DTSTAMP:20260422T190721
CREATED:20250715T125257Z
LAST-MODIFIED:20250715T125257Z
UID:15735-1761228000-1761238800@pau.cci.fr
SUMMARY:Atelier : Créer sa micro entreprise - 23/10/25
DESCRIPTION:Vous envisagez de créer une micro entreprise\, vous souhaitez savoir comment fonctionne le statut de la micro-entreprise\, vous souhaitez lancer votre activité sereinement en maitrisant tous les avantages et les inconvénients de ce statut\, vous voulez être informé sur vos obligations fiscales et comptables.\nNous vous proposons cet atelier spécifique pour : \n\nbien comprendre ce statut (atouts et contraintes)\nacquérir toutes les connaissances juridiques\, sociales et fiscales de ce statut\navoir des informations sur la protection sociale des indépendants\nconnaitre ou réaliser la démarche pour l’immatriculation sur le guichet unique de l’INPI\nbénéficier des livrables concernant le statut mais aussi ceux pour développer votre activité
URL:https://pau.cci.fr/evenement/atelier-creer-sa-micro-entreprise-251023/
LOCATION:CCI Pau Béarn\, 21 rue Louis Barthou\, PAU\, 64001\, France
CATEGORIES:AME
ATTACH;FMTTYPE=image/jpeg:https://pau.cci.fr/wp-content/uploads/2025/02/iconcci_V2_creer-sa-micro-entreprise-scaled.jpg
END:VEVENT
BEGIN:VEVENT
DTSTART;TZID=Europe/Paris:20251030T090000
DTEND;TZID=Europe/Paris:20251030T090000
DTSTAMP:20260422T190721
CREATED:20250618T082745Z
LAST-MODIFIED:20250911T091212Z
UID:14621-1761814800-1761814800@pau.cci.fr
SUMMARY:Réunion d’information Création-Reprise\, visioconférence - 30 octobre 2025
DESCRIPTION:Les Jeudis de la Création\, une réunion d’information à la création reprise d’entreprise pour découvrir : \n\nla méthodologie pour passer de l’idée au projet\,\nles étapes de la création/reprise d’entreprise\,\nles outils nécessaires pour construire le projet.\n\n\n\n\n\nSuite à votre participation\, vous pourrez bénéficier d’un entretien individuel avec l’un de nos conseillers et mettre en place un accompagnement personnalisé. \n\n 
URL:https://pau.cci.fr/evenement/reunion-dinformation-creation-reprise-visioconference-30-octobre-2025/
LOCATION:visioconférence
CATEGORIES:RCE
ATTACH;FMTTYPE=image/jpeg:https://pau.cci.fr/wp-content/uploads/2025/02/icon_cci_Information-creation-reprise-dentreprise-16.jpg
END:VEVENT
END:VCALENDAR