BEGIN:VCALENDAR
VERSION:2.0
PRODID:-//CCI Pau Béarn - ECPv6.15.18//NONSGML v1.0//EN
CALSCALE:GREGORIAN
METHOD:PUBLISH
X-ORIGINAL-URL:https://pau.cci.fr
X-WR-CALDESC:Évènements pour CCI Pau Béarn
REFRESH-INTERVAL;VALUE=DURATION:PT1H
X-Robots-Tag:noindex
X-PUBLISHED-TTL:PT1H
BEGIN:VTIMEZONE
TZID:Europe/Paris
BEGIN:DAYLIGHT
TZOFFSETFROM:+0100
TZOFFSETTO:+0200
TZNAME:CEST
DTSTART:20250330T010000
END:DAYLIGHT
BEGIN:STANDARD
TZOFFSETFROM:+0200
TZOFFSETTO:+0100
TZNAME:CET
DTSTART:20251026T010000
END:STANDARD
BEGIN:DAYLIGHT
TZOFFSETFROM:+0100
TZOFFSETTO:+0200
TZNAME:CEST
DTSTART:20260329T010000
END:DAYLIGHT
BEGIN:STANDARD
TZOFFSETFROM:+0200
TZOFFSETTO:+0100
TZNAME:CET
DTSTART:20261025T010000
END:STANDARD
BEGIN:DAYLIGHT
TZOFFSETFROM:+0100
TZOFFSETTO:+0200
TZNAME:CEST
DTSTART:20270328T010000
END:DAYLIGHT
BEGIN:STANDARD
TZOFFSETFROM:+0200
TZOFFSETTO:+0100
TZNAME:CET
DTSTART:20271031T010000
END:STANDARD
END:VTIMEZONE
BEGIN:VEVENT
DTSTART;TZID=Europe/Paris:20260106T090000
DTEND;TZID=Europe/Paris:20260106T110000
DTSTAMP:20260422T105248
CREATED:20251125T084858Z
LAST-MODIFIED:20251126T162250Z
UID:22384-1767690000-1767697200@pau.cci.fr
SUMMARY:Réunion d’information Création-Reprise\, Oloron Sainte-Marie - 6 janvier 2026
DESCRIPTION:Une réunion d’information à la création reprise d’entreprise pour découvrir : \n\nla méthodologie pour passer de l’idée au projet\,\nles étapes de la création/reprise d’entreprise\,\nles outils nécessaires pour construire le projet.\n\n\n\n\n\nSuite à votre participation\, vous pourrez bénéficier d’un entretien individuel avec l’un de nos conseillers et mettre en place un accompagnement personnalisé.
URL:https://pau.cci.fr/evenement/reunion-creation-oloron-260106/
LOCATION:Pépinière d’entreprise\, ZA Lanneretonne\, 13 chemin Ilhasse\, Oloron Sainte-Marie\, 64400\, France
CATEGORIES:RCE
ATTACH;FMTTYPE=image/jpeg:https://pau.cci.fr/wp-content/uploads/2024/12/icon_cci_Information-creation-reprise-dentreprise-15.jpg
END:VEVENT
BEGIN:VEVENT
DTSTART;TZID=Europe/Paris:20260108T090000
DTEND;TZID=Europe/Paris:20260108T110000
DTSTAMP:20260422T105248
CREATED:20251126T155836Z
LAST-MODIFIED:20251126T160020Z
UID:22481-1767862800-1767870000@pau.cci.fr
SUMMARY:Réunion d’information Création-Reprise d'entreprise\, Pau\, 8 janvier 2026
DESCRIPTION:Les Jeudis de la Création\, une réunion d’information à la création reprise d’entreprise pour découvrir : \n\nla méthodologie pour passer de l’idée au projet\,\nles étapes de la création/reprise d’entreprise\,\nles outils nécessaires pour construire le projet.\n\n\n\n\n\nSuite à votre participation\, vous pourrez bénéficier d’un entretien individuel avec l’un de nos conseillers et mettre en place un accompagnement personnalisé. \n 
URL:https://pau.cci.fr/evenement/reunion-creation-pau-260108/
LOCATION:CCI Pau Béarn\, 21 rue Louis Barthou\, PAU\, 64001\, France
CATEGORIES:RCE
ATTACH;FMTTYPE=image/jpeg:https://pau.cci.fr/wp-content/uploads/2025/02/icon_cci_Information-creation-reprise-dentreprise-16.jpg
END:VEVENT
BEGIN:VEVENT
DTSTART;TZID=Europe/Paris:20260112T100000
DTEND;TZID=Europe/Paris:20260112T121500
DTSTAMP:20260422T105248
CREATED:20251201T152845Z
LAST-MODIFIED:20251201T152845Z
UID:23006-1768212000-1768220100@pau.cci.fr
SUMMARY:Permanence juridique - Pau
DESCRIPTION:La CCI Pau Béarn et l’ordre des avocats du barreau de Pau proposent des permanences d’avocats aux entreprises ressortissantes de la CCI Pau Béarn\, déjà enregistrées ou en cours de création. \n\n\nPour demander un RDV\, contactez-nous\n\n\n\n\nNous contacter\n\n\n\n\nCes rendez-vous traiteront des problématiques relatives à l’entreprise (baux commerciaux\, statut juridique…).
URL:https://pau.cci.fr/evenement/permanence-juridique-pau-260112/
LOCATION:CCI Pau Béarn\, 21 rue Louis Barthou\, PAU\, 64001\, France
CATEGORIES:PERM
ATTACH;FMTTYPE=image/png:https://pau.cci.fr/wp-content/uploads/2025/03/Permanence-juridique.png
END:VEVENT
BEGIN:VEVENT
DTSTART;TZID=Europe/Paris:20260114T090000
DTEND;TZID=Europe/Paris:20260114T120000
DTSTAMP:20260422T105248
CREATED:20251205T111247Z
LAST-MODIFIED:20251205T111247Z
UID:23337-1768381200-1768392000@pau.cci.fr
SUMMARY:Permanence expert-comptable - Oloron Sainte-Marie
DESCRIPTION:La CCI Pau Béarn et l’ordre des experts comptables proposent des permanences d’expert-comptable aux entreprises du Haut-Béarn déjà enregistrées ou en cours de création.\n\n\nPour demander un RDV\, contactez-nous\n\n\n\n\nNous contacter\n\n\n\n\nCes rendez-vous traiteront des problématiques relatives à l’entreprise (baux commerciaux\, statut juridique…).
URL:https://pau.cci.fr/evenement/permanence-expert-comptable-oloron-260114/
LOCATION:Centre d’activités économiques Oloron Sainte-Marie\, 6 avenue de la Gare\, Oloron Sainte-Marie\, 64400\, France
CATEGORIES:PERM
ATTACH;FMTTYPE=image/png:https://pau.cci.fr/wp-content/uploads/2025/03/Permanence-expert-comptable.png
END:VEVENT
BEGIN:VEVENT
DTSTART;TZID=Europe/Paris:20260114T100000
DTEND;TZID=Europe/Paris:20260114T121500
DTSTAMP:20260422T105248
CREATED:20251204T152105Z
LAST-MODIFIED:20251204T152105Z
UID:23305-1768384800-1768392900@pau.cci.fr
SUMMARY:Permanence juridique - Oloron Sainte-Marie
DESCRIPTION:La CCI Pau Béarn et l’ordre des avocats du barreau de Pau proposent des permanences d’avocats aux entreprises du Haut-Béarn\, déjà enregistrées ou en cours de création.\nPour demander un RDV\, contactez-nous \n\n\nNous contacter\n\n\n\n\nCes rendez-vous traiteront des problématiques relatives à l’entreprise (baux commerciaux\, statut juridique…).
URL:https://pau.cci.fr/evenement/permanence-juridique-oloron-260114/
LOCATION:visioconférence
CATEGORIES:PERM
ATTACH;FMTTYPE=image/png:https://pau.cci.fr/wp-content/uploads/2025/03/Permanence-juridique.png
END:VEVENT
BEGIN:VEVENT
DTSTART;TZID=Europe/Paris:20260115T090000
DTEND;TZID=Europe/Paris:20260115T110000
DTSTAMP:20260422T105248
CREATED:20251126T161012Z
LAST-MODIFIED:20251126T161053Z
UID:22486-1768467600-1768474800@pau.cci.fr
SUMMARY:Réunion d’information Création-Reprise d'entreprise\, Pau\, 15 janvier 2026
DESCRIPTION:Les Jeudis de la Création\, une réunion d’information à la création reprise d’entreprise pour découvrir : \n\nla méthodologie pour passer de l’idée au projet\,\nles étapes de la création/reprise d’entreprise\,\nles outils nécessaires pour construire le projet.\n\n\n\n\n\nSuite à votre participation\, vous pourrez bénéficier d’un entretien individuel avec l’un de nos conseillers et mettre en place un accompagnement personnalisé. \n 
URL:https://pau.cci.fr/evenement/reunion-creation-pau-260115/
LOCATION:CCI Pau Béarn\, 21 rue Louis Barthou\, PAU\, 64001\, France
CATEGORIES:RCE
ATTACH;FMTTYPE=image/jpeg:https://pau.cci.fr/wp-content/uploads/2025/02/icon_cci_Information-creation-reprise-dentreprise-16.jpg
END:VEVENT
BEGIN:VEVENT
DTSTART;TZID=Europe/Paris:20260119T100000
DTEND;TZID=Europe/Paris:20260119T121500
DTSTAMP:20260422T105248
CREATED:20251201T153044Z
LAST-MODIFIED:20251201T153044Z
UID:23008-1768816800-1768824900@pau.cci.fr
SUMMARY:Permanence juridique - Pau
DESCRIPTION:La CCI Pau Béarn et l’ordre des avocats du barreau de Pau proposent des permanences d’avocats aux entreprises ressortissantes de la CCI Pau Béarn\, déjà enregistrées ou en cours de création. \n\n\nPour demander un RDV\, contactez-nous\n\n\n\n\nNous contacter\n\n\n\n\nCes rendez-vous traiteront des problématiques relatives à l’entreprise (baux commerciaux\, statut juridique…).
URL:https://pau.cci.fr/evenement/permanence-juridique-pau-260119/
LOCATION:CCI Pau Béarn\, 21 rue Louis Barthou\, PAU\, 64001\, France
CATEGORIES:PERM
ATTACH;FMTTYPE=image/png:https://pau.cci.fr/wp-content/uploads/2025/03/Permanence-juridique.png
END:VEVENT
BEGIN:VEVENT
DTSTART;TZID=Europe/Paris:20260122T090000
DTEND;TZID=Europe/Paris:20260122T110000
DTSTAMP:20260422T105248
CREATED:20251126T161553Z
LAST-MODIFIED:20251126T161553Z
UID:22489-1769072400-1769079600@pau.cci.fr
SUMMARY:Réunion d’information Création-Reprise d'entreprise\, Pau\, 22 janvier 2026
DESCRIPTION:Les Jeudis de la Création\, une réunion d’information à la création reprise d’entreprise pour découvrir : \n\nla méthodologie pour passer de l’idée au projet\,\nles étapes de la création/reprise d’entreprise\,\nles outils nécessaires pour construire le projet.\n\n\n\n\n\nSuite à votre participation\, vous pourrez bénéficier d’un entretien individuel avec l’un de nos conseillers et mettre en place un accompagnement personnalisé. \n 
URL:https://pau.cci.fr/evenement/reunion-creation-pau-260122/
LOCATION:CCI Pau Béarn\, 21 rue Louis Barthou\, PAU\, 64001\, France
CATEGORIES:RCE
ATTACH;FMTTYPE=image/jpeg:https://pau.cci.fr/wp-content/uploads/2025/02/icon_cci_Information-creation-reprise-dentreprise-16.jpg
END:VEVENT
BEGIN:VEVENT
DTSTART;TZID=Europe/Paris:20260122T090000
DTEND;TZID=Europe/Paris:20260122T150000
DTSTAMP:20260422T105248
CREATED:20251204T145721Z
LAST-MODIFIED:20251204T145721Z
UID:23298-1769072400-1769094000@pau.cci.fr
SUMMARY:Permanence propriété industrielle : INPI
DESCRIPTION:La CCI Pau Béarn\, l’Institut National de la Propriété Industrielle (INPI) et la Compagnie Nationale des Conseils en Propriété Industrielle (CNCPI) proposent aux entreprises ressortissantes de la CCI et aux créateurs d’entreprise des permanences-conseils sur les questions relatives à la propriété industrielle et intellectuelle : brevet\, marque\, logo…\nLe rendez-vous se déroulera à distance (téléphone ou visio).\n\n\nNous contacter
URL:https://pau.cci.fr/evenement/permanence-propriete-industrielle-inpi-260122/
CATEGORIES:PERM
ATTACH;FMTTYPE=image/png:https://pau.cci.fr/wp-content/uploads/2025/03/Permanence-propriete.png
END:VEVENT
BEGIN:VEVENT
DTSTART;TZID=Europe/Paris:20260126T083000
DTEND;TZID=Europe/Paris:20260126T173000
DTSTAMP:20260422T105248
CREATED:20251203T100933Z
LAST-MODIFIED:20251203T101643Z
UID:23108-1769416200-1769448600@pau.cci.fr
SUMMARY:Atelier - Etude de marché et business model - 26/01/26
DESCRIPTION:Concrétisez votre projet d’entreprise grâce aux Ateliers Pour Entreprendre.\nQue vous soyez créateur ou repreneur\, appréhendez toutes les facettes de votre étude de marché et de votre business model CANVAS.\nProgramme :\n– adéquation homme-projet\n– analyse de la demande\, de la concurrence et de l’environnement socio-économique\n– cibles de clients\, tarif\, offre de produits ou de services\, emplacement\, communication
URL:https://pau.cci.fr/evenement/atelier-etude-de-marche-260126/
LOCATION:CCI Pau Béarn\, 21 rue Louis Barthou\, PAU\, 64001\, France
CATEGORIES:APE
ATTACH;FMTTYPE=image/jpeg:https://pau.cci.fr/wp-content/uploads/2025/02/icon_CCI_PAU__Ateliers-pour-Entreprendre-07-scaled.jpg
END:VEVENT
BEGIN:VEVENT
DTSTART;TZID=Europe/Paris:20260126T084500
DTEND;TZID=Europe/Paris:20260130T170000
DTSTAMP:20260422T105248
CREATED:20251104T141758Z
LAST-MODIFIED:20260108T083718Z
UID:20944-1769417100-1769792400@pau.cci.fr
SUMMARY:Formation Création entreprise : identifier les points-clés pour un projet réussi - janvier 2026
DESCRIPTION:La formation Création entreprise : identifier les points-clés pour un projet réussi\, une formation complète et concrète sur 5 jours\, alliant théorie\, cas pratiques\, et mises en situation… « 5 jours pour entreprendre » !\nVous apprendrez à bâtir un business model solide\, comprendre les aspects juridiques\, maîtriser les marges et affiner votre communication. Aux côtés d’autres porteurs de projets\, vous développerez les compétences essentielles d’un chef d’entreprise. \n\n\n\n\nTéléchargez le PLANNING de la formation | Téléchargez la fiche PROGRAMME de la formation \n\n📍En fonction de votre situation\, une prise en charge financière est possible.\nAvant de réaliser votre inscription\, vérifiez votre Compte Personnel de Formation.  \n  \nPour toute question\, contactez le pôle Création Reprise Transmission de la CCI Pau Béarn grâce à ce formulaire. \nAvec la formation Création entreprise : identifier les points-clés pour un projet réussi – « 5 jours pour entreprendre »\, maîtrisez tous les leviers de la création d’entreprise !
URL:https://pau.cci.fr/evenement/formation-creation-entreprise-janvier2026/
LOCATION:CCI Pau Béarn\, 21 rue Louis Barthou\, PAU\, 64001\, France
CATEGORIES:5JPE
ATTACH;FMTTYPE=image/png:https://pau.cci.fr/wp-content/uploads/2025/02/Creation-formation.png
END:VEVENT
BEGIN:VEVENT
DTSTART;TZID=Europe/Paris:20260126T100000
DTEND;TZID=Europe/Paris:20260126T121500
DTSTAMP:20260422T105248
CREATED:20251204T111735Z
LAST-MODIFIED:20251204T111735Z
UID:23266-1769421600-1769429700@pau.cci.fr
SUMMARY:Permanence juridique - Pau
DESCRIPTION:La CCI Pau Béarn et l’ordre des avocats du barreau de Pau proposent des permanences d’avocats aux entreprises ressortissantes de la CCI Pau Béarn\, déjà enregistrées ou en cours de création. \n\n\nPour demander un RDV\, contactez-nous\n\n\n\n\nNous contacter\n\n\n\n\nCes rendez-vous traiteront des problématiques relatives à l’entreprise (baux commerciaux\, statut juridique…).
URL:https://pau.cci.fr/evenement/permanence-juridique-pau-260126/
LOCATION:CCI Pau Béarn\, 21 rue Louis Barthou\, PAU\, 64001\, France
CATEGORIES:PERM
ATTACH;FMTTYPE=image/png:https://pau.cci.fr/wp-content/uploads/2025/03/Permanence-juridique.png
END:VEVENT
BEGIN:VEVENT
DTSTART;TZID=Europe/Paris:20260127T090000
DTEND;TZID=Europe/Paris:20260127T173000
DTSTAMP:20260422T105248
CREATED:20251203T110003Z
LAST-MODIFIED:20251203T110003Z
UID:23142-1769504400-1769535000@pau.cci.fr
SUMMARY:Atelier - Statuts juridique et social - 27/01/26
DESCRIPTION:Concrétisez votre projet d’entreprise grâce aux Ateliers Pour Entreprendre.\nQue vous soyez créateur ou repreneur\, optez pour la forme juridique la plus adaptée à votre future entreprise.\nProgramme :\n– les statuts juridiques\, les formalités pour s’installer\n– les statuts sociaux et cotisations obligatoires\n– les locaux commerciaux
URL:https://pau.cci.fr/evenement/atelier-statuts-260127/
LOCATION:CCI Pau Béarn\, 21 rue Louis Barthou\, PAU\, 64001\, France
CATEGORIES:APE
ATTACH;FMTTYPE=image/jpeg:https://pau.cci.fr/wp-content/uploads/2025/02/icon_CCI_PAU__Ateliers-pour-Entreprendre-07-scaled.jpg
END:VEVENT
BEGIN:VEVENT
DTSTART;TZID=Europe/Paris:20260128T090000
DTEND;TZID=Europe/Paris:20260128T120000
DTSTAMP:20260422T105248
CREATED:20251205T111506Z
LAST-MODIFIED:20251205T111506Z
UID:23339-1769590800-1769601600@pau.cci.fr
SUMMARY:Permanence expert-comptable - Oloron Sainte-Marie
DESCRIPTION:La CCI Pau Béarn et l’ordre des experts comptables proposent des permanences d’expert-comptable aux entreprises du Haut-Béarn déjà enregistrées ou en cours de création.\n\n\nPour demander un RDV\, contactez-nous\n\n\n\n\nNous contacter\n\n\n\n\nCes rendez-vous traiteront des problématiques relatives à l’entreprise (baux commerciaux\, statut juridique…).
URL:https://pau.cci.fr/evenement/permanence-expert-comptable-oloron-260128/
LOCATION:Centre d’activités économiques Oloron Sainte-Marie\, 6 avenue de la Gare\, Oloron Sainte-Marie\, 64400\, France
CATEGORIES:PERM
ATTACH;FMTTYPE=image/png:https://pau.cci.fr/wp-content/uploads/2025/03/Permanence-expert-comptable.png
END:VEVENT
BEGIN:VEVENT
DTSTART;TZID=Europe/Paris:20260128T090000
DTEND;TZID=Europe/Paris:20260129T123000
DTSTAMP:20260422T105248
CREATED:20251203T152617Z
LAST-MODIFIED:20251203T152657Z
UID:23178-1769590800-1769689800@pau.cci.fr
SUMMARY:Atelier - Comptes prévisionnels\, business plan\, fiscalité\, aides & financements - 28 et 29/01/26
DESCRIPTION:Concrétisez votre projet d’entreprise grâce aux Ateliers Pour Entreprendre.\nQue vous soyez créateur ou repreneur\, apprenez à gérer la fiscalité de votre entreprise.\nProgramme :\n– compte de résultat\, prévisionnel et soldes intermédiaires de gestion\, seuil de rentabilité\n– plan de financement initial et les aides\n– plan de trésorerie – tableaux de bord\n– business plan
URL:https://pau.cci.fr/evenement/atelier-business-plan-260128/
LOCATION:CCI Pau Béarn\, 21 rue Louis Barthou\, PAU\, 64001\, France
CATEGORIES:APE
ATTACH;FMTTYPE=image/jpeg:https://pau.cci.fr/wp-content/uploads/2025/02/icon_CCI_PAU__Ateliers-pour-Entreprendre-07-scaled.jpg
END:VEVENT
BEGIN:VEVENT
DTSTART;TZID=Europe/Paris:20260129T090000
DTEND;TZID=Europe/Paris:20260129T110000
DTSTAMP:20260422T105248
CREATED:20251126T161931Z
LAST-MODIFIED:20251126T161931Z
UID:22492-1769677200-1769684400@pau.cci.fr
SUMMARY:Réunion d’information Création-Reprise d'entreprise\, visio\, 29 janvier 2026
DESCRIPTION:Les Jeudis de la Création\, une réunion d’information à la création reprise d’entreprise pour découvrir : \n\nla méthodologie pour passer de l’idée au projet\,\nles étapes de la création/reprise d’entreprise\,\nles outils nécessaires pour construire le projet.\n\n\n\n\n\nSuite à votre participation\, vous pourrez bénéficier d’un entretien individuel avec l’un de nos conseillers et mettre en place un accompagnement personnalisé. \n 
URL:https://pau.cci.fr/evenement/reunion-creation-visio-260129/
LOCATION:visioconférence
CATEGORIES:RCE
ATTACH;FMTTYPE=image/jpeg:https://pau.cci.fr/wp-content/uploads/2025/02/icon_cci_Information-creation-reprise-dentreprise-16.jpg
END:VEVENT
BEGIN:VEVENT
DTSTART;TZID=Europe/Paris:20260130T110000
DTEND;TZID=Europe/Paris:20260130T123000
DTSTAMP:20260422T105248
CREATED:20251204T140913Z
LAST-MODIFIED:20251204T140913Z
UID:23276-1769770800-1769776200@pau.cci.fr
SUMMARY:Permanence expert-comptable - Pau
DESCRIPTION:La CCI Pau Béarn et l’ordre des experts comptables proposent des permanences d’expert-comptable aux entreprises ressortissantes de la CCI Pau Béarn\, déjà enregistrées ou en cours de création.\n\n\nPour demander un RDV\, contactez-nous\n\n\n\n\nNous contacter\n\n\n\n\nCes rendez-vous traiteront des problématiques relatives à l’entreprise (baux commerciaux\, statut juridique…).
URL:https://pau.cci.fr/evenement/permanence-expert-comptable-pau-260130/
LOCATION:CCI Pau Béarn\, 21 rue Louis Barthou\, PAU\, 64001\, France
CATEGORIES:PERM
ATTACH;FMTTYPE=image/png:https://pau.cci.fr/wp-content/uploads/2025/03/Permanence-expert-comptable.png
END:VEVENT
END:VCALENDAR