BEGIN:VCALENDAR
VERSION:2.0
PRODID:-//CCI Pau Béarn - ECPv6.15.18//NONSGML v1.0//EN
CALSCALE:GREGORIAN
METHOD:PUBLISH
X-WR-CALNAME:CCI Pau Béarn
X-ORIGINAL-URL:https://pau.cci.fr
X-WR-CALDESC:Évènements pour CCI Pau Béarn
REFRESH-INTERVAL;VALUE=DURATION:PT1H
X-Robots-Tag:noindex
X-PUBLISHED-TTL:PT1H
BEGIN:VTIMEZONE
TZID:Europe/Paris
BEGIN:DAYLIGHT
TZOFFSETFROM:+0100
TZOFFSETTO:+0200
TZNAME:CEST
DTSTART:20250330T010000
END:DAYLIGHT
BEGIN:STANDARD
TZOFFSETFROM:+0200
TZOFFSETTO:+0100
TZNAME:CET
DTSTART:20251026T010000
END:STANDARD
BEGIN:DAYLIGHT
TZOFFSETFROM:+0100
TZOFFSETTO:+0200
TZNAME:CEST
DTSTART:20260329T010000
END:DAYLIGHT
BEGIN:STANDARD
TZOFFSETFROM:+0200
TZOFFSETTO:+0100
TZNAME:CET
DTSTART:20261025T010000
END:STANDARD
BEGIN:DAYLIGHT
TZOFFSETFROM:+0100
TZOFFSETTO:+0200
TZNAME:CEST
DTSTART:20270328T010000
END:DAYLIGHT
BEGIN:STANDARD
TZOFFSETFROM:+0200
TZOFFSETTO:+0100
TZNAME:CET
DTSTART:20271031T010000
END:STANDARD
END:VTIMEZONE
BEGIN:VEVENT
DTSTART;TZID=Europe/Paris:20260302T090000
DTEND;TZID=Europe/Paris:20261001T173000
DTSTAMP:20260422T162016
CREATED:20251209T102712Z
LAST-MODIFIED:20251209T104758Z
UID:23487-1772442000-1790875800@pau.cci.fr
SUMMARY:Formation RSE : Devenez pilote de votre démarche !
DESCRIPTION:Intégrez la formation-action « RSE : Devenez pilote de votre démarche » et réalisez un plan d’actions adapté à la maturité RSE et à la stratégie de votre structure !\nUn parcours en quatre phases\n1 | Découvrir la RSE dans sa structure\n2 demi-journées en intra entreprise : entre le 02/03 et le 03/04/2026\, sur RDV \n2 | Mettre en œuvre et piloter son projet RSE\n3 jours en inter-entreprises : Jeudi 23/04/2026\, 9h-17h30 ; Jeudi 21/05/2026\, 9h-17h30 ; Jeudi 18/06/2025\, 9h-17h30 \n3 | Cas pratique : mettre en œuvre son plan d’actions RSE\n½ journée en intra-entreprise : entre le 29/06/2026 et le 18/09/2026\, sur RDV \n4 | Avancement à M+4 – Mobilisation sur la durée\n½ journée en inter-entreprises : Jeudi 01/10/2026\, 14h-17h30 \nAvantages\n\nBénéficier de la richesse d’un collectif uni autour d’une même volonté de rendre son entreprise durable\nÊtre accompagné pour construire sa feuille de route RSE\nAvoir un interlocuteur unique tout au long de la mise en place du plan d’actions\n\nCoût\nUn cursus à 1 890€ HT par stagiaire \nDurée\n5 jours (35h) entre le 02/03/26 et le 01/10/26 \n\nPlus d’infos\n\nContactez-nous
URL:https://pau.cci.fr/evenement/formation-rse-2026/
ATTACH;FMTTYPE=image/jpeg:https://pau.cci.fr/wp-content/uploads/2025/12/RSE-agenda.jpg
END:VEVENT
BEGIN:VEVENT
DTSTART;TZID=Europe/Paris:20260629T084500
DTEND;TZID=Europe/Paris:20260703T170000
DTSTAMP:20260422T162016
CREATED:20251106T101900Z
LAST-MODIFIED:20260108T085048Z
UID:21251-1782722700-1783098000@pau.cci.fr
SUMMARY:Formation Création entreprise : identifier les points-clés pour un projet réussi - juin 2026
DESCRIPTION:La formation Création entreprise : identifier les points-clés pour un projet réussi\, une formation complète et concrète sur 5 jours\, alliant théorie\, cas pratiques\, et mises en situation… « 5 jours pour entreprendre » !\nVous apprendrez à bâtir un business model solide\, comprendre les aspects juridiques\, maîtriser les marges et affiner votre communication. Aux côtés d’autres porteurs de projets\, vous développerez les compétences essentielles d’un chef d’entreprise. \n\n\n\n\nTéléchargez le PLANNING de la formation | Téléchargez la fiche PROGRAMME de la formation \n\n📍En fonction de votre situation\, une prise en charge financière est possible.\nAvant de réaliser votre inscription\, vérifiez votre Compte Personnel de Formation.  \n  \nPour toute question\, contactez le pôle Création Reprise Transmission de la CCI Pau Béarn grâce à ce formulaire. \nAvec la formation Création entreprise : identifier les points-clés pour un projet réussi – « 5 jours pour entreprendre »\, maîtrisez tous les leviers de la création d’entreprise !
URL:https://pau.cci.fr/evenement/formation-creation-entreprise-juin2026/
LOCATION:CCI Pau Béarn\, 21 rue Louis Barthou\, PAU\, 64001\, France
CATEGORIES:5JPE
ATTACH;FMTTYPE=image/png:https://pau.cci.fr/wp-content/uploads/2025/02/Creation-formation.png
END:VEVENT
BEGIN:VEVENT
DTSTART;TZID=Europe/Paris:20260701T090000
DTEND;TZID=Europe/Paris:20260701T120000
DTSTAMP:20260422T162016
CREATED:20250415T081504Z
LAST-MODIFIED:20251209T160843Z
UID:12283-1782896400-1782907200@pau.cci.fr
SUMMARY:Permanence caisse de retraite - Oloron Sainte-Marie
DESCRIPTION:La caisse de retraite CARSAT\, en collaboration avec la CCI Pau Béarn\, propose des permanences aux entreprises du Haut-Béarn\, déjà enregistrées ou en cours de création.\nCes rendez-vous traiteront des problématiques relatives à la retraite. \n\n\nPour demander un RDV\, contactez-nous\n\n\n\n\nNous contacter\n\n\n\n 
URL:https://pau.cci.fr/evenement/permanence-carsat-oloron-260701/
LOCATION:Centre d’activités économiques Oloron Sainte-Marie\, 6 avenue de la Gare\, Oloron Sainte-Marie\, 64400\, France
CATEGORIES:PERM
ATTACH;FMTTYPE=image/png:https://pau.cci.fr/wp-content/uploads/2025/03/permanence-carsat.png
END:VEVENT
BEGIN:VEVENT
DTSTART;TZID=Europe/Paris:20260701T090000
DTEND;TZID=Europe/Paris:20260702T123000
DTSTAMP:20260422T162016
CREATED:20251204T094310Z
LAST-MODIFIED:20251204T094310Z
UID:23206-1782896400-1782995400@pau.cci.fr
SUMMARY:Atelier - Comptes prévisionnels\, business plan\, fiscalité\, aides & financements - 01 et 02/07/26
DESCRIPTION:Concrétisez votre projet d’entreprise grâce aux Ateliers Pour Entreprendre.\nQue vous soyez créateur ou repreneur\, apprenez à gérer la fiscalité de votre entreprise.\nProgramme :\n– compte de résultat\, prévisionnel et soldes intermédiaires de gestion\, seuil de rentabilité\n– plan de financement initial et les aides\n– plan de trésorerie – tableaux de bord\n– business plan
URL:https://pau.cci.fr/evenement/atelier-business-plan-260701/
LOCATION:CCI Pau Béarn\, 21 rue Louis Barthou\, PAU\, 64001\, France
CATEGORIES:APE
ATTACH;FMTTYPE=image/jpeg:https://pau.cci.fr/wp-content/uploads/2025/02/icon_CCI_PAU__Ateliers-pour-Entreprendre-07-scaled.jpg
END:VEVENT
BEGIN:VEVENT
DTSTART;TZID=Europe/Paris:20260702T090000
DTEND;TZID=Europe/Paris:20260702T110000
DTSTAMP:20260422T162016
CREATED:20251201T133239Z
LAST-MODIFIED:20260203T084334Z
UID:22937-1782982800-1782990000@pau.cci.fr
SUMMARY:Réunion d’information Création-Reprise d'entreprise\, Pau\, 2 juillet 2026
DESCRIPTION:Les Jeudis de la Création\, une réunion d’information à la création reprise d’entreprise pour découvrir : \n\nla méthodologie pour passer de l’idée au projet\,\nles étapes de la création/reprise d’entreprise\,\nles outils nécessaires pour construire le projet.\n\n\n\n\n\nSuite à votre participation\, vous pourrez bénéficier d’un entretien individuel avec l’un de nos conseillers et mettre en place un accompagnement personnalisé. \n 
URL:https://pau.cci.fr/evenement/reunion-creation-entreprise-pau-260702/
LOCATION:CCI Pau Béarn\, 21 rue Louis Barthou\, PAU\, 64001\, France
CATEGORIES:RCE
ATTACH;FMTTYPE=image/jpeg:https://pau.cci.fr/wp-content/uploads/2025/02/icon_cci_Information-creation-reprise-dentreprise-16.jpg
END:VEVENT
BEGIN:VEVENT
DTSTART;TZID=Europe/Paris:20260703T110000
DTEND;TZID=Europe/Paris:20260703T123000
DTSTAMP:20260422T162016
CREATED:20251204T143302Z
LAST-MODIFIED:20251204T143302Z
UID:23290-1783076400-1783081800@pau.cci.fr
SUMMARY:Permanence expert-comptable - Pau
DESCRIPTION:La CCI Pau Béarn et l’ordre des experts comptables proposent des permanences d’expert-comptable aux entreprises ressortissantes de la CCI Pau Béarn\, déjà enregistrées ou en cours de création.\n\n\nPour demander un RDV\, contactez-nous\n\n\n\n\nNous contacter\n\n\n\n\nCes rendez-vous traiteront des problématiques relatives à l’entreprise (baux commerciaux\, statut juridique…).
URL:https://pau.cci.fr/evenement/permanence-expert-comptable-pau-260703/
LOCATION:CCI Pau Béarn\, 21 rue Louis Barthou\, PAU\, 64001\, France
CATEGORIES:PERM
ATTACH;FMTTYPE=image/png:https://pau.cci.fr/wp-content/uploads/2025/03/Permanence-expert-comptable.png
END:VEVENT
BEGIN:VEVENT
DTSTART;TZID=Europe/Paris:20260706T100000
DTEND;TZID=Europe/Paris:20260706T121500
DTSTAMP:20260422T162016
CREATED:20250415T075916Z
LAST-MODIFIED:20251210T083428Z
UID:12277-1783332000-1783340100@pau.cci.fr
SUMMARY:Permanence juridique - Pau
DESCRIPTION:La CCI Pau Béarn et l’ordre des avocats du barreau de Pau proposent des permanences d’avocats aux entreprises ressortissantes de la CCI Pau Béarn\, déjà enregistrées ou en cours de création. \n\n\nPour demander un RDV\, contactez-nous\n\n\n\n\nNous contacter\n\n\n\n\nCes rendez-vous traiteront des problématiques relatives à l’entreprise (baux commerciaux\, statut juridique…).
URL:https://pau.cci.fr/evenement/permanence-juridique-pau-260706/
LOCATION:CCI Pau Béarn\, 21 rue Louis Barthou\, PAU\, 64001\, France
CATEGORIES:PERM
ATTACH;FMTTYPE=image/png:https://pau.cci.fr/wp-content/uploads/2025/03/Permanence-juridique.png
END:VEVENT
BEGIN:VEVENT
DTSTART;TZID=Europe/Paris:20260707T090000
DTEND;TZID=Europe/Paris:20260707T110000
DTSTAMP:20260422T162016
CREATED:20251203T085643Z
LAST-MODIFIED:20251203T085643Z
UID:23062-1783414800-1783422000@pau.cci.fr
SUMMARY:Réunion d’information Création-Reprise d'entreprise\, Oloron Sainte-Marie\, 7 juillet 2026
DESCRIPTION:Une réunion d’information à la création reprise d’entreprise pour découvrir : \n\nla méthodologie pour passer de l’idée au projet\,\nles étapes de la création/reprise d’entreprise\,\nles outils nécessaires pour construire le projet.\n\n\n\n\n\nSuite à votre participation\, vous pourrez bénéficier d’un entretien individuel avec l’un de nos conseillers et mettre en place un accompagnement personnalisé.
URL:https://pau.cci.fr/evenement/reunion-creation-oloron-260707/
LOCATION:Pépinière d’entreprise\, ZA Lanneretonne\, 13 chemin Ilhasse\, Oloron Sainte-Marie\, 64400\, France
CATEGORIES:RCE
ATTACH;FMTTYPE=image/jpeg:https://pau.cci.fr/wp-content/uploads/2024/12/icon_cci_Information-creation-reprise-dentreprise-15.jpg
END:VEVENT
BEGIN:VEVENT
DTSTART;TZID=Europe/Paris:20260707T090000
DTEND;TZID=Europe/Paris:20260707T120000
DTSTAMP:20260422T162016
CREATED:20260409T090948Z
LAST-MODIFIED:20260409T102417Z
UID:33715-1783414800-1783425600@pau.cci.fr
SUMMARY:Atelier DUERP : Managez le risque et protégez vos employés !
DESCRIPTION:Atelier collectif de 3 heures\, à la CCI Pau Béarn pour :\n– Découvrir les enjeux de la sécurité pour votre entreprise\,\n– S’approprier les outils permettant d’analyser ses risques\,\n– Commencer à rédiger son Document Unique d’Evaluation des Risques Professionnels\,\n– Être guidé et conseillé dans sa démarche par un professionnel. \n  \nAutres dates :\njeudi 04/06/2026\, de 9h à 12h\njeudi 17/09/2026\, de 9h à 12h \n  \n\n\n>> Vous préférez un accompagnement sur-mesure ?\n\n\n\n\nContactez-nous et nous élaborerons avec vous\, dans votre entreprise\, votre plan d’action.\n+ d’infos sur l’accompagnement individuel
URL:https://pau.cci.fr/evenement/atelier-duerp-260707/
LOCATION:CCI Pau Béarn\, 21 rue Louis Barthou\, PAU\, 64001\, France
ORGANIZER;CN="CCI Pau B%C3%A9arn - Sabine Giron":MAILTO:s-giron@pau.cci.fr
END:VEVENT
BEGIN:VEVENT
DTSTART;TZID=Europe/Paris:20260709T090000
DTEND;TZID=Europe/Paris:20260709T110000
DTSTAMP:20260422T162016
CREATED:20251201T133629Z
LAST-MODIFIED:20260203T084524Z
UID:22940-1783587600-1783594800@pau.cci.fr
SUMMARY:Réunion d’information Création-Reprise d'entreprise\, Pau\, 9 juillet 2026
DESCRIPTION:Les Jeudis de la Création\, une réunion d’information à la création reprise d’entreprise pour découvrir : \n\nla méthodologie pour passer de l’idée au projet\,\nles étapes de la création/reprise d’entreprise\,\nles outils nécessaires pour construire le projet.\n\n\n\n\n\nSuite à votre participation\, vous pourrez bénéficier d’un entretien individuel avec l’un de nos conseillers et mettre en place un accompagnement personnalisé. \n 
URL:https://pau.cci.fr/evenement/reunion-creation-entreprise-pau-260709/
LOCATION:CCI Pau Béarn\, 21 rue Louis Barthou\, PAU\, 64001\, France
CATEGORIES:RCE
ATTACH;FMTTYPE=image/jpeg:https://pau.cci.fr/wp-content/uploads/2025/02/icon_cci_Information-creation-reprise-dentreprise-16.jpg
END:VEVENT
BEGIN:VEVENT
DTSTART;TZID=Europe/Paris:20260709T140000
DTEND;TZID=Europe/Paris:20260709T170000
DTSTAMP:20260422T162016
CREATED:20251203T094810Z
LAST-MODIFIED:20251203T094810Z
UID:23092-1783605600-1783616400@pau.cci.fr
SUMMARY:Atelier : Créer sa micro entreprise - 09/07/26
DESCRIPTION:Vous envisagez de créer une micro entreprise\, vous souhaitez savoir comment fonctionne le statut de la micro-entreprise\, vous souhaitez lancer votre activité sereinement en maitrisant tous les avantages et les inconvénients de ce statut\, vous voulez être informé sur vos obligations fiscales et comptables.\nNous vous proposons cet atelier spécifique pour : \n\nbien comprendre ce statut (atouts et contraintes)\nacquérir toutes les connaissances juridiques\, sociales et fiscales de ce statut\navoir des informations sur la protection sociale des indépendants\nconnaitre ou réaliser la démarche pour l’immatriculation sur le guichet unique de l’INPI\nbénéficier des livrables concernant le statut mais aussi ceux pour développer votre activité
URL:https://pau.cci.fr/evenement/atelier-microentreprise-260709/
LOCATION:CCI Pau Béarn\, 21 rue Louis Barthou\, PAU\, 64001\, France
CATEGORIES:AME
ATTACH;FMTTYPE=image/jpeg:https://pau.cci.fr/wp-content/uploads/2025/02/iconcci_V2_creer-sa-micro-entreprise-scaled.jpg
END:VEVENT
BEGIN:VEVENT
DTSTART;TZID=Europe/Paris:20260713T100000
DTEND;TZID=Europe/Paris:20260713T121500
DTSTAMP:20260422T162016
CREATED:20250715T133724Z
LAST-MODIFIED:20251210T085731Z
UID:15747-1783936800-1783944900@pau.cci.fr
SUMMARY:Permanence juridique - Pau
DESCRIPTION:La CCI Pau Béarn et l’ordre des avocats du barreau de Pau proposent des permanences d’avocats aux entreprises ressortissantes de la CCI Pau Béarn\, déjà enregistrées ou en cours de création. \n\n\nPour demander un RDV\, contactez-nous\n\n\n\n\nNous contacter\n\n\n\n\nCes rendez-vous traiteront des problématiques relatives à l’entreprise (baux commerciaux\, statut juridique…).
URL:https://pau.cci.fr/evenement/permanence-juridique-pau-260713/
LOCATION:CCI Pau Béarn\, 21 rue Louis Barthou\, PAU\, 64001\, France
CATEGORIES:PERM
ATTACH;FMTTYPE=image/png:https://pau.cci.fr/wp-content/uploads/2025/03/Permanence-juridique.png
END:VEVENT
BEGIN:VEVENT
DTSTART;TZID=Europe/Paris:20260715T090000
DTEND;TZID=Europe/Paris:20260715T120000
DTSTAMP:20260422T162016
CREATED:20250415T080451Z
LAST-MODIFIED:20251209T162008Z
UID:12279-1784106000-1784116800@pau.cci.fr
SUMMARY:Permanence expert-comptable - Oloron Sainte-Marie
DESCRIPTION:La CCI Pau Béarn et l’ordre des experts comptables proposent des permanences d’expert-comptable aux entreprises du Haut-Béarn\, déjà enregistrées ou en cours de création.\n\n\nPour demander un RDV\, contactez-nous\n\n\n\n\nNous contacter\n\n\n\n\nCes rendez-vous traiteront des problématiques relatives à l’entreprise (baux commerciaux\, statut juridique…).
URL:https://pau.cci.fr/evenement/permanence-ec-oloron-260715/
LOCATION:Centre d’activités économiques Oloron Sainte-Marie\, 6 avenue de la Gare\, Oloron Sainte-Marie\, 64400\, France
CATEGORIES:PERM
ATTACH;FMTTYPE=image/png:https://pau.cci.fr/wp-content/uploads/2025/03/Permanence-expert-comptable.png
END:VEVENT
BEGIN:VEVENT
DTSTART;TZID=Europe/Paris:20260716T090000
DTEND;TZID=Europe/Paris:20260716T110000
DTSTAMP:20260422T162016
CREATED:20251201T134651Z
LAST-MODIFIED:20260203T084751Z
UID:22943-1784192400-1784199600@pau.cci.fr
SUMMARY:Réunion d’information Création-Reprise d'entreprise\, Pau\, 16 juillet 2026
DESCRIPTION:Les Jeudis de la Création\, une réunion d’information à la création reprise d’entreprise pour découvrir : \n\nla méthodologie pour passer de l’idée au projet\,\nles étapes de la création/reprise d’entreprise\,\nles outils nécessaires pour construire le projet.\n\n\n\n\n\nSuite à votre participation\, vous pourrez bénéficier d’un entretien individuel avec l’un de nos conseillers et mettre en place un accompagnement personnalisé. \n 
URL:https://pau.cci.fr/evenement/reunion-creation-entreprise-pau-260716/
LOCATION:CCI Pau Béarn\, 21 rue Louis Barthou\, PAU\, 64001\, France
CATEGORIES:RCE
ATTACH;FMTTYPE=image/jpeg:https://pau.cci.fr/wp-content/uploads/2025/02/icon_cci_Information-creation-reprise-dentreprise-16.jpg
END:VEVENT
BEGIN:VEVENT
DTSTART;TZID=Europe/Paris:20260723T090000
DTEND;TZID=Europe/Paris:20260723T110000
DTSTAMP:20260422T162016
CREATED:20251201T134924Z
LAST-MODIFIED:20260203T084913Z
UID:22946-1784797200-1784804400@pau.cci.fr
SUMMARY:Réunion d’information Création-Reprise d'entreprise\, Pau\, 23 juillet 2026
DESCRIPTION:Les Jeudis de la Création\, une réunion d’information à la création reprise d’entreprise pour découvrir : \n\nla méthodologie pour passer de l’idée au projet\,\nles étapes de la création/reprise d’entreprise\,\nles outils nécessaires pour construire le projet.\n\n\n\n\n\nSuite à votre participation\, vous pourrez bénéficier d’un entretien individuel avec l’un de nos conseillers et mettre en place un accompagnement personnalisé. \n 
URL:https://pau.cci.fr/evenement/reunion-creation-entreprise-pau-260723/
LOCATION:CCI Pau Béarn\, 21 rue Louis Barthou\, PAU\, 64001\, France
CATEGORIES:RCE
ATTACH;FMTTYPE=image/jpeg:https://pau.cci.fr/wp-content/uploads/2025/02/icon_cci_Information-creation-reprise-dentreprise-16.jpg
END:VEVENT
BEGIN:VEVENT
DTSTART;TZID=Europe/Paris:20260729T090000
DTEND;TZID=Europe/Paris:20260729T120000
DTSTAMP:20260422T162016
CREATED:20250415T080552Z
LAST-MODIFIED:20251209T162139Z
UID:12281-1785315600-1785326400@pau.cci.fr
SUMMARY:Permanence expert-comptable - Oloron Sainte-Marie
DESCRIPTION:La CCI Pau Béarn et l’ordre des experts comptables proposent des permanences d’expert-comptable aux entreprises du Haut-Béarn\, déjà enregistrées ou en cours de création.\n\n\nPour demander un RDV\, contactez-nous\n\n\n\n\nNous contacter\n\n\n\n\nCes rendez-vous traiteront des problématiques relatives à l’entreprise (baux commerciaux\, statut juridique…).
URL:https://pau.cci.fr/evenement/permanence-ec-oloron-260729/
LOCATION:Centre d’activités économiques Oloron Sainte-Marie\, 6 avenue de la Gare\, Oloron Sainte-Marie\, 64400\, France
CATEGORIES:PERM
ATTACH;FMTTYPE=image/png:https://pau.cci.fr/wp-content/uploads/2025/03/Permanence-expert-comptable.png
END:VEVENT
BEGIN:VEVENT
DTSTART;TZID=Europe/Paris:20260730T090000
DTEND;TZID=Europe/Paris:20260730T110000
DTSTAMP:20260422T162016
CREATED:20251201T092414Z
LAST-MODIFIED:20260203T085049Z
UID:22927-1785402000-1785409200@pau.cci.fr
SUMMARY:Réunion d’information Création-Reprise d'entreprise\, visio\, 30 juillet 2026
DESCRIPTION:Les Jeudis de la Création\, une réunion d’information à la création reprise d’entreprise pour découvrir : \n\nla méthodologie pour passer de l’idée au projet\,\nles étapes de la création/reprise d’entreprise\,\nles outils nécessaires pour construire le projet.\n\n\n\n\n\nSuite à votre participation\, vous pourrez bénéficier d’un entretien individuel avec l’un de nos conseillers et mettre en place un accompagnement personnalisé. \n 
URL:https://pau.cci.fr/evenement/reunion-creation-entreprise-visio-260730/
LOCATION:visioconférence
CATEGORIES:RCE
ATTACH;FMTTYPE=image/jpeg:https://pau.cci.fr/wp-content/uploads/2025/02/icon_cci_Information-creation-reprise-dentreprise-16.jpg
END:VEVENT
END:VCALENDAR