BEGIN:VCALENDAR
VERSION:2.0
PRODID:-//CCI Pau Béarn - ECPv6.15.18//NONSGML v1.0//EN
CALSCALE:GREGORIAN
METHOD:PUBLISH
X-ORIGINAL-URL:https://pau.cci.fr
X-WR-CALDESC:Évènements pour CCI Pau Béarn
REFRESH-INTERVAL;VALUE=DURATION:PT1H
X-Robots-Tag:noindex
X-PUBLISHED-TTL:PT1H
BEGIN:VTIMEZONE
TZID:Europe/Paris
BEGIN:DAYLIGHT
TZOFFSETFROM:+0100
TZOFFSETTO:+0200
TZNAME:CEST
DTSTART:20250330T010000
END:DAYLIGHT
BEGIN:STANDARD
TZOFFSETFROM:+0200
TZOFFSETTO:+0100
TZNAME:CET
DTSTART:20251026T010000
END:STANDARD
BEGIN:DAYLIGHT
TZOFFSETFROM:+0100
TZOFFSETTO:+0200
TZNAME:CEST
DTSTART:20260329T010000
END:DAYLIGHT
BEGIN:STANDARD
TZOFFSETFROM:+0200
TZOFFSETTO:+0100
TZNAME:CET
DTSTART:20261025T010000
END:STANDARD
BEGIN:DAYLIGHT
TZOFFSETFROM:+0100
TZOFFSETTO:+0200
TZNAME:CEST
DTSTART:20270328T010000
END:DAYLIGHT
BEGIN:STANDARD
TZOFFSETFROM:+0200
TZOFFSETTO:+0100
TZNAME:CET
DTSTART:20271031T010000
END:STANDARD
END:VTIMEZONE
BEGIN:VEVENT
DTSTART;TZID=Europe/Paris:20260302T090000
DTEND;TZID=Europe/Paris:20261001T173000
DTSTAMP:20260420T043853
CREATED:20251209T102712Z
LAST-MODIFIED:20251209T104758Z
UID:23487-1772442000-1790875800@pau.cci.fr
SUMMARY:Formation RSE : Devenez pilote de votre démarche !
DESCRIPTION:Intégrez la formation-action « RSE : Devenez pilote de votre démarche » et réalisez un plan d’actions adapté à la maturité RSE et à la stratégie de votre structure !\nUn parcours en quatre phases\n1 | Découvrir la RSE dans sa structure\n2 demi-journées en intra entreprise : entre le 02/03 et le 03/04/2026\, sur RDV \n2 | Mettre en œuvre et piloter son projet RSE\n3 jours en inter-entreprises : Jeudi 23/04/2026\, 9h-17h30 ; Jeudi 21/05/2026\, 9h-17h30 ; Jeudi 18/06/2025\, 9h-17h30 \n3 | Cas pratique : mettre en œuvre son plan d’actions RSE\n½ journée en intra-entreprise : entre le 29/06/2026 et le 18/09/2026\, sur RDV \n4 | Avancement à M+4 – Mobilisation sur la durée\n½ journée en inter-entreprises : Jeudi 01/10/2026\, 14h-17h30 \nAvantages\n\nBénéficier de la richesse d’un collectif uni autour d’une même volonté de rendre son entreprise durable\nÊtre accompagné pour construire sa feuille de route RSE\nAvoir un interlocuteur unique tout au long de la mise en place du plan d’actions\n\nCoût\nUn cursus à 1 890€ HT par stagiaire \nDurée\n5 jours (35h) entre le 02/03/26 et le 01/10/26 \n\nPlus d’infos\n\nContactez-nous
URL:https://pau.cci.fr/evenement/formation-rse-2026/
ATTACH;FMTTYPE=image/jpeg:https://pau.cci.fr/wp-content/uploads/2025/12/RSE-agenda.jpg
END:VEVENT
BEGIN:VEVENT
DTSTART;TZID=Europe/Paris:20260420T100000
DTEND;TZID=Europe/Paris:20260420T121500
DTSTAMP:20260420T043853
CREATED:20251205T145024Z
LAST-MODIFIED:20251205T145024Z
UID:23363-1776679200-1776687300@pau.cci.fr
SUMMARY:Permanence juridique - Pau
DESCRIPTION:La CCI Pau Béarn et l’ordre des avocats du barreau de Pau proposent des permanences d’avocats aux entreprises ressortissantes de la CCI Pau Béarn\, déjà enregistrées ou en cours de création. \n\n\nPour demander un RDV\, contactez-nous\n\n\n\n\nNous contacter\n\n\n\n\nCes rendez-vous traiteront des problématiques relatives à l’entreprise (baux commerciaux\, statut juridique…).
URL:https://pau.cci.fr/evenement/permanence-juridique-pau-260420/
LOCATION:CCI Pau Béarn\, 21 rue Louis Barthou\, PAU\, 64001\, France
CATEGORIES:PERM
ATTACH;FMTTYPE=image/png:https://pau.cci.fr/wp-content/uploads/2025/03/Permanence-juridique.png
END:VEVENT
BEGIN:VEVENT
DTSTART;TZID=Europe/Paris:20260423T090000
DTEND;TZID=Europe/Paris:20260423T110000
DTSTAMP:20260420T043853
CREATED:20251128T101539Z
LAST-MODIFIED:20260202T135208Z
UID:22679-1776934800-1776942000@pau.cci.fr
SUMMARY:Réunion d’information Création-Reprise d'entreprise\, visio\, 23 avril 2026
DESCRIPTION:Les Jeudis de la Création\, une réunion d’information à la création reprise d’entreprise pour découvrir : \n\nla méthodologie pour passer de l’idée au projet\,\nles étapes de la création/reprise d’entreprise\,\nles outils nécessaires pour construire le projet.\n\n\n\n\n\nSuite à votre participation\, vous pourrez bénéficier d’un entretien individuel avec l’un de nos conseillers et mettre en place un accompagnement personnalisé. \n 
URL:https://pau.cci.fr/evenement/reunion-creation-dentreprise-visio-260423/
LOCATION:visioconférence
CATEGORIES:RCE
ATTACH;FMTTYPE=image/jpeg:https://pau.cci.fr/wp-content/uploads/2025/02/icon_cci_Information-creation-reprise-dentreprise-16.jpg
END:VEVENT
BEGIN:VEVENT
DTSTART;TZID=Europe/Paris:20260423T140000
DTEND;TZID=Europe/Paris:20260423T170000
DTSTAMP:20260420T043853
CREATED:20251203T093841Z
LAST-MODIFIED:20251203T093841Z
UID:23084-1776952800-1776963600@pau.cci.fr
SUMMARY:Atelier : Créer sa micro entreprise - 23/04/26
DESCRIPTION:Vous envisagez de créer une micro entreprise\, vous souhaitez savoir comment fonctionne le statut de la micro-entreprise\, vous souhaitez lancer votre activité sereinement en maitrisant tous les avantages et les inconvénients de ce statut\, vous voulez être informé sur vos obligations fiscales et comptables.\nNous vous proposons cet atelier spécifique pour : \n\nbien comprendre ce statut (atouts et contraintes)\nacquérir toutes les connaissances juridiques\, sociales et fiscales de ce statut\navoir des informations sur la protection sociale des indépendants\nconnaitre ou réaliser la démarche pour l’immatriculation sur le guichet unique de l’INPI\nbénéficier des livrables concernant le statut mais aussi ceux pour développer votre activité
URL:https://pau.cci.fr/evenement/atelier-microentreprise-260423/
LOCATION:CCI Pau Béarn\, 21 rue Louis Barthou\, PAU\, 64001\, France
CATEGORIES:AME
ATTACH;FMTTYPE=image/jpeg:https://pau.cci.fr/wp-content/uploads/2025/02/iconcci_V2_creer-sa-micro-entreprise-scaled.jpg
END:VEVENT
BEGIN:VEVENT
DTSTART;TZID=Europe/Paris:20260427T100000
DTEND;TZID=Europe/Paris:20260427T121500
DTSTAMP:20260420T043853
CREATED:20251205T152404Z
LAST-MODIFIED:20251205T152404Z
UID:23365-1777284000-1777292100@pau.cci.fr
SUMMARY:Permanence juridique - Pau
DESCRIPTION:La CCI Pau Béarn et l’ordre des avocats du barreau de Pau proposent des permanences d’avocats aux entreprises ressortissantes de la CCI Pau Béarn\, déjà enregistrées ou en cours de création. \n\n\nPour demander un RDV\, contactez-nous\n\n\n\n\nNous contacter\n\n\n\n\nCes rendez-vous traiteront des problématiques relatives à l’entreprise (baux commerciaux\, statut juridique…).
URL:https://pau.cci.fr/evenement/permanence-juridique-pau-260427/
LOCATION:CCI Pau Béarn\, 21 rue Louis Barthou\, PAU\, 64001\, France
CATEGORIES:PERM
ATTACH;FMTTYPE=image/png:https://pau.cci.fr/wp-content/uploads/2025/03/Permanence-juridique.png
END:VEVENT
BEGIN:VEVENT
DTSTART;TZID=Europe/Paris:20260428T133000
DTEND;TZID=Europe/Paris:20260428T173000
DTSTAMP:20260420T043853
CREATED:20260323T142101Z
LAST-MODIFIED:20260323T144109Z
UID:32363-1777383000-1777397400@pau.cci.fr
SUMMARY:Entreprendre en Béarn
DESCRIPTION:Une idée vous trotte dans la tête ? Votre projet de création d’entreprise est quasiment bouclé\, mais il manque un petit quelque chose ? Reprendre une entreprise\, vous tente ?\nLe 28 avril prochain\, venez rencontrer la quarantaine de spécialistes présents au salon Entreprendre en Béarn !\nDe 13h30 à 17h30\, à la CCI Pau Béarn\, experts juridiques\, comptables\, fiscaux\, banquiers\, organismes de financement et d’accompagnement\, accueilleront les porteurs de projets et les futurs chefs d’entreprise pour répondre à toutes les questions liées à la création et à la reprise d’entreprise. \n  \n📍Gratuit\, sur inscription 👇 \n  \nEntreprendre en Béarn\, le salon de la création & reprise d’entreprise\, est organisé dans le cadre de la Quinzaine de la création d’entreprise en Nouvelle-Aquitaine par la Chambre de Commerce et d’Industrie Pau Béarn et la Chambre de Métiers et de l’Artisanat des Pyrénées-Atlantiques\, en partenariat avec la Région Nouvelle-Aquitaine.
URL:https://pau.cci.fr/evenement/entreprendre-en-bearn/
LOCATION:CCI Pau Béarn\, 21 rue Louis Barthou\, PAU\, 64001\, France
ATTACH;FMTTYPE=image/jpeg:https://pau.cci.fr/wp-content/uploads/2026/03/entreprendre-en-bearn_1200x470_aveclogos.jpg
END:VEVENT
BEGIN:VEVENT
DTSTART;TZID=Europe/Paris:20260429T090000
DTEND;TZID=Europe/Paris:20260429T120000
DTSTAMP:20260420T043853
CREATED:20250312T161823Z
LAST-MODIFIED:20251205T141433Z
UID:10104-1777453200-1777464000@pau.cci.fr
SUMMARY:Permanence expert-comptable - Oloron Sainte-Marie
DESCRIPTION:La CCI Pau Béarn et l’ordre des experts comptables proposent des permanences d’expert-comptable aux entreprises du Haut-Béarn déjà enregistrées ou en cours de création.\n\n\nPour demander un RDV\, contactez-nous\n\n\n\n\nNous contacter\n\n\n\n\nCes rendez-vous traiteront des problématiques relatives à l’entreprise (baux commerciaux\, statut juridique…).
URL:https://pau.cci.fr/evenement/permanence-ec-oloron-260429/
LOCATION:Centre d’activités économiques Oloron Sainte-Marie\, 6 avenue de la Gare\, Oloron Sainte-Marie\, 64400\, France
CATEGORIES:PERM
ATTACH;FMTTYPE=image/png:https://pau.cci.fr/wp-content/uploads/2025/03/Permanence-expert-comptable.png
END:VEVENT
BEGIN:VEVENT
DTSTART;TZID=Europe/Paris:20260430T133000
DTEND;TZID=Europe/Paris:20260430T173000
DTSTAMP:20260420T043853
CREATED:20260224T102626Z
LAST-MODIFIED:20260302T111114Z
UID:30378-1777555800-1777570200@pau.cci.fr
SUMMARY:Révisions des normes ISO 9001 et ISO 14001
DESCRIPTION:La CCI Pau Béarn et l’AFNOR de Nouvelle-Aquitaine vous invitent à un atelier dédié aux normes ISO 9001 et ISO 14001 pour anticiper leurs mises en œuvre au sein de votre organisation et préparer sereinement la transition :\nJeudi 30 avril 2026 | 13h30 – 17h30 | CCI Pau Béarn.\n\nAU PROGRAMME :\n• Grandes tendances des futures normes\n• Clarifications\n• Solutions d’accompagnement \n  \nLIEN D’INSCRIPTION \n  \nSUJETS CLES :\n> ISO 9001 : adaptez votre système de management de la qualité aux nouvelles exigences\, identifiez les clarifications majeures de la future version et préparez sereinement votre audit et la transition.\n> ISO 14001 : intégrez les enjeux environnementaux actuels (eau\, biodiversité\, climat\, énergie)\, anticipez risques et opportunités\, appréhendez les synergies de votre système de management environnemental avec les normes ISO 50001 (énergie) et ISO 46001 (eau). \n  \nProfitez de cette occasion pour anticiper les évolutions et renforcer la performance qualité et environnementale de votre organisation.
URL:https://pau.cci.fr/evenement/normes-iso/
LOCATION:CCI Pau Béarn\, 21 rue Louis Barthou\, PAU\, 64001\, France
ATTACH;FMTTYPE=image/jpeg:https://pau.cci.fr/wp-content/uploads/2026/02/afnor-agenda.jpg
END:VEVENT
END:VCALENDAR